Workbook

Sheet Verze
A1: PŘÍLOHA 12: ALTERNATIVNÍ HODNOCENÍ RIZIK U PRIMÁRNÍCH AKTIV - MINISTERSTVO PRO CERTIFIKACI SENZORŮ
A2: CITLIVÉ TLP:AMBER
A3: Datum | B3: Verze | C3: Změneno | D3: Provedená změna
A4: 46055 | B4: 1.0 | C4: Manažer KB | D4: Vytvoření dokumentu
A5: 46085 | B5: 1.0 | C5: Výbor pro řízení KB | D5: Schválení dokumentu

Sheet Tabulky
C1: Dostupnost | O1: Ztráta | X1: Důvěrnost | AA1: Integrita
A2: Výsledná hodnota | C2: Dostupnost | D2: Provozní doba pod SLA | E2: Přípustná doba kumulovaných výpadků s měsíčním vyhodnocováním | F2: Nedostupnost 15 min | G2: Nedostupnost 1h | H2: Nedostupnost 4 h | I2: Nedostupnost 8 h | J2: Nedostupnost 1den | K2: Nedostupnost 2 dny | L2: Nedostupnost 1 týden | M2: Nedostupnost 14 dní | N2: Nedostupnost měsíc a více | O2: Ztráta dat od zálohy (15 min) | P2: Ztráta dat od zálohy (1 h) | Q2: Ztráta dat od zálohy (4 h) | R2: Ztráta dat od zálohy (8 h) | S2: Ztráta dat od zálohy (1 den) | T2: Ztráta dat od zálohy (2 dny) | U2: Ztráta dat od zálohy (1 týden) | V2: Ztráta dat od zálohy (14 dní) | W2: Úplná ztráta dat | X2: Prozrazení v rámci organizace | Y2: Prozrazení smluvním partnerům | Z2: Prozrazení vně organizaci | AA2: Modifikace dat malého rozsahu | AB2: Modifikace dat velkého rozsahu
A3: 0 | B3: Nerelevantní
A4: 1 | B4: nízká | C4: 0.9616 | D4: Provozní doba pod SLA: minimálně určených 10 hodin v pracovní dny. Nezapočítávají se dny pracovního volna a dny pracovního klidu stanovené pro ČR. Např. r. 2018 má 250 pracovních dní, na bázi 10 hod. pod SLA denně, což dává max. měsíční výpadek 8,3 hod. při dostupnosti 96 % (vztaženo na dobu pod SLA). | E4: Max. 8 hod., avšak pouze v rámci definované pracovní doby | F4: 1 | G4: 1 | H4: 1 | I4: 1 | J4: 1 | K4: 1 | L4: 2 | M4: 2 | N4: 2 | O4: nejvyšší hodnota | X4: nejvyšší hodnota | AA4: nejvyšší hodnota
A5: 2 | B5: střední | C5: 0.9945 | D5: Provozní doba pod SLA: 24x7 (připravenost pro služby související s úplným el. podáním). Avšak určité služby, u nichž to lze předpokládat vzhledem k provozním aspektům, lze nabízet s omezením Provozní doby pod SLA na pracovní dny a vymezenou pracovní dobu. To znamená, že el. podání bude obvykle fungovat nepřetržitě, ale reakce poskytovatele na nahlášené incidenty je omezena. | E5: Max. 4 hod. na bázi 24x7 | F5: 1 | G5: 1 | H5: 1 | I5: 2 | J5: 2 | K5: 3 | L5: 3 | M5: 3 | N5: 3
A6: 3 | B6: vysoká | C6: 0.999 | D6: Provozní doba pod SLA: 24x7 (připravenost pro služby úplného el. podání). Určité služby, u nichž to lze předpokládat vzhledem k provozním aspektům, lze nabízet s omezením Provozní doby pod SLA na pracovní dny a vymezenou pracovní dobu. | E6: Max. 43 min. na bázi 24x7 | F6: 1 | G6: 1 | H6: 3 | I6: 3 | J6: 3 | K6: 3 | L6: 4 | M6: 4 | N6: 4
A7: 4 | B7: kritická | C7: 0.9999 | D7: Plně fault-tolerantní systém s geo-redundancí a replikací transakčních dat. Smluvní penále při výpadku dostupnosti služby delší než celkem 52 minut za rok (odpovídá 99,99 %). Služby v této úrovni dopadu budou mít smluvně dané max. doby RPO/RTO. | E7: Jednotlivý výpadek max. 15 min. Max. kumulovaný roční výpadek 52 min. (odpovídá 99,99 %) | F7: 1-2 | G7: 3-4
C9: PRAVDĚPODOBNOST REALIZACE SCÉNÁŘE
C10: 1 | D10: nízká | E10: Jsou zavedena bezpečnostní opatření, která jsou schopna včas detekovat možné zranitelnosti nebo případné pokusy o jejich zneužití a využití zranitelností hrozbou neexistuje nebo je málo pravděpodobné a není častější než jednou za 5 let.
C11: 2 | D11: střední | E11: Jsou zavedena bezpečnostní opatření, jejichž účinnost je pravidelně kontrolována. Schopnost bezpečnostních opatření včas detekovat možné zranitelnosti nebo případné pokusy o překonání opatření je omezena a zneužití zranitelností hrozbou je málo pravděpodobné až pravděpodobné a v rozpětí od 1 roku do 5 let.
C12: 3 | D12: vysoká | E12: Bezpečnostní opatření jsou zavedena, ale jejich účinnost nepokrývá všechny potřebné aspekty a není pravidelně kontrolována. Zneužití zranitelností hrozbou je pravděpodobné až velmi pravděpodobné a v rozpětí od 1 měsíce do 1 roku.
C13: 4 | D13: kritická | E13: Bezpečnostní opatření nejsou realizována nebo je jejich účinnost značně omezena. Zneužití zranitelností hrozbou je velmi pravděpodobné až víceméně jisté a častější než jednou za měsíc.
C15: STUPNICE PRO HODNOCENÍ RIZIK
C16: 1-4 | D16: nízká | E16: Riziko je považováno za přijatelné – akceptovatelné.
C17: 5-8 | D17: střední | E17: Riziko může být sníženo méně náročnými opatřeními nebo v případě vyšší náročnosti opatření je riziko akceptovatelné.
C18: 9-12 | D18: vysoká | E18: Riziko je dlouhodobě nepřípustné a musí být zahájeny systematické kroky k jeho odstranění.
C19: 13-16 | D19: kritická | E19: Riziko je nepřípustné a musí být neprodleně zahájeny kroky k jeho odstranění.

Sheet Matice dopadu
B1: Úroveň | D1: Ochrana osobních údajů - dopady na subjekty údajů (písmeno a) Tab. 4 vyhlášky) | E1: Ochrana osobních údajů - finanční újma subjektů údajů (písmeno a) Tab. 4 vyhlášky) | F1: Obchodní tajemství (písmeno a) Tab. 4 vyhlášky) | G1: Zákonné a smluvní povinnosti (písmeno b) Tab. 4 vyhlášky) | H1: Narušení vnitřních řídících a kontrolních činností (písmeno c) Tab. 4 vyhlášky) | I1: Veřejný pořádek (písmeno d) Tab. 4 vyhlášky) | J1: Finanční ztráty (písmeno d) Tab. 4 vyhlášky) | K1: Zajišťování nezbytných nebo základních služeb (písmeno e) Tab. 4 vyhlášky) | L1: Narušení běžných činností (písmeno f) Tab. 4 vyhlášky) | M1: Ztráta důvěryhodnosti (písmeno g) Tab. 4 vyhlášky) | N1: Bezpečnost a zdraví osob (písmeno h) Tab. 4 vyhlášky) | O1: Mezinárodní vztahy (písmeno i) Tab. 4 vyhlášky) | P1: Dopady na uživatele regulované služby (písmeno j) Tab. 4 vyhlášky) | Q1: Trestně-právní řízení (nad rámec vyhlášky)
B2: 1 | C2: nízká | D2: Může vést k nepohodlí subjektu osobních údajů (podrážděnost, krátkodobé časové nároky pro opětovné zadávání údajů, nutnost další komunikace s organizací). | E2: žádné vodítko | F2: žádné vodítko | G2: žádné vodítko | H2: žádné vodítko | I2: žádné vodítko | J2: Může přímo nebo nepřímo vést ke ztrátám menším než 0,05 % ročního rozpočtu, popř. obratu organizace (v závislosti na typu organizace). | K2: Může způsobt drobné komplikace pro malé množství osob. | L2: K narušení běžných činností nedochází, nanejvýše ke zvýšeným časovým nárokům při provádění běžných činností. | M2: Může negativně ovlivnit vztahy s jinými částmi organizace, jinými organizacemi nebo vztahy s veřejností, negativní publicita bude ale omezena na bezprostřední okolí a nebude mít dlouhé trvání. Např. pro osobní údaje - nepříjemnosti s klienty, nutnost jednání s dalšími klienty, nutnost jednání s dalšími subjekty, negativní někdy i veřejná reakce subjektů údajů apod. | N2: žádné vodítko | O2: Může mít negativní vliv na spolupráci organizace se zahraniční společností. Např. pro osobní údaje - může vyvolat nutnost jednání mezi organizací a zahraničním partnerem o charakteristikách zpracování osobních údajů. | P2: Může způsobit krátkodobé nepříjemnosti při používání IS nebo KS (zdržení a podráždění uživatelů, jiné zdravotní dopady na uživatele nehrozí). | Q2: žádné vodítko
B3: 2 | C3: střední | D3: Může vést k menší újmě subjektu osobních údajů (stres, nepohodlí, drobné fyzické obtíže, nedostatek porozumění, omezení přístupu ke službám organizace nebo jiných subjektů, časové nároky spojené s řešením dopadů). | E3: Odhadovaná finanční újma do 5000 Kč/subjekt údajů. | F3: Může mít negativní dopad na skutečnosti obchodní, výrobní či technické povahy související s podnikem, které mají skutečnou nebo alespoň potenciální materiální či nemateriální hodnotu. | G3: Může zapříčinit porušení interních předpisů a postupů, nikoli však porušení zákonných a smluvních povinností, např. provozní důvody, nedostatek zaměstnanců. | H3: Může mít negativní dopad na řídící a kontrolní činnosti organizace. | I3: Může zapříčinit rozsahem, formou nebo místem omezené protesty (lokální nepokoje). | J3: Může přímo nebo nepřímo vést ke ztrátám mezi 0,05 % a 2 % ročního rozpočtu, popř. obratu organizace (v závislosti na typu organizace). | K3: Může způsobit omezení či narušení nezbytných nebo základních služeb pro malé množství osob, může způsobit krátkodobý výpadek služeb organizace. Může způsobit méně závažné finanční ztráty. | L3: Může omezit provádění běžných činností, narušit řádné řízení nebo fungování části nebo celé organizace. | M3: Může negativně ovlivnit vztahy s jinými organizacemi nebo veřejností, negativní publicita se ale bude týkat omezené zájmové skupiny nebo bude široká, avšak krátkodobá. Např. pro osobní údaje - úbytek klientů o 10 % u organizace, krátkodobé omezení přístupu ke službám využívaným správcem, negativní, avšak krátkodobé ohlasy v médiích. | N3: Může vést k újmě (ohrožení osobní bezpečnosti, svobody nebo zranění) jedné nebo několika osob. | O3: Může vytvářet negativní obraz organizace v jednom teritoriu, popř. v jednom státě. Např. pro osobní údaje - může vést k dočasnému omezení zahraniční participace na zpracování osobních údajů. | P3: Může negativně ovlivnit výkon činnosti interního nebo externího uživatele IS nebo KS (např. zvýšené časové nároky, stres uživatelů, drobné fyzické a zdravotní obtíže uživatelů). | Q3: Může vytvořit podmínky pro páchání trestné činnosti nebo může ztížit její vyšetřování.
B4: 3 | C4: vysoká | D4: Může vést k závažné újmě subjektu osobních údajů (napadení, nepříznivý zdravotní stav, deprese, ztížené uplatnění, ekonomické znevýhodnění (černé listiny), krádež identity, předvolání vyšetřujícími orgány). | E4: Odhadovaná finanční újma od 5000 Kč do 50 000 Kč/subjekt údajů (zneužití finančních prostředků subjektu údajů, poškození majetku). | F4: Může mít podstatný dopad na skutečnosti obchodní, výrobní či technické povahy související s podnikem, které mají skutečnou nebo alespoň potenciální materiální či nemateriální hodnotu. | G4: Může zapříčinit správní nebo občanskoprávní řízení vedoucí k pokutě nebo k náhradě škody. | H4: Může mít podstatný dopad na řídicí a kontrolní činnosti organizace a zapříčinit dočasné zastavení chodu či podstatný zásah do fungování organizace, značné finanční ztráty související s obnovením chodu. | I4: Může zapříčinit rozsahem, formou nebo místem omezené protesty na úrovni významné části správního území obce s rozšířenou působností, jejichž řešení si může vyžádat aktivaci krizového řízení na úrovni kraje. | J4: Může přímo nebo nepřímo vést ke ztrátám vyšším než 2 % a nižším či rovným 10 % ročního rozpočtu, popř. obratu organizace (v závislosti na typu organizace). | K4: Může způsobit závažné omezení či narušení nezbytných nebo základních služeb pro větší množství osob, omezení nebo krátkodobé zastavení přístupu ke službám. | L4: Může způsobit dočasné zastavení nebo podstatné narušení běžných činností organizace nebo poškodit rozvoj nebo prosazování cílů a zájmů organizace. | M4: Může závažně ovlivnit vztahy s jinými organizacemi nebo veřejností s následkem celostátní negativní publicity. Např. pro osobní údaje - úbytek klientů 10-50 % u organizace, masivní negativní, avšak krátkodobé ohlasy v médiích. | N4: Může vést k újmě (ohrožení osobní bezpečnosti, svobody nebo zranění) větší skupiny osob, nebo ohrožení na životě jednotlivců. | O4: Může vytvářet negativní obraz organizace ve světě. Např. pro osobní údaje - může být spojené s trvalým nebo dlouhodobým omezením participace zahraničních partnerů na zpracování osobních údajů. | P4: Může způsobit závažné krátkodobé omezení výkonu činnosti interního nebo externího uživatele IS nebo KS (zhoršení zdravotního stavu uživatelů, krátkodobá pracovní neschopnost, uživatelů). | Q4: Může vést k narušení vyšetřování trestné činnosti nebo soudního řízení (méně závažná kriminalita, krátkodobě, v jednotlivých případech).
B5: 4 | C5: kritická | D5: Může vést k velmi vážné újmě subjektu osobních údajů, přímému ohrožení či ztrátě života (smrt, invalidita, dlouhodobě nepříznivý zdravotní stav a pracovní neschopnost, ztráta zaměstnání, velmi ztížené uplatnění, vyloučení, omezení práv). | E5: Odhadovaná finanční újma od 50 000 Kč/subjekt údajů (neschopnost splácet dluh, ztráta majetku). | F5: Může mít závažný dopad na skutečnosti obchodní, výrobní či technické povahy související s podnikem, které mají skutečnou nebo alespoň potenciální materiální či nemateriální hodnotu. | G5: Může zapříčinit porušení právních předpisů vedoucí k zahájení trestního stíhání. | H5: Může mít závažný dopad na řídicí a kontrolní činnosti a zapříčinit dlouhodobé zastavení chodu celé organizace. | I5: Může zapříčinit hromadné nepokoje, např. generální stávku, nebo jinak závažně narušit veřejný pořádek s celostátními dopady. | J5: Může přímo nebo nepřímo vést ke ztrátám přesahujícím 10 % ročního rozpočtu, popř. obratu organizace (v závislosti na typu organizace). | K5: Může způsobit rozsáhlé dlouhodobé omezení, narušení či nedostupnost poskytování nezbytných nebo základních služeb pro větší množství osob, může způsobit újmu (např. soudní proces, likvidace, vznik nesplatitelného dluhu). | L5: Může způsobit dlouhodobé zastavení běžných činností organizace. | M5: Může závažně a dlouhodobě ovlivní vztahy s jinými organizacemi nebo veřejností s následkem celostátní či nadnárodní negativní publicity, s dlouhodobými účinky a požadavky přijetí politické odpovědnosti. Např. pro osobní údaje - úbytek klientů nad 50 % u organizace, černé listiny, ztráta konkurenceschopnosti, masivní negativní dlouhodobé ohlasy v médiích včetně zahraničních. | N5: Může vést k přímému ohrožení či ztrátě života osob. | O5: Může negativně ovlivnit nebo poškodit diplomatické vztahy a tím způsobit nevýhodu pro zájmy ČR. Např. pro osobní údaje - dlouhodobé nebo trvalé omezení participace zahraničních subjektů nebo i států na zpracování osobních údajů. | P5: Může způsobit závažné dlouhodobé omezení výkonu činnosti interního nebo externího uživatele IS nebo KS (útoky na uživatele, odchod zaměstnanců, dlouhodobá pracovní neschopnost uživatelů, úmrtí). | Q5: Může vést k závažnému, dlouhodobému narušení schopnosti vyšetřovat trestnou činnost, popřípadě zpochybnění soudních řízení a rozhodnutí (závažná kriminalita, celkové zpochybnění systému).
A6: Popis kategorie | D6: Jakékoliv informace týkající se identifikované či identifikovatelné fyzické osoby, citlivé osobní údaje. | F6: Nutnost řídit se právními předpisy. | H6: Narušení rozhodovacích možností. | I6: Zajištění důležitých externích informací týkající se organizace např. od EU, regulátora atd. Narušení agendy organizace. | K6: Narušení klíčových informací, procesů a služeb tvořící hodnotu nebo užitek organizace. | L6: Narušení nezbytných provozních činností. | M6: Negativní ovlivnění reputace u jednotlivců, organizačních součástí organizace, veřejnosti nebo ostatních organizací. | N6: Týká se systémů s dopadem na bezpečnost a zdraví osob (např. nemocnice, chemická továrna apod.). | O6: V případě mezinárodní spolupráce se jedná o rizika spojená s vytvořením negativního obrazu na Českou republiku u EU, NATO nebo dalších zahraničních zemí a mezinárodních organizací. | P6: Znemožnění výkonu činnosti interním i externím uživatelům. | Q6: Narušení primárních aktiv ovlivní trestně-právní řízení.
B7: Příklad | D7: Únik osobních údajů fyzické osoby. | F7: Narušení povinnosti zveřejňovat dokumenty na elektronické úřední desce, která je nepřetržitě dostupná vzdáleným přístupem. Smlouvy a z nich plynoucí sankce. Hodnota obchodního tajemství. Pokuty za porušení legislativy. | H7: Neúplnost či modifikace informací potřebných pro rozhodování vedení a kontrolní činnost. | I7: Nedostupnost informací o fakturách na základě nedostupnosti ekonomického systému. Nedostupnost informací o možných obchodních příležitostech a z toho plynoucí ušlý zisk. Nedostupnost např. webu, může vést k neinformování veřejnosti o důležitých skutečnostech (záplavy, ekologické katastrofy atd.). | K7: Narušení všech informací, procesů a služeb vztažených směrem k hlavnímu business cíli (účelu existence) organizace (např. v případě Ministerstva pro certifikaci senzorů by se jednalo o narušení vydávání certifikací). | L7: Narušení činností personálních, ekonomických, správy budov a autoparku, neschopnost přijímat datové zprávy apod. | M7: Nedodržení závazků. Únik interních informací. | N7: Neschopnost zajistit základní příjem, potraviny, přístup ke zdravotní péči, svobodu apod. Možnost zranění a ztrát na životech. | O7: Únik informací od zahraničních partnerů. V případě narušení bezpečnosti ztráta důvěryhodnosti. | P7: Ztrátu možnosti přístupu uživatele ke službě vlivem její nedostupnosti (při výpadku internetového bankovnictví se tento problém dotkne velkého počtu uživatelů – nemožnost zadat platební příkaz online). | Q7: Vyzrazení informací v rámci trestního řízení, čímž by mohlo být trestní řízení zastaveno.

Sheet Služby-Systémy
A1: Seznam služeb poskytovaných ministerstvem | E1: Seznam systémů ministerstva
A2: ID | B2: Název | C2: Rozsah řízení KB | E2: ID | F2: Název | G2: Vazba na poskytovanou službu
A3: S1 | B3: Služba certifikace senzorů | C3: ANO | E3: IS1 | F3: Informační systém pro evidenci a zpracování procesu certifikace senzorů | G3: S1
A4: S2 | B4: Provoz dětské skupiny | C4: NE | E4: IS2 | F4: Informační systém spisové služby | G4: S7
A5: S3 | B5: Vedení úřední desky | C5: ANO | E5: IS3 | F5: Docházkový systém | G5: S5, S6
A6: S4 | B6: Vedení účetnictví | C6: ANO | E6: IS4 | F6: Ekonomický systém | G6: S4
A7: S5 | B7: Vedení personálních dat | C7: ANO | E7: … | F7: … | G7: …
A8: S6 | B8: Vedení docházky | C8: ANO
A9: S7 | B9: Výkon spisové služby | C9: ANO
A10: S8 | B10: Zadávání veřejných zakázek | C10: ANO
A11: S9 | B11: Služba elektronické pošty | C11: ANO
A12: … | B12: … | C12: …

Sheet Katalog primárních aktiv
A1: ID | B1: Typové primární aktivum | C1: Název | D1: Kategorie | E1: Specifikace | F1: Gestor aktiva | G1: Garant aktiva | H1: Osobní údaje | I1: Legislativa | J1: Rozsah řízení KB | K1: Dostupnost | L1: Ztráta | M1: Důvěrnost | N1: Integrita | O1: Poznámka
A2: S1 | B2: ='Služby-Systémy'!B3 -> Služba certifikace senzorů | C2: =Tabulka5[[#This Row],[ID]]&": "&Tabulka4[[#This Row],[Typové primární aktivum]] -> S1: Služba certifikace senzorů | D2: služba | E2: Zajištění procesu certifikace a evidence senzorů | F2: náměstek sekce certifikací (Martin Novotný) | G2: ředitel odboru certifikací 1 (Jan Novák), ředitelka odboru certifikací 2 (Tereza Černá) | H2: ano | I2: Zákon o certifikaci | J2: ano | K2: ='S1'!E5 -> 3 | L2: ='S1'!E6 -> 4 | M2: ='S1'!E7 -> 3 | N2: ='S1'!E8 -> 3
A3: P1 | B3: Seznam certifikovaných senzorů | C3: =Tabulka5[[#This Row],[ID]]&": "&Tabulka4[[#This Row],[Typové primární aktivum]] -> P1: Seznam certifikovaných senzorů | D3: informace | E3: Seznam všech úspěšně certifikovaných senzorů a certifikátů samotných | F3: náměstek sekce certifikací (Martin Novotný) | G3: ředitelka odboru podpory (Renata Malá) | H3: ne | I3: Zákon o certifikaci | J3: ano | K3: ='P1'!E5 -> 2 | L3: ='P1'!E6 -> 1 | M3: ='P1'!E7 -> 1 | N3: ='P1'!E8 -> 3
A4: P2 | B4: Rozhodnutí | C4: =Tabulka5[[#This Row],[ID]]&": "&Tabulka4[[#This Row],[Typové primární aktivum]] -> P2: Rozhodnutí | D4: informace | E4: Výsledné rozhodnutí certifikačního procesu - negativní i pozitivní | F4: náměstek sekce certifikací (Martin Novotný) | G4: ředitel odboru certifikací 1 (Jan Novák), ředitelka odboru certifikací 2 (Tereza Černá) | H4: ano | I4: Zákon o certifikaci, zákon č. 500/2004 Sb., správní řád | J4: ano | K4: ='P2'!E5 -> 2 | L4: ='P2'!E6 -> 3 | M4: ='P2'!E7 -> 3 | N4: ='P2'!E8 -> 3
A5: P3 | B5: Žádosti, technická dokumentace | C5: =Tabulka5[[#This Row],[ID]]&": "&Tabulka4[[#This Row],[Typové primární aktivum]] -> P3: Žádosti, technická dokumentace | D5: informace | E5: Technická dokumentace a žádost o certifikaci, kterou zasílají jednotliví výrobci ke svým senzorům | F5: náměstek sekce certifikací (Martin Novotný) | G5: ředitel odboru certifikací 1 (Jan Novák), ředitelka odboru certifikací 2 (Tereza Černá) | H5: ano | I5: Zákon o certifikaci | J5: ano | K5: ='P3'!E5 -> 3 | L5: ='P3'!E6 -> 3 | M5: ='P3'!E7 -> 3 | N5: ='P3'!E8 -> 3
A6: P4 | B6: Informace o průběhu certifikace | C6: =Tabulka5[[#This Row],[ID]]&": "&Tabulka4[[#This Row],[Typové primární aktivum]] -> P4: Informace o průběhu certifikace | D6: informace | E6: Informace o průběhu certifikace - kdo rozhodl, kdy došla žádost, průběh certifikace atd. | F6: náměstek sekce certifikací (Martin Novotný) | G6: ředitel odboru certifikací 1 (Jan Novák), ředitelka odboru certifikací 2 (Tereza Černá) | H6: ano | I6: Zákon o certifikaci, zákon č. 500/2004 Sb., správní řád | J6: ano | K6: ='P4'!E5 -> 3 | L6: ='P4'!E6 -> 4 | M6: ='P4'!E7 -> 3 | N6: ='P4'!E8 -> 3
A7: S9 | B7: ='Služby-Systémy'!B11 -> Služba elektronické pošty | C7: =Tabulka5[[#This Row],[ID]]&": "&Tabulka4[[#This Row],[Typové primární aktivum]] -> S9: Služba elektronické pošty | D7: služba | E7: … | F7: … | G7: … | H7: … | I7: … | J7: … | K7: … | L7: … | M7: … | N7: … | O7: …
A8: S3 | B8: ='Služby-Systémy'!B5 -> Vedení úřední desky | C8: =Tabulka5[[#This Row],[ID]]&": "&Tabulka4[[#This Row],[Typové primární aktivum]] -> S3: Vedení úřední desky | D8: služba | E8: … | F8: … | G8: … | H8: … | I8: … | J8: … | K8: … | L8: … | M8: … | N8: … | O8: …
A9: P5 | B9: Zveřejněné informace na úřední desce | C9: =Tabulka5[[#This Row],[ID]]&": "&Tabulka4[[#This Row],[Typové primární aktivum]] -> P5: Zveřejněné informace na úřední desce | D9: informace | E9: … | F9: … | G9: … | H9: … | I9: … | J9: … | K9: … | L9: … | M9: … | N9: … | O9: …
A10: … | B10: … | C10: =Tabulka5[[#This Row],[ID]]&": "&Tabulka4[[#This Row],[Typové primární aktivum]] -> …: … | E10: … | F10: … | G10: … | H10: … | I10: … | J10: … | K10: … | L10: … | M10: … | N10: … | O10: …

Sheet Vazby prim. aktiv
A1: Vazby mezi primárními aktivy | C1: S1 | D1: P1 | E1: P2 | F1: P3 | G1: P4 | H1: … | I1: Komentář
C2: ='Katalog primárních aktiv'!B2 -> Služba certifikace senzorů | D2: ='Katalog primárních aktiv'!B3 -> Seznam certifikovaných senzorů | E2: ='Katalog primárních aktiv'!B4 -> Rozhodnutí | F2: ='Katalog primárních aktiv'!B5 -> Žádosti, technická dokumentace | G2: ='Katalog primárních aktiv'!B6 -> Informace o průběhu certifikace | H2: …
A3: S1 | B3: ='Katalog primárních aktiv'!B2 -> Služba certifikace senzorů | D3: x | E3: x | F3: x | G3: x | I3: Primární aktivum S1 pracuje se všemi informacemi v agendovém systému. Hodnoty služby certifikace senzorů jsou nejvyšší hodnoty, které byly stanoveny pro jednotlivá primární aktiva P1-P4.
A4: P1 | B4: ='Katalog primárních aktiv'!B3 -> Seznam certifikovaných senzorů | C4: x
A5: P2 | B5: ='Katalog primárních aktiv'!B4 -> Rozhodnutí | C5: x
A6: P3 | B6: ='Katalog primárních aktiv'!B5 -> Žádosti, technická dokumentace | C6: x
A7: P4 | B7: ='Katalog primárních aktiv'!B6 -> Informace o průběhu certifikace | C7: x
A8: … | B8: …

Sheet S1
A1: Název primárního aktiva: | B1: ='Katalog primárních aktiv'!B2 -> Služba certifikace senzorů
A2: Gestor primárního aktiva: | B2: ='Katalog primárních aktiv'!F2 -> náměstek sekce certifikací (Martin Novotný)
A3: Garant primárního aktiva: | B3: ='Katalog primárních aktiv'!G2 -> ředitel odboru certifikací 1 (Jan Novák), ředitelka odboru certifikací 2 (Tereza Černá)
A4: Datum hodnocení: | B4: 46055
A5: Výsledné hodnocení primárního aktiva (nejvyšší hodnoty jednotlivých atributů) | B5: Dostupnost | E5: 3
B6: Ztráta | E6: =MAX(S12:S25) -> 4
B7: Důvěrnost | E7: =MAX(V12:V25) -> 3
B8: Integrita | E8: =MAX(W12:X25) -> 3
B10: Dostupnost | K10: Ztráta | T10: Důvěrnost | W10: Integrita
A11: Oblasti dopadu | B11: Nedostupnost 15 min | C11: Nedostupnost 1 h | D11: Nedostupnost 4 h | E11: Nedostupnost 8 h | F11: Nedostupnost 1den | G11: Nedostupnost 2 dny | H11: Nedostupnost 1 týden | I11: Nedostupnost 14 dní | J11: Nedostupnost měsíc a více | K11: Ztráta dat od zálohy (15 min) | L11: Ztráta dat od zálohy (1 h) | M11: Ztráta dat od zálohy (4 h) | N11: Ztráta dat od zálohy (8 h) | O11: Ztráta dat od zálohy (1 den) | P11: Ztráta dat od zálohy (2 dny) | Q11: Ztráta dat od zálohy (1 týden) | R11: Ztráta dat od zálohy (14 dní) | S11: Úplná ztráta dat | T11: Prozrazení v rámci organizace | U11: Prozrazení smluvním partnerům | V11: Prozrazení vně organizaci | W11: Modifikace dat malého rozsahu | X11: Modifikace dat velkého rozsahu
A12: Ochrana osobních údajů - dopady na subjekty osobních údajů | B12: =MAX('P1'!B12,'P2'!B12,'P3'!B12,'P4'!B12) -> 1 | C12: =MAX('P1'!C12,'P2'!C12,'P3'!C12,'P4'!C12) -> 1 | D12: =MAX('P1'!D12,'P2'!D12,'P3'!D12,'P4'!D12) -> 1 | E12: =MAX('P1'!E12,'P2'!E12,'P3'!E12,'P4'!E12) -> 1 | F12: =MAX('P1'!F12,'P2'!F12,'P3'!F12,'P4'!F12) -> 1 | G12: =MAX('P1'!G12,'P2'!G12,'P3'!G12,'P4'!G12) -> 1 | H12: =MAX('P1'!H12,'P2'!H12,'P3'!H12,'P4'!H12) -> 1 | I12: =MAX('P1'!I12,'P2'!I12,'P3'!I12,'P4'!I12) -> 1 | ... X12: =MAX('P1'!X12,'P2'!X12,'P3'!X12,'P4'!X12) -> 2 | Z12: Úrovně dopadu
A13: Ochrana osobních údajů - finanční újma subjektů údajů | B13: =MAX('P1'!B13,'P2'!B13,'P3'!B13,'P4'!B13) -> 1 | C13: =MAX('P1'!C13,'P2'!C13,'P3'!C13,'P4'!C13) -> 1 | D13: =MAX('P1'!D13,'P2'!D13,'P3'!D13,'P4'!D13) -> 1 | E13: =MAX('P1'!E13,'P2'!E13,'P3'!E13,'P4'!E13) -> 1 | F13: =MAX('P1'!F13,'P2'!F13,'P3'!F13,'P4'!F13) -> 1 | G13: =MAX('P1'!G13,'P2'!G13,'P3'!G13,'P4'!G13) -> 1 | H13: =MAX('P1'!H13,'P2'!H13,'P3'!H13,'P4'!H13) -> 1 | I13: =MAX('P1'!I13,'P2'!I13,'P3'!I13,'P4'!I13) -> 1 | ... X13: =MAX('P1'!X13,'P2'!X13,'P3'!X13,'P4'!X13) -> 2 | Z13: 0 | AA13: nerelevantní
A14: Obchodní tajemství | B14: =MAX('P1'!B14,'P2'!B14,'P3'!B14,'P4'!B14) -> 0 | C14: =MAX('P1'!C14,'P2'!C14,'P3'!C14,'P4'!C14) -> 0 | D14: =MAX('P1'!D14,'P2'!D14,'P3'!D14,'P4'!D14) -> 0 | E14: =MAX('P1'!E14,'P2'!E14,'P3'!E14,'P4'!E14) -> 0 | F14: =MAX('P1'!F14,'P2'!F14,'P3'!F14,'P4'!F14) -> 0 | G14: =MAX('P1'!G14,'P2'!G14,'P3'!G14,'P4'!G14) -> 0 | H14: =MAX('P1'!H14,'P2'!H14,'P3'!H14,'P4'!H14) -> 0 | I14: =MAX('P1'!I14,'P2'!I14,'P3'!I14,'P4'!I14) -> 0 | ... X14: =MAX('P1'!X14,'P2'!X14,'P3'!X14,'P4'!X14) -> 0 | Z14: 1 | AA14: nízká
A15: Zákonné a smluvní povinnosti | B15: =MAX('P1'!B15,'P2'!B15,'P3'!B15,'P4'!B15) -> 1 | C15: =MAX('P1'!C15,'P2'!C15,'P3'!C15,'P4'!C15) -> 1 | D15: =MAX('P1'!D15,'P2'!D15,'P3'!D15,'P4'!D15) -> 1 | E15: =MAX('P1'!E15,'P2'!E15,'P3'!E15,'P4'!E15) -> 1 | F15: =MAX('P1'!F15,'P2'!F15,'P3'!F15,'P4'!F15) -> 1 | G15: =MAX('P1'!G15,'P2'!G15,'P3'!G15,'P4'!G15) -> 2 | H15: =MAX('P1'!H15,'P2'!H15,'P3'!H15,'P4'!H15) -> 2 | I15: =MAX('P1'!I15,'P2'!I15,'P3'!I15,'P4'!I15) -> 2 | ... X15: =MAX('P1'!X15,'P2'!X15,'P3'!X15,'P4'!X15) -> 3 | Z15: 2 | AA15: střední
A16: Narušení vnitřních řídících a kontrolních činností | B16: =MAX('P1'!B16,'P2'!B16,'P3'!B16,'P4'!B16) -> 1 | C16: =MAX('P1'!C16,'P2'!C16,'P3'!C16,'P4'!C16) -> 1 | D16: =MAX('P1'!D16,'P2'!D16,'P3'!D16,'P4'!D16) -> 1 | E16: =MAX('P1'!E16,'P2'!E16,'P3'!E16,'P4'!E16) -> 1 | F16: =MAX('P1'!F16,'P2'!F16,'P3'!F16,'P4'!F16) -> 1 | G16: =MAX('P1'!G16,'P2'!G16,'P3'!G16,'P4'!G16) -> 2 | H16: =MAX('P1'!H16,'P2'!H16,'P3'!H16,'P4'!H16) -> 2 | I16: =MAX('P1'!I16,'P2'!I16,'P3'!I16,'P4'!I16) -> 2 | ... X16: =MAX('P1'!X16,'P2'!X16,'P3'!X16,'P4'!X16) -> 3 | Z16: 3 | AA16: vysoká
A17: Veřejný pořádek | B17: =MAX('P1'!B17,'P2'!B17,'P3'!B17,'P4'!B17) -> 0 | C17: =MAX('P1'!C17,'P2'!C17,'P3'!C17,'P4'!C17) -> 0 | D17: =MAX('P1'!D17,'P2'!D17,'P3'!D17,'P4'!D17) -> 0 | E17: =MAX('P1'!E17,'P2'!E17,'P3'!E17,'P4'!E17) -> 0 | F17: =MAX('P1'!F17,'P2'!F17,'P3'!F17,'P4'!F17) -> 0 | G17: =MAX('P1'!G17,'P2'!G17,'P3'!G17,'P4'!G17) -> 0 | H17: =MAX('P1'!H17,'P2'!H17,'P3'!H17,'P4'!H17) -> 0 | I17: =MAX('P1'!I17,'P2'!I17,'P3'!I17,'P4'!I17) -> 0 | ... X17: =MAX('P1'!X17,'P2'!X17,'P3'!X17,'P4'!X17) -> 0 | Z17: 4 | AA17: kritická
A18: Finanční ztráty | B18: =MAX('P1'!B18,'P2'!B18,'P3'!B18,'P4'!B18) -> 1 | C18: =MAX('P1'!C18,'P2'!C18,'P3'!C18,'P4'!C18) -> 1 | D18: =MAX('P1'!D18,'P2'!D18,'P3'!D18,'P4'!D18) -> 1 | E18: =MAX('P1'!E18,'P2'!E18,'P3'!E18,'P4'!E18) -> 1 | F18: =MAX('P1'!F18,'P2'!F18,'P3'!F18,'P4'!F18) -> 1 | G18: =MAX('P1'!G18,'P2'!G18,'P3'!G18,'P4'!G18) -> 2 | H18: =MAX('P1'!H18,'P2'!H18,'P3'!H18,'P4'!H18) -> 2 | I18: =MAX('P1'!I18,'P2'!I18,'P3'!I18,'P4'!I18) -> 2 | ... X18: =MAX('P1'!X18,'P2'!X18,'P3'!X18,'P4'!X18) -> 3
A19: Zajišťování nezbytných nebo základních služeb | B19: =MAX('P1'!B19,'P2'!B19,'P3'!B19,'P4'!B19) -> 1 | C19: =MAX('P1'!C19,'P2'!C19,'P3'!C19,'P4'!C19) -> 1 | D19: =MAX('P1'!D19,'P2'!D19,'P3'!D19,'P4'!D19) -> 1 | E19: =MAX('P1'!E19,'P2'!E19,'P3'!E19,'P4'!E19) -> 1 | F19: =MAX('P1'!F19,'P2'!F19,'P3'!F19,'P4'!F19) -> 1 | G19: =MAX('P1'!G19,'P2'!G19,'P3'!G19,'P4'!G19) -> 2 | H19: =MAX('P1'!H19,'P2'!H19,'P3'!H19,'P4'!H19) -> 2 | I19: =MAX('P1'!I19,'P2'!I19,'P3'!I19,'P4'!I19) -> 2 | ... X19: =MAX('P1'!X19,'P2'!X19,'P3'!X19,'P4'!X19) -> 3
A20: Narušení běžných činností | B20: =MAX('P1'!B20,'P2'!B20,'P3'!B20,'P4'!B20) -> 0 | C20: =MAX('P1'!C20,'P2'!C20,'P3'!C20,'P4'!C20) -> 0 | D20: =MAX('P1'!D20,'P2'!D20,'P3'!D20,'P4'!D20) -> 0 | E20: =MAX('P1'!E20,'P2'!E20,'P3'!E20,'P4'!E20) -> 0 | F20: =MAX('P1'!F20,'P2'!F20,'P3'!F20,'P4'!F20) -> 0 | G20: =MAX('P1'!G20,'P2'!G20,'P3'!G20,'P4'!G20) -> 0 | H20: =MAX('P1'!H20,'P2'!H20,'P3'!H20,'P4'!H20) -> 0 | I20: =MAX('P1'!I20,'P2'!I20,'P3'!I20,'P4'!I20) -> 0 | ... X20: =MAX('P1'!X20,'P2'!X20,'P3'!X20,'P4'!X20) -> 0
A21: Ztráta důvěryhodnosti | B21: =MAX('P1'!B21,'P2'!B21,'P3'!B21,'P4'!B21) -> 1 | C21: =MAX('P1'!C21,'P2'!C21,'P3'!C21,'P4'!C21) -> 1 | D21: =MAX('P1'!D21,'P2'!D21,'P3'!D21,'P4'!D21) -> 1 | E21: =MAX('P1'!E21,'P2'!E21,'P3'!E21,'P4'!E21) -> 1 | F21: =MAX('P1'!F21,'P2'!F21,'P3'!F21,'P4'!F21) -> 1 | G21: =MAX('P1'!G21,'P2'!G21,'P3'!G21,'P4'!G21) -> 2 | H21: =MAX('P1'!H21,'P2'!H21,'P3'!H21,'P4'!H21) -> 2 | I21: =MAX('P1'!I21,'P2'!I21,'P3'!I21,'P4'!I21) -> 2 | ... X21: =MAX('P1'!X21,'P2'!X21,'P3'!X21,'P4'!X21) -> 3
A22: Bezpečnost a zdraví osob | B22: =MAX('P1'!B22,'P2'!B22,'P3'!B22,'P4'!B22) -> 0 | C22: =MAX('P1'!C22,'P2'!C22,'P3'!C22,'P4'!C22) -> 0 | D22: =MAX('P1'!D22,'P2'!D22,'P3'!D22,'P4'!D22) -> 0 | E22: =MAX('P1'!E22,'P2'!E22,'P3'!E22,'P4'!E22) -> 0 | F22: =MAX('P1'!F22,'P2'!F22,'P3'!F22,'P4'!F22) -> 0 | G22: =MAX('P1'!G22,'P2'!G22,'P3'!G22,'P4'!G22) -> 0 | H22: =MAX('P1'!H22,'P2'!H22,'P3'!H22,'P4'!H22) -> 0 | I22: =MAX('P1'!I22,'P2'!I22,'P3'!I22,'P4'!I22) -> 0 | ... X22: =MAX('P1'!X22,'P2'!X22,'P3'!X22,'P4'!X22) -> 0
A23: Dopad na uživatele IS nebo KS | B23: =MAX('P1'!B23,'P2'!B23,'P3'!B23,'P4'!B23) -> 1 | C23: =MAX('P1'!C23,'P2'!C23,'P3'!C23,'P4'!C23) -> 1 | D23: =MAX('P1'!D23,'P2'!D23,'P3'!D23,'P4'!D23) -> 2 | E23: =MAX('P1'!E23,'P2'!E23,'P3'!E23,'P4'!E23) -> 3 | F23: =MAX('P1'!F23,'P2'!F23,'P3'!F23,'P4'!F23) -> 3 | G23: =MAX('P1'!G23,'P2'!G23,'P3'!G23,'P4'!G23) -> 3 | H23: =MAX('P1'!H23,'P2'!H23,'P3'!H23,'P4'!H23) -> 4 | I23: =MAX('P1'!I23,'P2'!I23,'P3'!I23,'P4'!I23) -> 4 | ... X23: =MAX('P1'!X23,'P2'!X23,'P3'!X23,'P4'!X23) -> 3
A24: Mezinárodní vztahy | B24: =MAX('P1'!B24,'P2'!B24,'P3'!B24,'P4'!B24) -> 0 | C24: =MAX('P1'!C24,'P2'!C24,'P3'!C24,'P4'!C24) -> 0 | D24: =MAX('P1'!D24,'P2'!D24,'P3'!D24,'P4'!D24) -> 0 | E24: =MAX('P1'!E24,'P2'!E24,'P3'!E24,'P4'!E24) -> 0 | F24: =MAX('P1'!F24,'P2'!F24,'P3'!F24,'P4'!F24) -> 0 | G24: =MAX('P1'!G24,'P2'!G24,'P3'!G24,'P4'!G24) -> 0 | H24: =MAX('P1'!H24,'P2'!H24,'P3'!H24,'P4'!H24) -> 0 | I24: =MAX('P1'!I24,'P2'!I24,'P3'!I24,'P4'!I24) -> 0 | ... X24: =MAX('P1'!X24,'P2'!X24,'P3'!X24,'P4'!X24) -> 0
A25: Trestně-právní řízení | B25: =MAX('P1'!B25,'P2'!B25,'P3'!B25,'P4'!B25) -> 0 | C25: =MAX('P1'!C25,'P2'!C25,'P3'!C25,'P4'!C25) -> 0 | D25: =MAX('P1'!D25,'P2'!D25,'P3'!D25,'P4'!D25) -> 0 | E25: =MAX('P1'!E25,'P2'!E25,'P3'!E25,'P4'!E25) -> 0 | F25: =MAX('P1'!F25,'P2'!F25,'P3'!F25,'P4'!F25) -> 0 | G25: =MAX('P1'!G25,'P2'!G25,'P3'!G25,'P4'!G25) -> 0 | H25: =MAX('P1'!H25,'P2'!H25,'P3'!H25,'P4'!H25) -> 0 | I25: =MAX('P1'!I25,'P2'!I25,'P3'!I25,'P4'!I25) -> 0 | ... X25: =MAX('P1'!X25,'P2'!X25,'P3'!X25,'P4'!X25) -> 0
A26: Komentář k dopadům (uveďte odůvodnění k následkům narušení dostupnosti-odkdy a proč začíná mít nedostupnost negativní dopad, narušení důvěrnosti-např. porušení pravidel obecného nařízení GDPR, narušení integrity dat-např. chyba při zpracování dat agendy) | B26: Hodnoty služby certifikace senzorů jsou nejvyšší hodnoty, které byly stanoveny pro jednotlivá primární aktiva P1-P4.

Sheet P1
A1: Název primárního aktiva: | B1: ='Katalog primárních aktiv'!B3 -> Seznam certifikovaných senzorů
A2: Gestor primárního aktiva: | B2: ='Katalog primárních aktiv'!F3 -> náměstek sekce certifikací (Martin Novotný)
A3: Garant primárního aktiva: | B3: ='Katalog primárních aktiv'!G3 -> ředitelka odboru podpory (Renata Malá)
A4: Datum hodnocení: | B4: 46041
A5: Výsledné hodnocení primárního aktiva (nejvyšší hodnoty jednotlivých atributů) | B5: Dostupnost | E5: 2
B6: Ztráta | E6: =MAX(K12:S25) -> 1
B7: Důvěrnost | E7: =MAX(T12:V25) -> 1
B8: Integrita | E8: =MAX(W12:X25) -> 3
B10: Dostupnost | K10: Ztráta | T10: Důvěrnost | W10: Integrita
A11: Oblasti dopadu | B11: Nedostupnost 15 min | C11: Nedostupnost 1 h | D11: Nedostupnost 4 h | E11: Nedostupnost 8 h | F11: Nedostupnost 1den | G11: Nedostupnost 2 dny | H11: Nedostupnost 1 týden | I11: Nedostupnost 14 dní | J11: Nedostupnost měsíc a více | K11: Ztráta dat od zálohy (15 min) | L11: Ztráta dat od zálohy (1 h) | M11: Ztráta dat od zálohy (4 h) | N11: Ztráta dat od zálohy (8 h) | O11: Ztráta dat od zálohy (1 den) | P11: Ztráta dat od zálohy (2 dny) | Q11: Ztráta dat od zálohy (1 týden) | R11: Ztráta dat od zálohy (14 dní) | S11: Úplná ztráta dat | T11: Prozrazení v rámci organizace | U11: Prozrazení smluvním partnerům | V11: Prozrazení vně organizaci | W11: Modifikace dat malého rozsahu | X11: Modifikace dat velkého rozsahu
A12: Ochrana osobních údajů - dopady na subjekty osobních údajů | Z12: Úrovně dopadu
A13: Ochrana osobních údajů - finanční újma subjektů údajů | Z13: 0 | AA13: nerelevantní
A14: Obchodní tajemství | Z14: 1 | AA14: nízká
A15: Zákonné a smluvní povinnosti | B15: 1 | C15: 1 | D15: 1 | E15: 1 | F15: 1 | G15: 2 | H15: 2 | I15: 2 | J15: 3 | K15: 1 | L15: 1 | M15: 1 | N15: 1 | O15: 1 | P15: 1 | Q15: 1 | R15: 1 | S15: 1 | T15: 1 | U15: 1 | V15: 1 | W15: 3 | X15: 3 | Z15: 2 | AA15: střední
A16: Narušení vnitřních řídících a kontrolních činností | B16: 1 | C16: 1 | D16: 1 | E16: 1 | F16: 1 | G16: 2 | H16: 2 | I16: 2 | J16: 2 | K16: 1 | L16: 1 | M16: 1 | N16: 1 | O16: 1 | P16: 1 | Q16: 1 | R16: 1 | S16: 1 | T16: 1 | U16: 1 | V16: 1 | W16: 2 | X16: 2 | Z16: 3 | AA16: vysoká
A17: Veřejný pořádek | Z17: 4 | AA17: kritická
A18: Finanční ztráty | B18: 1 | C18: 1 | D18: 1 | E18: 1 | F18: 1 | G18: 2 | H18: 2 | I18: 2 | J18: 2 | K18: 1 | L18: 1 | M18: 1 | N18: 1 | O18: 1 | P18: 1 | Q18: 1 | R18: 1 | S18: 1 | T18: 1 | U18: 1 | V18: 1 | W18: 2 | X18: 2
A19: Zajišťování nezbytných nebo základních služeb | B19: 1 | C19: 1 | D19: 1 | E19: 1 | F19: 1 | G19: 2 | H19: 2 | I19: 2 | J19: 2 | K19: 1 | L19: 1 | M19: 1 | N19: 1 | O19: 1 | P19: 1 | Q19: 1 | R19: 1 | S19: 1 | T19: 1 | U19: 1 | V19: 1 | W19: 2 | X19: 2
A20: Narušení běžných činností
A21: Ztráta důvěryhodnosti | B21: 1 | C21: 1 | D21: 1 | E21: 1 | F21: 1 | G21: 2 | H21: 2 | I21: 2 | J21: 3 | K21: 1 | L21: 1 | M21: 1 | N21: 1 | O21: 1 | P21: 1 | Q21: 1 | R21: 1 | S21: 1 | T21: 1 | U21: 1 | V21: 1 | W21: 3 | X21: 3
A22: Bezpečnost a zdraví osob
A23: Dopad na uživatele IS nebo KS | B23: 1 | C23: 1 | D23: 1 | E23: 1 | F23: 1 | G23: 2 | H23: 2 | I23: 2 | J23: 3 | K23: 1 | L23: 1 | M23: 1 | N23: 1 | O23: 1 | P23: 1 | Q23: 1 | R23: 1 | S23: 1 | T23: 1 | U23: 1 | V23: 1 | W23: 2 | X23: 2
A24: Mezinárodní vztahy
A25: Trestně-právní řízení
A26: Komentář k dopadům (uveďte odůvodnění k následkům narušení dostupnosti-odkdy a proč začíná mít nedostupnost negativní dopad, narušení důvěrnosti-např. porušení pravidel obecného nařízení GDPR, narušení integrity dat-např. chyba při zpracování dat agendy) | B26: Ze zákona vyplývá povinnost zveřejňovat seznam certifikovaných senzorů. Organizace jsou povinny používat pouze certifikované senzory. Je nutné dodržovat zákonné lhůty, může se stát, že bude zaměstnanec vykonávat svoji činnost na poslední chvíli, a proto vadí nedostupnost již od jednoho dne. Pokud dojde ke ztrátě pouze seznamu, jsme schopni jej obnovit, neboť máme veškeré předchozí kroky a materiály k dispozici. Informace jsou určené ke zveřejnění. Integrita informací je zásadní, i když se změní informace jen o jednom senzoru, může to způsobit velké dopady, např. vysoké ztráty dotčeného výrobce. Certifikování je hlavní činností ministerstva, pokud nebude schopno dělat celý proces, bude to výrazná komplikace. Ztráta důvěryhodnosti je spojená s neplněním zákonných a smluvních povinností - když ministerstvo není schopné plnit své povinnosti, není důvěryhodné. Narušení vnitřních řidicích a kontrolních činností nemá takové dopady jako narušení zákonných a smluvních povinností, které jsou v tomto případě klíčové. Finační ztráty souvisí s porušením zákonných a smluvních povinností - sankce za porušení. Finanční ztráty jsou totožné od 2 a více dní. V případě, že dojde k narušení bezpečnosti informací, ovlivní to malé množství osob (týká se žadatelů o certifikaci). V případě dlouhodobé nedostupnosti hrozí ztráta důvěryhodnosti ministerstva v rámci celé ČR. Stejně tak v případě narušení integrity bude negativní publicita v rámci celé ČR. V oblasti dopadu na uživatele dopady nedostupnosti narůstají s delším časovým obdobím, kdy uživatel není schopen dokončit svou práci. V případě, že dojde k pozměnění seznamu, ovlivní to uživatele tím způsobem, že mu to přidá práci - bude jej muset kontrolovat, upravit atd.

Sheet P2
A1: Název primárního aktiva: | B1: ='Katalog primárních aktiv'!B4 -> Rozhodnutí
A2: Gestor primárního aktiva: | B2: ='Katalog primárních aktiv'!F4 -> náměstek sekce certifikací (Martin Novotný)
A3: Garant primárního aktiva: | B3: ='Katalog primárních aktiv'!G4 -> ředitel odboru certifikací 1 (Jan Novák), ředitelka odboru certifikací 2 (Tereza Černá)
A4: Datum hodnocení: | B4: 46041
A5: Výsledné hodnocení primárního aktiva (nejvyšší hodnoty jednotlivých atributů) | B5: Dostupnost | E5: 2
B6: Ztráta | E6: =MAX(K12:S25) -> 3
B7: Důvěrnost | E7: =MAX(T12:V25) -> 3
B8: Integrita | E8: =MAX(W12:X25) -> 3
B10: Dostupnost | K10: Ztráta | T10: Důvěrnost | W10: Integrita
A11: Oblasti dopadu | B11: Nedostupnost 15 min | C11: Nedostupnost 1 h | D11: Nedostupnost 4 h | E11: Nedostupnost 8 h | F11: Nedostupnost 1den | G11: Nedostupnost 2 dny | H11: Nedostupnost 1 týden | I11: Nedostupnost 14 dní | J11: Nedostupnost měsíc a více | K11: Ztráta dat od zálohy (15 min) | L11: Ztráta dat od zálohy (1 h) | M11: Ztráta dat od zálohy (4 h) | N11: Ztráta dat od zálohy (8 h) | O11: Ztráta dat od zálohy (1 den) | P11: Ztráta dat od zálohy (2 dny) | Q11: Ztráta dat od zálohy (1 týden) | R11: Ztráta dat od zálohy (14 dní) | S11: Úplná ztráta dat | T11: Prozrazení v rámci organizace | U11: Prozrazení smluvním partnerům | V11: Prozrazení vně organizaci | W11: Modifikace dat malého rozsahu | X11: Modifikace dat velkého rozsahu
A12: Ochrana osobních údajů - dopady na subjekty osobních údajů | B12: 1 | C12: 1 | D12: 1 | E12: 1 | F12: 1 | G12: 1 | H12: 1 | I12: 1 | J12: 1 | K12: 1 | L12: 1 | M12: 1 | N12: 1 | O12: 1 | P12: 1 | Q12: 1 | R12: 1 | S12: 1 | T12: 2 | U12: 2 | V12: 2 | W12: 2 | X12: 2 | Z12: Úrovně dopadu
A13: Ochrana osobních údajů - finanční újma subjektů údajů | B13: 1 | C13: 1 | D13: 1 | E13: 1 | F13: 1 | G13: 1 | H13: 1 | I13: 1 | J13: 1 | K13: 1 | L13: 1 | M13: 1 | N13: 1 | O13: 1 | P13: 1 | Q13: 1 | R13: 1 | S13: 1 | T13: 1 | U13: 1 | V13: 1 | W13: 2 | X13: 2 | Z13: 0 | AA13: nerelevantní
A14: Obchodní tajemství | Z14: 1 | AA14: nízká
A15: Zákonné a smluvní povinnosti | B15: 1 | C15: 1 | D15: 1 | E15: 1 | F15: 1 | G15: 2 | H15: 2 | I15: 2 | J15: 3 | K15: 1 | L15: 1 | M15: 1 | N15: 1 | O15: 1 | P15: 2 | Q15: 2 | R15: 2 | S15: 2 | T15: 2 | U15: 3 | V15: 3 | W15: 3 | X15: 3 | Z15: 2 | AA15: střední
A16: Narušení vnitřních řídících a kontrolních činností | B16: 1 | C16: 1 | D16: 1 | E16: 1 | F16: 1 | G16: 2 | H16: 2 | I16: 2 | J16: 3 | K16: 1 | L16: 1 | M16: 1 | N16: 1 | O16: 1 | P16: 2 | Q16: 2 | R16: 2 | S16: 2 | T16: 1 | U16: 1 | V16: 1 | W16: 2 | X16: 3 | Z16: 3 | AA16: vysoká
A17: Veřejný pořádek | Z17: 4 | AA17: kritická
A18: Finanční ztráty | B18: 1 | C18: 1 | D18: 1 | E18: 1 | F18: 1 | G18: 2 | H18: 2 | I18: 2 | J18: 3 | K18: 1 | L18: 1 | M18: 1 | N18: 1 | O18: 1 | P18: 2 | Q18: 2 | R18: 2 | S18: 2 | T18: 2 | U18: 3 | V18: 3 | W18: 3 | X18: 3
A19: Zajišťování nezbytných nebo základních služeb | B19: 1 | C19: 1 | D19: 1 | E19: 1 | F19: 1 | G19: 2 | H19: 2 | I19: 2 | J19: 3 | K19: 1 | L19: 1 | M19: 1 | N19: 1 | O19: 1 | P19: 2 | Q19: 2 | R19: 2 | S19: 2 | T19: 1 | U19: 1 | V19: 1 | W19: 2 | X19: 3
A20: Narušení běžných činností
A21: Ztráta důvěryhodnosti | B21: 1 | C21: 1 | D21: 1 | E21: 1 | F21: 1 | G21: 2 | H21: 2 | I21: 2 | J21: 3 | K21: 1 | L21: 1 | M21: 1 | N21: 1 | O21: 1 | P21: 2 | Q21: 2 | R21: 2 | S21: 2 | T21: 1 | U21: 2 | V21: 3 | W21: 3 | X21: 3
A22: Bezpečnost a zdraví osob
A23: Dopad na uživatele IS nebo KS | B23: 1 | C23: 1 | D23: 1 | E23: 1 | F23: 1 | G23: 2 | H23: 2 | I23: 2 | J23: 3 | K23: 1 | L23: 1 | M23: 1 | N23: 1 | O23: 1 | P23: 3 | Q23: 3 | R23: 3 | S23: 3 | T23: 1 | U23: 1 | V23: 1 | W23: 2 | X23: 3
A24: Mezinárodní vztahy
A25: Trestně-právní řízení
A26: Komentář k dopadům (uveďte odůvodnění k následkům narušení dostupnosti-odkdy a proč začíná mít nedostupnost negativní dopad, narušení důvěrnosti-např. porušení pravidel obecného nařízení GDPR, narušení integrity dat-např. chyba při zpracování dat agendy) | B26: Stejně jako u primárního aktiva P1 se dopady narušení dostupnosti odvíjí od lhůt, které je ministerstvo povinno dodržovat. V tomto případě se hodnoty ztráty odvíjí od hodnot narušení dostupnosti, neboť jsme schopni nahradit práci, kterou bylo potřeba vykonat pro vypracování rozhodnutí a vypracovat jej znovu, ale je na to potřeba mít dostatek času. Rozhodnutí se posléze zasílají jednotlivým žadatelům o certifikaci a některá rozhodnutí by se v případě ztráty dala do systému zpětně nahrát. Rozhodnutí se odesílají individuálně co nejdříve je možné, neshromažďují a neposílají se hromadně (např. každý druhý den v 15:00). Proces se řídí správním řádem, únik informací může být potrestán pokutou, pokud by se informace z rozhodnutí dostaly na veřejnost, hrozí žaloby ze strany výrobců. Dopady narušení integrity jsou obdobné jako u primárního aktiva P1. V případě dopadu na uživatele u narušení dostupnosti jsou dopady shodné jako u porušení zákonných a smluvních povinností, uživatel se dostane ke všem podkladům, ale nemůže vydat rozhodnutí (vykonávat svoji pracovní činnost). V případě narušení integrity by uživatel musel rozhodnutí opravovat, což by stálo jeho pracovní čas. Únik dat neovlivní výkon uživatele. Finanční ztráty úzce souvisí se zákonnými a smluvními povinnostmi, stejně jako u předchozího primárního aktiva. Provoz není ovlivněn ztrátou důvěrnosti, v případně narušení integrity nebo ztráty bude potřeba data rekonstruovat. V případě nedostupnosti není možné vykonávat běžnou pracovní činnost spojenou s vydáváním rozhodnutí. Při úniku osobních informací jsou ovlivněni jednotlivci (např. jméno, příjmení kontaktní osoby).

Sheet P3
A1: Název primárního aktiva: | B1: ='Katalog primárních aktiv'!B5 -> Žádosti, technická dokumentace
A2: Gestor primárního aktiva: | B2: ='Katalog primárních aktiv'!F5 -> náměstek sekce certifikací (Martin Novotný)
A3: Garant primárního aktiva: | B3: ='Katalog primárních aktiv'!G5 -> ředitel odboru certifikací 1 (Jan Novák), ředitelka odboru certifikací 2 (Tereza Černá)
A4: Datum hodnocení: | B4: 46055
A5: Výsledné hodnocení primárního aktiva (nejvyšší hodnoty jednotlivých atributů) | B5: Dostupnost | E5: 3
B6: Ztráta | E6: =MAX(K12:S25) -> 3
B7: Důvěrnost | E7: =MAX(T12:V25) -> 3
B8: Integrita | E8: =MAX(W12:X25) -> 3
B10: Dostupnost | K10: Ztráta | T10: Důvěrnost | W10: Integrita
A11: Oblasti dopadu | B11: Nedostupnost 15 min | C11: Nedostupnost 1 h | D11: Nedostupnost 4 h | E11: Nedostupnost 8 h | F11: Nedostupnost 1den | G11: Nedostupnost 2 dny | H11: Nedostupnost 1 týden | I11: Nedostupnost 14 dní | J11: Nedostupnost měsíc a více | K11: Ztráta dat od zálohy (15 min) | L11: Ztráta dat od zálohy (1 h) | M11: Ztráta dat od zálohy (4 h) | N11: Ztráta dat od zálohy (8 h) | O11: Ztráta dat od zálohy (1 den) | P11: Ztráta dat od zálohy (2 dny) | Q11: Ztráta dat od zálohy (1 týden) | R11: Ztráta dat od zálohy (14 dní) | S11: Úplná ztráta dat | T11: Prozrazení v rámci organizace | U11: Prozrazení smluvním partnerům | V11: Prozrazení vně organizaci | W11: Modifikace dat malého rozsahu | X11: Modifikace dat velkého rozsahu
A12: Ochrana osobních údajů - dopady na subjekty osobních údajů | B12: 1 | C12: 1 | D12: 1 | E12: 1 | F12: 1 | G12: 1 | H12: 1 | I12: 1 | J12: 1 | K12: 1 | L12: 1 | M12: 1 | N12: 1 | O12: 1 | P12: 1 | Q12: 1 | R12: 1 | S12: 1 | T12: 2 | U12: 2 | V12: 2 | W12: 2 | X12: 2 | Z12: Úrovně dopadu
A13: Ochrana osobních údajů - finanční újma subjektů údajů | B13: 1 | C13: 1 | D13: 1 | E13: 1 | F13: 1 | G13: 1 | H13: 1 | I13: 1 | J13: 1 | K13: 1 | L13: 1 | M13: 1 | N13: 1 | O13: 1 | P13: 1 | Q13: 1 | R13: 1 | S13: 1 | T13: 2 | U13: 2 | V13: 2 | W13: 2 | X13: 2 | Z13: 0 | AA13: nerelevantní
A14: Obchodní tajemství | Z14: 1 | AA14: nízká
A15: Zákonné a smluvní povinnosti | B15: 1 | C15: 1 | D15: 1 | E15: 1 | F15: 1 | G15: 2 | H15: 2 | I15: 2 | J15: 3 | K15: 1 | L15: 1 | M15: 1 | N15: 1 | O15: 1 | P15: 1 | Q15: 1 | R15: 1 | S15: 1 | T15: 2 | U15: 3 | V15: 3 | W15: 3 | X15: 3 | Z15: 2 | AA15: střední
A16: Narušení vnitřních řídících a kontrolních činností | B16: 1 | C16: 1 | D16: 1 | E16: 1 | F16: 1 | G16: 2 | H16: 2 | I16: 2 | J16: 3 | K16: 1 | L16: 1 | M16: 1 | N16: 1 | O16: 1 | P16: 2 | Q16: 2 | R16: 2 | S16: 2 | T16: 1 | U16: 1 | V16: 1 | W16: 3 | X16: 3 | Z16: 3 | AA16: vysoká
A17: Veřejný pořádek | Z17: 4 | AA17: kritická
A18: Finanční ztráty | B18: 1 | C18: 1 | D18: 1 | E18: 1 | F18: 1 | G18: 2 | H18: 2 | I18: 2 | J18: 3 | K18: 1 | L18: 1 | M18: 1 | N18: 1 | O18: 1 | P18: 2 | Q18: 2 | R18: 2 | S18: 2 | T18: 2 | U18: 3 | V18: 3 | W18: 3 | X18: 3
A19: Zajišťování nezbytných nebo základních služeb | B19: 1 | C19: 1 | D19: 1 | E19: 1 | F19: 1 | G19: 2 | H19: 2 | I19: 2 | J19: 3 | K19: 1 | L19: 1 | M19: 1 | N19: 1 | O19: 1 | P19: 1 | Q19: 1 | R19: 1 | S19: 1 | T19: 1 | U19: 1 | V19: 1 | W19: 3 | X19: 3
A20: Narušení běžných činností
A21: Ztráta důvěryhodnosti | B21: 1 | C21: 1 | D21: 1 | E21: 1 | F21: 1 | G21: 2 | H21: 2 | I21: 2 | J21: 3 | K21: 1 | L21: 1 | M21: 1 | N21: 1 | O21: 1 | P21: 1 | Q21: 1 | R21: 1 | S21: 1 | T21: 1 | U21: 2 | V21: 3 | W21: 3 | X21: 3
A22: Bezpečnost a zdraví osob
A23: Dopad na uživatele IS nebo KS | B23: 1 | C23: 1 | D23: 2 | E23: 3 | F23: 3 | G23: 3 | H23: 4 | I23: 4 | J23: 4 | K23: 1 | L23: 1 | M23: 1 | N23: 1 | O23: 1 | P23: 1 | Q23: 2 | R23: 2 | S23: 3 | T23: 1 | U23: 1 | V23: 1 | W23: 3 | X23: 3
A24: Mezinárodní vztahy
A25: Trestně-právní řízení
A26: Komentář k dopadům (uveďte odůvodnění k následkům narušení dostupnosti-odkdy a proč začíná mít nedostupnost negativní dopad, narušení důvěrnosti-např. porušení pravidel obecného nařízení GDPR, narušení integrity dat-např. chyba při zpracování dat agendy) | B26: Většina hodnot dopadu se odvíjí od stejných důvodů, jako u přechozích dvou primárních aktiv (P1 a P2). Největší rozdíly jsou v oblasti dopadu na uživatele, neboť podání žádosti a poskytnutí technické dokumentace senzorů je počátek procesu certifikace a pokud by uživatel neměl k těmto informacím přístup, nemohl by začít vykonnávat činnosti nutné k dokončení celého procesu. V rámci procesu certifikace je možné ze strany žadatele žádost aktualizovat/doplnit a podle množství změn je pak celý proces certifikace přiměřeně prodloužen, aby mohly být všechny nové skutečnosti dostatečně zohledněny.

Sheet P4
A1: Název primárního aktiva: | B1: ='Katalog primárních aktiv'!B6 -> Informace o průběhu certifikace
A2: Gestor primárního aktiva: | B2: ='Katalog primárních aktiv'!F6 -> náměstek sekce certifikací (Martin Novotný)
A3: Garant primárního aktiva: | B3: ='Katalog primárních aktiv'!G6 -> ředitel odboru certifikací 1 (Jan Novák), ředitelka odboru certifikací 2 (Tereza Černá)
A4: Datum hodnocení: | B4: 46055
A5: Výsledné hodnocení primárního aktiva (nejvyšší hodnoty jednotlivých atributů) | B5: Dostupnost | E5: 3
B6: Ztráta | E6: =MAX(K12:S25) -> 4
B7: Důvěrnost | E7: =MAX(T12:V25) -> 3
B8: Integrita | E8: =MAX(W12:X25) -> 3
B10: Dostupnost | K10: Ztráta | T10: Důvěrnost | W10: Integrita
A11: Oblasti dopadu | B11: Nedostupnost 15 min | C11: Nedostupnost 1 h | D11: Nedostupnost 4 h | E11: Nedostupnost 8 h | F11: Nedostupnost 1den | G11: Nedostupnost 2 dny | H11: Nedostupnost 1 týden | I11: Nedostupnost 14 dní | J11: Nedostupnost měsíc a více | K11: Ztráta dat od zálohy (15 min) | L11: Ztráta dat od zálohy (1 h) | M11: Ztráta dat od zálohy (4 h) | N11: Ztráta dat od zálohy (8 h) | O11: Ztráta dat od zálohy (1 den) | P11: Ztráta dat od zálohy (2 dny) | Q11: Ztráta dat od zálohy (1 týden) | R11: Ztráta dat od zálohy (14 dní) | S11: Úplná ztráta dat | T11: Prozrazení v rámci organizace | U11: Prozrazení smluvním partnerům | V11: Prozrazení vně organizaci | W11: Modifikace dat malého rozsahu | X11: Modifikace dat velkého rozsahu
A12: Ochrana osobních údajů - dopady na subjekty osobních údajů | B12: 1 | C12: 1 | D12: 1 | E12: 1 | F12: 1 | G12: 1 | H12: 1 | I12: 1 | J12: 1 | K12: 1 | L12: 1 | M12: 1 | N12: 1 | O12: 1 | P12: 1 | Q12: 1 | R12: 1 | S12: 1 | T12: 2 | U12: 2 | V12: 2 | W12: 2 | X12: 2 | Z12: Úrovně dopadu
A13: Ochrana osobních údajů - finanční újma subjektů údajů | B13: 1 | C13: 1 | D13: 1 | E13: 1 | F13: 1 | G13: 1 | H13: 1 | I13: 1 | J13: 1 | K13: 1 | L13: 1 | M13: 1 | N13: 1 | O13: 1 | P13: 1 | Q13: 1 | R13: 1 | S13: 1 | T13: 2 | U13: 2 | V13: 2 | W13: 2 | X13: 2 | Z13: 0 | AA13: nerelevantní
A14: Obchodní tajemství | Z14: 1 | AA14: nízká
A15: Zákonné a smluvní povinnosti | B15: 1 | C15: 1 | D15: 1 | E15: 1 | F15: 1 | G15: 2 | H15: 2 | I15: 2 | J15: 3 | K15: 1 | L15: 1 | M15: 1 | N15: 1 | O15: 1 | P15: 2 | Q15: 2 | R15: 2 | S15: 2 | T15: 2 | U15: 3 | V15: 3 | W15: 3 | X15: 3 | Z15: 2 | AA15: střední
A16: Narušení vnitřních řídících a kontrolních činností | B16: 1 | C16: 1 | D16: 1 | E16: 1 | F16: 1 | G16: 2 | H16: 2 | I16: 2 | J16: 3 | K16: 1 | L16: 1 | M16: 1 | N16: 1 | O16: 1 | P16: 2 | Q16: 2 | R16: 2 | S16: 2 | T16: 1 | U16: 1 | V16: 1 | W16: 2 | X16: 3 | Z16: 3 | AA16: vysoká
A17: Veřejný pořádek | Z17: 4 | AA17: kritická
A18: Finanční ztráty | B18: 1 | C18: 1 | D18: 1 | E18: 1 | F18: 1 | G18: 2 | H18: 2 | I18: 2 | J18: 3 | K18: 1 | L18: 1 | M18: 1 | N18: 1 | O18: 1 | P18: 2 | Q18: 2 | R18: 2 | S18: 2 | T18: 2 | U18: 3 | V18: 3 | W18: 3 | X18: 3
A19: Zajišťování nezbytných nebo základních služeb | B19: 1 | C19: 1 | D19: 1 | E19: 1 | F19: 1 | G19: 2 | H19: 2 | I19: 2 | J19: 3 | K19: 1 | L19: 1 | M19: 1 | N19: 1 | O19: 1 | P19: 2 | Q19: 2 | R19: 2 | S19: 2 | T19: 1 | U19: 1 | V19: 1 | W19: 2 | X19: 3
A20: Narušení běžných činností
A21: Ztráta důvěryhodnosti | B21: 1 | C21: 1 | D21: 1 | E21: 1 | F21: 1 | G21: 2 | H21: 2 | I21: 2 | J21: 3 | K21: 1 | L21: 1 | M21: 1 | N21: 1 | O21: 1 | P21: 2 | Q21: 2 | R21: 2 | S21: 2 | T21: 1 | U21: 2 | V21: 3 | W21: 3 | X21: 3
A22: Bezpečnost a zdraví osob
A23: Dopad na uživatele IS nebo KS | B23: 1 | C23: 1 | D23: 1 | E23: 1 | F23: 1 | G23: 2 | H23: 3 | I23: 4 | J23: 4 | K23: 1 | L23: 1 | M23: 1 | N23: 1 | O23: 1 | P23: 3 | Q23: 3 | R23: 3 | S23: 4 | T23: 1 | U23: 1 | V23: 1 | W23: 2 | X23: 3
A24: Mezinárodní vztahy
A25: Trestně-právní řízení
A26: Komentář k dopadům (uveďte odůvodnění k následkům narušení dostupnosti-odkdy a proč začíná mít nedostupnost negativní dopad, narušení důvěrnosti-např. porušení pravidel obecného nařízení GDPR, narušení integrity dat-např. chyba při zpracování dat agendy) | B26: Důvody pro hodnocení tohoto primárního aktiva ve značné míře kopírují důvody uvedené u předchozích primárních aktiv (P1-P3). Nejvýraznější rozdíl je v oblasti ztráty dat a dopadu na uživatele, neboť pokud by se ztratily všechny informace o průběhu certifikace z agendového systému, přišel by uživatel o veškerou svoji práci vykonanou v rámci procesu certifikace a v nejhorším možném případě by byl nucen začít od začátku, což by s sebou neslo značnou časovou náročnost. V případě, že by informační systém nebyl dostupný, opět by uživatel nebyl schopen pracovat a naplňovat tak hlavní účel vzniku Ministerstva certifikací - tedy certifikovat senzory.

Sheet HR primární aktiva
A1: HODNOCENÍ RIZIK
A2: ID | B2: Aktivum | C2: Ovlivněný atribut | D2: Hodnota dopadu (max podle ovlivněného atributu) | E2: Rizikový scénář | F2: Pravděpodobnost realizace scénáře | G2: Hodnota rizika | H2: Zvládání rizik | I2: Opatření
A3: R1 | B3: Služba certifikace senzorů | C3: A | D3: 3 | E3: Používáme zastaralé technologie a z důvodu technické závady nebude fungovat informační systém podporující službu certifikace senzorů | F3: 4 | G3: =D3*F3 -> 12 | H3: Redukce | I3: Vytvořit podrobné hodnocení rizik podpůrných aktiv všech systémů podporujících službu certifikace senzorů
A4: R2 | B4: Žádosti, technická dokumentace | C4: C | D4: 3 | E4: Uniknou citlivá data žadatelů o certifikaci | F4: 3 | G4: =D4*F4 -> 9 | H4: Redukce | I4: Chránit citlivá data (žádosti, technická dokumentace, atd.) organizačně
A5: R3 | B5: Služba certifikace senzorů | C5: A | D5: 3 | E5: Nedostupnost služby déle než pracovní den | F5: 2 | G5: =D5*F5 -> 6 | H5: Sledování
A6: R4 | B6: Služba certifikace senzorů | C6: A | D6: 3 | E6: Pouze jedna serverovna, v případě jejího poškození není zajištěna redundance a kontinuita činností | F6: 3 | G6: =D6*F6 -> 9 | H6: Redukce | I6: Zajistit si záložní serverovnu v jiné lokalitě
A7: R5 | B7: Služba certifikace senzorů | C7: CIA | D7: 3 | E7: Aktivní prvky jsou bez podpory, zvýšené riziko šíření škodlivého kódu | F7: 4 | G7: =D7*F7 -> 12 | H7: Redukce | I7: Pořídit aktivní prvky s podporou
A8: R6 | B8: Služba certifikace senzorů | C8: CIA | D8: 3 | E8: Nedostatek kompetentních zaměstnanců pro oblast bezpečnosti informací, což vede k nedostatečnému zabezpečení | F8: 3 | G8: =D8*F8 -> 9 | H8: Redukce | I8: Zajistit dostatečné množství kompetentncích zaměstnanců
A9: R7 | B9: Služba certifikace senzorů | C9: A | D9: 3 | E9: Interní audit identifikoval nedostatečné, chybějící a netestované plány kontinuity činností a DRP plány | F9: 4 | G9: =D9*F9 -> 12 | H9: Redukce | I9: Zpracovat a pravidelně testovat plány kontinuity a DRP plány
A10: R8 | B10: Služba certifikace senzorů | C10: A | D10: 3 | E10: Schází testovací prostředí pro klíčové informační systémy | F10: 1 | G10: =D10*F10 -> 3 | H10: Akceptace
A11: R9 | B11: Služba certifikace senzorů | C11: CIA | D11: 3 | E11: Neprobíhá školení při nasazení nové verze informačního systému a uživatelé se musí naučit s ním pracovat metodou "pokus-omyl" | F11: 2 | G11: =D11*F11 -> 6 | H11: Sledování
A12: R10 | B12: Služba certifikace senzorů | C12: CIA | D12: 3 | E12: Jsou uzavřeny historické smlouvy s dodavateli, které nebyly od jejich uzavření dodatkovány a nezohledňují aktuální požadavky na kybernetickou bezpečnost | F12: 3 | G12: =D12*F12 -> 9 | H12: Redukce | I12: Dodatkovat stávající smlouvy nebo uzavřít nové smlouvy
A13: R11 | B13: Služba certifikace senzorů | C13: CIA | D13: 3 | E13: V síti se nachází technologie od výrobců, na které upozorňuje varování NÚKIB ze 17.12.2018 | F13: 3 | G13: =D13*F13 -> 9 | H13: Redukce | I13: Provést podrobné hodnocení rizik u dotčených aktiv a na základě tohoto hodnocení rozhodnout o dalším postupu
A14: R12 | B14: Elektronická pošta | C14: CIA | D14: 3 | E14: Není reflektováno doporučení NÚKIB | F14: 3 | G14: =D14*F14 -> 9 | H14: Redukce | I14: Zavést opatření podle doporučení NÚKIB
A15: R13 | B15: Služba certifikace senzorů | C15: CIA | D15: 3 | E15: Není implementován SIEM, který by vyhodnocoval KBU v informačním systému pro evidenci a zpracování procesu certifikace senzorů | F15: 2 | G15: =D15*F15 -> 6 | H15: Sledování
A16: R14 | B16: všechny KII a VIS | C16: CIA | D16: 3 | E16: Nejsou určeni významní dodavatelé a provozovatelé v souladu s ZKB a VKB | F16: 2 | G16: =D16*F16 -> 6 | H16: Sledování
A17: R15 | B17: všechny KII a VIS | C17: CIA | D17: 3 | E17: Nebyla provedena BIA a chybí cíle řízení kontinuity činností | F17: 3 | G17: =D17*F17 -> 9 | H17: Redukce | I17: Zpracovat BIA a nastavit cíle řízení kontinuity činností
A18: R16 | B18: S3: Vedení úřední desky | C18: A | D18: 4 | E18: Není implementována ochrana proti DDoS útokům | F18: 3 | G18: =D18*F18 -> 12 | H18: Redukce | I18: Implementovat ochranu proti DDoS útokům
A19: R17 | B19: P5: Zveřejněné informace na úřední desce | C19: CIA | D19: 4 | E19: Nálezy z penetračních testů odhalily nedostatky v zabezpečení úřední desky | F19: 4 | G19: =D19*F19 -> 16 | H19: Redukce | I19: Odstranit nálezy z penetračního testování
A20: R18 | B20: P4: Informace o průběhu certifikace | C20: I | D20: 3 | E20: Není implementováno automatické prodlužování platnosti časových razítek | F20: 2 | G20: =D20*F20 -> 6 | H20: Sledování
A21: R19 | B21: P1: Seznam certifikovaných senzorů | C21: CI | D21: 3 | E21: Nejsou dostatečně popsány procesy archivace expirovaných certifikátů | F21: 2 | G21: =D21*F21 -> 6 | H21: Sledování
A22: R20 | B22: u všech informací | C22: C | D22: 3 | E22: Není zavedena klasifikace informací | F22: 3 | G22: =D22*F22 -> 9 | H22: Redukce | I22: Zavést klasifikaci informací a vynucovat její dodržování
A23: R21 | B23: Služba certifikace senzorů | C23: A | D23: 3 | E23: Není ošetřena maximální možná kapacita na vkládání dokumentace žadatelem | F23: 4 | G23: =D23*F23 -> 12 | H23: Redukce | I23: Zavést omezení vkládané dokumentace
A24: R22 | B24: P3: Žádosti, technická dokumentace | C24: CI | D24: 3 | E24: Nedostatečné logování přístupů k žádostem a technické dokumentaci, což má za následek nedostatečnou identifikaci uživatelů přistupujících ke konkrétní dokumentaci | F24: 2 | G24: =D24*F24 -> 6 | H24: Sledování
A25: R23 | B25: P2: Rozhodnutí | C25: CI | D25: 3 | E25: Nejsou technicky vynuceny přístupová oprávnění k rozhodnutím o vydání certifikátu | F25: 3 | G25: =D25*F25 -> 9 | H25: Redukce | I25: Zavést řízení přístupových oprávnění na základě rolí a technicky jej vynucovat
A26: R24 | B26: S9: Služba elektronické pošty | C26: CIA | D26: 3 | E26: Uživatelé nejsou školení na phising atd. | F26: 3 | G26: =D26*F26 -> 9 | H26: Redukce | I26: Proškolit uživatele na nejčastější hrozby spojené s využíváním elektronické pošty
A27: R25 | B27: u všech služeb | C27: CIA | D27: 3 | E27: Není zpracováno hodnocení rizik pro jednotlivé určené IS a nejsou identifikována potřebná bezpečnostní opatření | F27: 4 | G27: =D27*F27 -> 12 | H27: Redukce | I27: Provést podrobnou AR
A28: … | B28: … | C28: … | D28: … | E28: … | F28: … | G28: … | H28: … | I28: …

Sheet ciselniky
B2: Kategorie dopadů | C2: Úrovně dopadů
B3: Bezpečnost a zdraví osob | C3: 1 | D3: nízký
B4: Ochrana osobních údajů | C4: 2 | D4: střední
B5: Povinnosti ze zákona | C5: 3 | D5: vysoký
B6: Trestně-právní jednání | C6: 4 | D6: kritický
B7: Veřejný pořádek
B8: Mezinárodní vztahy
B9: Obrana státu
B10: Bezpečnostní a zpravodajské zájmy
B11: Řízení a provoz OVM
B12: Ztráta důvěryhodnosti
B13: Finanční ztráty
B14: Narušení služeb veřejnosti
