Workbook

Sheet Verze
A1: PŘÍLOHA 6: HODNOCENÍ AKTIV A RIZIK - MINISTERSTVO PRO CERTIFIKACI SENZORŮ
A2: CITLIVÉ TLP:AMBER
A3: Datum | B3: Verze | C3: Změneno | D3: Provedená změna
A4: 46078 | B4: 1.0 | C4: Manažer KB | D4: Vytvoření dokumentu
A5: 46085 | B5: 1.0 | C5: Výbor pro řízení KB | D5: Schválení dokumentu

Sheet Tabulky
C1: Dostupnost | O1: Ztráta | X1: Důvěrnost | AA1: Integrita
A2: Výsledná hodnota | C2: Dostupnost | D2: Provozní doba pod SLA | E2: Přípustná doba kumulovaných výpadků s měsíčním vyhodnocováním | F2: Nedostupnost 15 min | G2: Nedostupnost 1h | H2: Nedostupnost 4 h | I2: Nedostupnost 8 h | J2: Nedostupnost 1den | K2: Nedostupnost 2 dny | L2: Nedostupnost 1 týden | M2: Nedostupnost 14 dní | N2: Nedostupnost měsíc a více | O2: Ztráta dat od zálohy (15 min) | P2: Ztráta dat od zálohy (1 h) | Q2: Ztráta dat od zálohy (4 h) | R2: Ztráta dat od zálohy (8 h) | S2: Ztráta dat od zálohy (1 den) | T2: Ztráta dat od zálohy (2 dny) | U2: Ztráta dat od zálohy (1 týden) | V2: Ztráta dat od zálohy (14 dní) | W2: Úplná ztráta dat | X2: Prozrazení v rámci organizace | Y2: Prozrazení smluvním partnerům | Z2: Prozrazení vně organizaci | AA2: Modifikace dat malého rozsahu | AB2: Modifikace dat velkého rozsahu
A3: 0 | B3: Nerelevantní
A4: 1 | B4: nízká | C4: 0.9616 | D4: Provozní doba pod SLA: minimálně určených 10 hodin v pracovní dny. Nezapočítávají se dny pracovního volna a dny pracovního klidu stanovené pro ČR. Např. r. 2018 má 250 pracovních dní, na bázi 10 hod. pod SLA denně, což dává max. měsíční výpadek 8,3 hod. při dostupnosti 96 % (vztaženo na dobu pod SLA). | E4: Max. 8 hod., avšak pouze v rámci definované pracovní doby | F4: 1 | G4: 1 | H4: 1 | I4: 1 | J4: 1 | K4: 1 | L4: 2 | M4: 2 | N4: 2 | O4: nejvyšší hodnota | X4: nejvyšší hodnota | AA4: nejvyšší hodnota
A5: 2 | B5: střední | C5: 0.9945 | D5: Provozní doba pod SLA: 24x7 (připravenost pro služby související s úplným el. podáním). Avšak určité služby, u nichž to lze předpokládat vzhledem k provozním aspektům, lze nabízet s omezením Provozní doby pod SLA na pracovní dny a vymezenou pracovní dobu. To znamená, že el. podání bude obvykle fungovat nepřetržitě, ale reakce poskytovatele na nahlášené incidenty je omezena. | E5: Max. 4 hod. na bázi 24x7 | F5: 1 | G5: 1 | H5: 1 | I5: 2 | J5: 2 | K5: 3 | L5: 3 | M5: 3 | N5: 3
A6: 3 | B6: vysoká | C6: 0.999 | D6: Provozní doba pod SLA: 24x7 (připravenost pro služby úplného el. podání). Určité služby, u nichž to lze předpokládat vzhledem k provozním aspektům, lze nabízet s omezením Provozní doby pod SLA na pracovní dny a vymezenou pracovní dobu. | E6: Max. 43 min. na bázi 24x7 | F6: 1 | G6: 1 | H6: 3 | I6: 3 | J6: 3 | K6: 3 | L6: 4 | M6: 4 | N6: 4
A7: 4 | B7: kritická | C7: 0.9999 | D7: Plně fault-tolerantní systém s georedundancí a replikací transakčních dat. Smluvní penále při výpadku dostupnosti služby delší než celkem 52 minut za rok (odpovídá 99,99 %). | E7: Jednotlivý výpadek max. 15 min. Max. kumulovaný roční výpadek 52 min. (odpovídá 99,99 %) | F7: 1-2 | G7: 3-4
C9: STUPNICE PRO HODNOCENÍ HROZEB
C10: 1 | D10: nízká | E10: Hrozba neexistuje nebo je málo pravděpodobná. Předpokládaná realizace hrozby není častější než jednou za 5 let.
C11: 2 | D11: střední | E11: Hrozba je málo pravděpodobná až pravděpodobná. Předpokládaná realizace hrozby je v rozpětí od 1 roku do 5 let
C12: 3 | D12: vysoká | E12: Hrozba je pravděpodobná až velmi pravděpodobná. Předpokládaná realizace hrozby je v rozpětí od 1 měsíce do 1 roku.
C13: 4 | D13: kritická | E13: Hrozba je velmi pravděpodobná až víceméně jistá. Předpokládaná realizace hrozby je častější než jednou za měsíc.
C15: STUPNICE PRO HODNOCENÍ ZRANITELNOSTÍ
C16: 1 | D16: nízká | E16: Zranitelnost neexistuje nebo je zneužití zranitelnosti málo pravděpodobné. Jsou zavedena bezpečnostní opatření, která jsou schopna včas detekovat možné zranitelnosti nebo případné pokusy o jejich zneužití.
C17: 2 | D17: střední | E17: Zneužití zranitelnosti je málo pravděpodobné až pravděpodobné. Jsou zavedena bezpečnostní opatření, jejichž účinnost je pravidelně kontrolována. Schopnost bezpečnostních opatření včas detekovat možné zranitelnosti nebo případné pokusy o překonání opatření je omezena. Nejsou známé žádné úspěšné pokusy o překonání bezpečnostních opatření.
C18: 3 | D18: vysoká | E18: Zneužití zranitelnosti je pravděpodobné až velmi pravděpodobné. Bezpečnostní opatření jsou zavedena, ale jejich účinnost nepokrývá všechny potřebné aspekty a není pravidelně kontrolována. Jsou známé dílčí úspěšné pokusy o překonání bezpečnostních opatření.
C19: 4 | D19: kritická | E19: Zneužití zranitelnosti je velmi pravděpodobné až víceméně jisté. Bezpečnostní opatření nejsou realizována nebo je jejich účinnost značně omezena. Neprobíhá kontrola účinnosti bezpečnostních opatření. Jsou známé úspěšné pokusy překonání bezpečnostních opatření.
C21: STUPNICE PRO HODNOCENÍ RIZIK | F21: PROCES ZVLÁDÁNÍ RIZIKA
C22: 1-16 | D22: nízká | E22: Riziko je považováno za přijatelné – akceptovatelné. | F22: Riziko akceptuje manažer KB ve spolupráci s gestorem aktiva. Dále riziko monitorují. V případě zájmu se výbor KB může o těchto rizicích informovat.
C23: 17-31 | D23: střední | E23: Riziko může být sníženo méně náročnými opatřeními nebo v případě vyšší náročnosti opatření je riziko akceptovatelné. | F23: V případě způsobu zvládání rizika „Akceptovat“ riziko akceptuje manažer KB ve spolupráci s gestorem aktiva. V případě způsobu zvládání rizika „Snížit“ navrhuje bezpečnostní opatření architekt KB ve spolupráci s manažerem KB. Navržený způsob zvládání rizik včetně bezpečnostního opatření prezentuje manažer KB Výboru pro KB, který jej buď schválí, nebo rozhodne o jiném způsobu zvládání.
C24: 32-47 | D24: vysoká | E24: Riziko je dlouhodobě nepřípustné a musí být zahájeny systematické kroky k jeho odstranění. | F24: Způsob zvládání rizika navrhuje manažer KB ve spolupráci s gestorem aktiva. V případě návrhu způsobu zvládání rizika „Snížit“ navrhuje bezpečnostní opatření architekt KB ve spolupráci s manažerem KB. Navržený způsob zvládání rizik včetně bezpečnostního opatření prezentuje manažer KB Výboru pro KB, který jej buď schválí, nebo rozhodne o jiném způsobu zvládání.
C25: 48-64 | D25: kritická | E25: Riziko je nepřípustné a musí být neprodleně zahájeny kroky k jeho odstranění. | F25: Způsob zvládání rizika navrhuje manažer KB ve spolupráci s gestorem aktiva. V případě návrhu způsobu zvládání rizika „Snížit“ navrhuje bezpečnostní opatření architekt KB ve spolupráci s manažerem KB. Navržený způsob zvládání rizik včetně bezpečnostního opatření prezentuje manažer KB Výboru pro KB, který jej buď schválí, nebo rozhodne o jiném způsobu zvládání. V případě naléhavosti zvládnutí rizika lze postupovat způsobem popsaným v metodice.

Sheet Matice dopadu
B2: Úroveň | D2: Ochrana osobních údajů – dopady na subjekty | E2: Ochrana osobních údajů – finanční újma subjektů údajů | F2: Obchodní tajemství | G2: Zákonné a smluvní povinnosti | H2: Narušení vnitřních řídících a kontrolních činností | I2: Veřejný pořádek | J2: Finanční ztráty | K2: Poskytování důležitých služeb | L2: Narušení běžných činností | M2: Ztráta důvěryhodnosti | N2: Bezpečnost a zdraví osob | O2: Mezinárodní vztahy | P2: Dopad na uživatele regulované služby | Q2: Trestně-právní řízení
D3: (písm. a) přílohy č. 1 tab. č. 4 vyhlášky) | E3: (písm. a) přílohy č. 1 tab. č. 4 vyhlášky) | F3: (písm. a) přílohy č. 1 tab. č. 4 vyhlášky) | G3: (písm. b) přílohy č. 1 tab. č. 4 vyhlášky) | H3: (písm. c) přílohy č. 1 tab. č. 4 vyhlášky) | I3: (písm. d) přílohy č. 1 tab. č. 4 vyhlášky) | J3: (písm. d) přílohy č. 1 tab. č. 4 vyhlášky) | K3: (písm. e) přílohy č. 1 tab. č. 4 vyhlášky) | L3: (písm. f) přílohy č. 1 tab. č. 4 vyhlášky) | M3: (písm. g) přílohy č. 1 tab. č. 4 vyhlášky) | N3: (písm. h) přílohy č. 1 tab. č. 4 vyhlášky) | O3: (písm. i) přílohy č. 1 tab. č. 4 vyhlášky) | P3: (písm. j) přílohy č. 1 tab. č. 4 vyhlášky) | Q3: (nad rámec vyhlášky)
B4: 1 | C4: nízká | D4: Může vést k nepohodlí subjektu osobních údajů (podrážděnost, krátkodobé časové nároky pro opětovné zadávání údajů, nutnost další komunikace s organizací). | E4: žádné vodítko | F4: žádné vodítko | G4: žádné vodítko | H4: žádné vodítko | I4: žádné vodítko | J4: Může přímo nebo nepřímo vést ke ztrátám menším než 0,05 % ročního rozpočtu, popř. obratu organizace (v závislosti na typu organizace). | K4: Může způsobit drobné komplikace pro malé množství osob. | L4: K narušení běžných činností nedochází, nanejvýše ke zvýšeným časovým nárokům při provádění běžných činností. | M4: Může negativně ovlivnit vztahy s jinými částmi organizace, jinými organizacemi nebo vztahy s veřejností, negativní publicita bude ale omezena na bezprostřední okolí a nebude mít dlouhé trvání. Např. pro osobní údaje - nepříjemnosti s klienty, nutnost jednání s dalšími klienty, nutnost jednání s dalšími subjekty, negativní někdy i veřejná reakce subjektů údajů apod. | N4: žádné vodítko | O4: Může mít negativní vliv na spolupráci organizace se zahraniční společností. Např. pro osobní údaje - může vyvolat nutnost jednání mezi organizací a zahraničním partnerem o charakteristikách zpracování osobních údajů. | P4: Může způsobit krátkodobé nepříjemnosti při používání IS (zdržení a podráždění uživatelů, jiné zdravotní dopady na uživatele nehrozí). | Q4: žádné vodítko
B5: 2 | C5: střední | D5: Může vést k menší újmě subjektu osobních údajů (stres, nepohodlí, drobné fyzické obtíže, nedostatek porozumění, omezení přístupu ke službám organizace nebo jiných subjektů, časové nároky spojené s řešením dopadů). | E5: Odhadovaná finanční újma do 5000 Kč/subjekt údajů. | F5: Může mít negativní dopad na skutečnosti obchodní, výrobní či technické povahy související s podnikem, které mají skutečnou nebo alespoň potenciální materiální či nemateriální hodnotu. | G5: Může zapříčinit porušení interních předpisů a postupů, nikoli však porušení zákonných a smluvních povinností, např. provozní důvody, nedostatek zaměstnanců. | H5: Může mít negativní dopad na řídící a kontrolní činnosti organizace. | I5: Může zapříčinit rozsahem, formou nebo místem omezené protesty (lokální nepokoje). | J5: Může přímo nebo nepřímo vést ke ztrátám mezi 0,05 % a 2 % ročního rozpočtu, popř. obratu organizace (v závislosti na typu organizace). | K5: Může způsobit omezení či narušení nezbytných nebo základních služeb pro malé množství osob, může způsobit krátkodobý výpadek služeb organizace. Může způsobit méně závažné finanční ztráty. | L5: Může omezit provádění běžných činností, narušit řádné řízení nebo fungování části nebo celé organizace. | M5: Může negativně ovlivnit vztahy s jinými organizacemi nebo veřejností, negativní publicita se ale bude týkat omezené zájmové skupiny nebo bude široká, avšak krátkodobá. Např. pro osobní údaje - úbytek klientů o 10 % u organizace, krátkodobé omezení přístupu ke službám využívaným správcem, negativní, avšak krátkodobé ohlasy v médiích. | N5: Může vést k újmě (ohrožení osobní bezpečnosti, svobody nebo zranění) jedné nebo několika osob. | O5: Může vytvářet negativní obraz organizace v jednom teritoriu, popř. v jednom státě. Např. pro osobní údaje - může vést k dočasnému omezení zahraniční participace na zpracování osobních údajů. | P5: Může negativně ovlivnit výkon činnosti interního nebo externího uživatele IS (např. zvýšené časové nároky, stres uživatelů, drobné fyzické a zdravotní obtíže uživatelů). | Q5: Může vytvořit podmínky pro páchání trestné činnosti nebo může ztížit její vyšetřování.
B6: 3 | C6: vysoká | D6: Může vést k závažné újmě subjektu osobních údajů (napadení, nepříznivý zdravotní stav, deprese, ztížené uplatnění, ekonomické znevýhodnění (černé listiny), krádež identity, předvolání vyšetřujícími orgány). | E6: Odhadovaná finanční újma od 5000 Kč do 50 000 Kč/subjekt údajů (zneužití finančních prostředků subjektu údajů, poškození majetku). | F6: Může mít podstatný dopad na skutečnosti obchodní, výrobní či technické povahy související s podnikem, které mají skutečnou nebo alespoň potenciální materiální či nemateriální hodnotu. | G6: Může zapříčinit správní nebo občanskoprávní řízení vedoucí k pokutě nebo k náhradě škody. | H6: Může mít podstatný dopad na řídicí a kontrolní činnosti organizace a zapříčinit dočasné zastavení chodu či podstatný zásah do fungování organizace, značné finanční ztráty související s obnovením chodu. | I6: Může zapříčinit rozsahem, formou nebo místem omezené protesty na úrovni významné části správního území obce s rozšířenou působností, jejichž řešení si může vyžádat aktivaci krizového řízení na úrovni kraje. | J6: Může přímo nebo nepřímo vést ke ztrátám vyšším než 2 % a nižším či rovným 10 % ročního rozpočtu, popř. obratu organizace (v závislosti na typu organizace). | K6: Může způsobit závažné omezení či narušení nezbytných nebo základních služeb pro větší množství osob, omezení nebo krátkodobé zastavení přístupu ke službám. | L6: Může způsobit dočasné zastavení nebo podstatné narušení běžných činností organizace nebo poškodit rozvoj nebo prosazování cílů a zájmů organizace. | M6: Může závažně ovlivnit vztahy s jinými organizacemi nebo veřejností s následkem celostátní negativní publicity. Např. pro osobní údaje - úbytek klientů 10-50 % u organizace, masivní negativní, avšak krátkodobé ohlasy v médiích. | N6: Může vést k újmě (ohrožení osobní bezpečnosti, svobody nebo zranění) větší skupiny osob, nebo ohrožení na životě jednotlivců. | O6: Může vytvářet negativní obraz organizace ve světě. Např. pro osobní údaje - může být spojené s trvalým nebo dlouhodobým omezením participace zahraničních partnerů na zpracování osobních údajů. | P6: Může způsobit závažné krátkodobé omezení výkonu činnosti interního nebo externího uživatele IS (zhoršení zdravotního stavu uživatelů, krátkodobá pracovní neschopnost). | Q6: Může vést k narušení vyšetřování trestné činnosti nebo soudního řízení (méně závažná kriminalita, krátkodobě, v jednotlivých případech).
B7: 4 | C7: kritická | D7: Může vést k velmi vážné újmě subjektu osobních údajů, přímému ohrožení či ztrátě života (smrt, invalidita, dlouhodobě nepříznivý zdravotní stav a pracovní neschopnost, ztráta zaměstnání, velmi ztížené uplatnění, vyloučení, omezení práv). | E7: Odhadovaná finanční újma od 50 000 Kč/subjekt údajů (neschopnost splácet dluh, ztráta majetku). | F7: Může mít závažný dopad na skutečnosti obchodní, výrobní či technické povahy související s podnikem, které mají skutečnou nebo alespoň potenciální materiální či nemateriální hodnotu. | G7: Může zapříčinit porušení právních předpisů vedoucí k zahájení trestního stíhání. | H7: Může mít závažný dopad na řídicí a kontrolní činnosti a zapříčinit dlouhodobé zastavení chodu celé organizace. | I7: Může zapříčinit hromadné nepokoje, např. generální stávku, nebo jinak závažně narušit veřejný pořádek s celostátními dopady. | J7: Může přímo nebo nepřímo vést ke ztrátám přesahujícím 10 % ročního rozpočtu, popř. obratu organizace (v závislosti na typu organizace). | K7: Může způsobit rozsáhlé dlouhodobé omezení, narušení či nedostupnost poskytování nezbytných nebo základních služeb pro větší množství osob, může způsobit újmu (např. soudní proces, likvidace, vznik nesplatitelného dluhu). | L7: Může způsobit dlouhodobé zastavení běžných činností organizace. | M7: Může závažně a dlouhodobě ovlivní vztahy s jinými organizacemi nebo veřejností s následkem celostátní či nadnárodní negativní publicity, s dlouhodobými účinky a požadavky přijetí politické odpovědnosti. Např. pro osobní údaje - úbytek klientů nad 50 % u organizace, černé listiny, ztráta konkurenceschopnosti, masivní negativní dlouhodobé ohlasy v médiích včetně zahraničních. | N7: Může vést k přímému ohrožení či ztrátě života osob. | O7: Může negativně ovlivnit nebo poškodit diplomatické vztahy a tím způsobit nevýhodu pro zájmy ČR. Např. pro osobní údaje - dlouhodobé nebo trvalé omezení participace zahraničních subjektů nebo i států na zpracování osobních údajů. | P7: Může způsobit závažné dlouhodobé omezení výkonu činnosti interního nebo externího uživatele IS (útoky na uživatele, odchod zaměstnanců, dlouhodobá pracovní neschopnost uživatelů, úmrtí). | Q7: Může vést k závažnému, dlouhodobému narušení schopnosti vyšetřovat trestnou činnost, popřípadě zpochybnění soudních řízení a rozhodnutí (závažná kriminalita, celkové zpochybnění systému).
B8: Popis kategorie | D8: V této kategorii je posuzováno, jaký dopad bude mít narušení primárních aktiv přímo na subjekty údajů, tedy na jednotlivé osoby, jejichž údaje jsou v daném IS zpracovávány. Jak moc budou jednotlivé osoby po fyzické nebo psychické stránce dotčeny, když budou narušeny jejich osobní údaje. | E8: V této kategorii je posuzováno, jaký dopad bude mít narušení primárních aktiv přímo na subjekty údajů, tedy na jednotlivé osoby, jejichž údaje jsou v daném IS zpracovávány. Jaká finanční újma vznikne jednotlivým osobám, když budou narušeny jejich osobní údaje. | F8: V této kategorii je posuzováno, jaký dopad bude mít narušení primárních aktiv na ochranu obchodního tajemství organizace. | G8: V této kategorii je posuzováno, jaký dopad bude mít narušení primárních aktiv na plnění zákonných a smluvních povinností, kterými je organizace zavázána. | H8: V této kategorii je posuzováno, jaký dopad bude mít narušení primárních aktiv na vnitřní řídící a kontrolní činnosti organizace (kontrolní mechanismy organizace, její vedení, správu apod.). | I8: V této kategorii je posuzováno, jaký dopad bude mít narušení primárních aktiv na zajištění veřejného pořádku. | J8: V této kategorii je posuzováno, jak velké finanční ztráty může narušení primárních aktiv organizaci způsobit. Kategorie je relevantní zejména pro organizace generující zisk. | K8: V této kategorii je posuzováno, jaký dopad bude mít narušení primárních aktiv na zajišťování nezbytných nebo základních služeb. | L8: V této kategorii je posuzováno, jaký dopad bude mít narušení primárních aktiv na zajišťování běžných činností organizace (schopnost komunikovat v rámci organizace a mimo ni, přijímat zaměstnance apod.). | M8: V této kategorii je posuzováno, jak narušení primárních aktiv ovlivní důvěryhodnost (reputaci) organizace. | N8: V této kategorii je posuzováno, jaký dopad bude mít narušení primárních aktiv na bezpečnost a zdraví osob. | O8: V této kategorii je posuzováno, jak narušení primárních aktiv ovlivní mezinárodní vztahy organizace, případně také celého státu např. s EU, NATO nebo dalšími zahraničními zeměmi a mezinárodními organizací. | P8: V této kategorii je posuzováno, jaký dopad bude mít narušení primárních aktiv na uživatele využívající daný IS (neschopnost jeho činnosti apod.). | Q8: V této kategorii je posuzováno, jaký dopad bude mít narušení primárních aktiv na vyšetřování trestné činnosti nebo soudního řízení.
B9: Příklady | D9: Únik osobních údajů fyzické osoby z IS (např. o zdravotním stavu apod.) a jejich následné zveřejnění na internetu. | E9: Neoprávněná modifikace osobních údajů fyzické osoby v IS způsobí výplatu sociálních dávek jiné fyzické osobě. | F9: Odcizení patentů evidovaných v IS konkurenční firmou. | G9: • Nemožnost vydání rozhodnutí v zákonné lhůtě z důvodu nedostupnosti IS. • Narušení povinnosti zveřejňovat dokumenty na elektronické úřední desce, která je nepřetržitě dostupná vzdáleným přístupem. | H9: Neúplnost či modifikace informací potřebných pro rozhodování vedení a kontrolní činnost. | I9: • Nedostupnost informací zveřejňovaných na webu organizace může vést k neinformování veřejnosti o důležitých skutečnostech (záplavy, ekologické katastrofy atd.). • Dlouhodobá nedostupnost informací potřebných pro výplatu sociálních dávek, důchodů apod. | J9: • Nedostupnost informací o fakturách na základě nedostupnosti ekonomického systému. • Nedostupnost informací o možných obchodních příležitostech a z toho plynoucí ušlý zisk. | K9: Narušení všech informací, procesů a služeb vztažených směrem k hlavnímu business cíli (účelu existence) organizace (např. v případě Ministerstva pro certifikaci senzorů by se jednalo o narušení vydávání certifikací). | L9: • Narušení činností personálních, ekonomických, správy budov a autoparku, neschopnost přijímat datové zprávy apod. • Neschopnost přijímat nové zaměstnance z důvodu nedostupnosti personálního systému. | M9: Vlivem úniku citlivých informací organizace na internet bude narušena její reputace. | N9: V důsledku nedostupnosti informací evidovaných v nemocničním IS není možné provést nezbytné operace a pacienti jsou ohroženi na životě. | O9: Únik informací, které organizace získala od zahraničních partnerů. | P9: Ztráta možnosti přístupu uživatele ke službě vlivem její nedostupnosti (např. při výpadku internetového bankovnictví se tento problém dotkne velkého počtu uživatelů – nemožnost zadat platební příkaz online). | Q9: Z důvodu úniku informací v policejním IS v rámci trestního řízení bude zastaveno trestní řízení.

Sheet Katalog primárních aktiv
A1: ID | B1: Typové primární aktivum | C1: Název | D1: Kategorie | E1: Specifikace | F1: Gestor aktiva | G1: Garant aktiva | H1: Osobní údaje | I1: Legislativa | J1: Rozsah řízení KB | K1: Dostupnost | L1: Ztráta | M1: Důvěrnost | N1: Integrita | O1: Poznámka
A2: S1 | B2: Služba certifikace senzorů | C2: =Tabulka5[[#This Row],[ID]]&": "&Tabulka4[[#This Row],[Typové primární aktivum]] -> S1: Služba certifikace senzorů | D2: služba | E2: Zajištění procesu certifikace a evidence senzorů | F2: náměstek sekce certifikací (Martin Novotný) | G2: ředitel odboru certifikací 1 (Jan Novák), ředitelka odboru certifikací 2 (Tereza Černá) | H2: ano | I2: Zákon o certifikaci | J2: ano | K2: ='S1'!E5 -> 3 | L2: ='S1'!E6 -> 4 | M2: ='S1'!E7 -> 3 | N2: ='S1'!E8 -> 3
A3: P1 | B3: Seznam certifikovaných senzorů | C3: =Tabulka5[[#This Row],[ID]]&": "&Tabulka4[[#This Row],[Typové primární aktivum]] -> P1: Seznam certifikovaných senzorů | D3: informace | E3: Seznam všech úspěšně certifikovaných senzorů a certifikátů samotných | F3: náměstek sekce certifikací (Martin Novotný) | G3: ředitelka odboru podpory (Renata Malá) | H3: ne | I3: Zákon o certifikaci | J3: ano | K3: ='P1'!E5 -> 2 | L3: ='P1'!E6 -> 1 | M3: ='P1'!E7 -> 1 | N3: ='P1'!E8 -> 3
A4: P2 | B4: Rozhodnutí | C4: =Tabulka5[[#This Row],[ID]]&": "&Tabulka4[[#This Row],[Typové primární aktivum]] -> P2: Rozhodnutí | D4: informace | E4: Výsledné rozhodnutí certifikačního procesu - negativní i pozitivní | F4: náměstek sekce certifikací (Martin Novotný) | G4: ředitel odboru certifikací 1 (Jan Novák), ředitelka odboru certifikací 2 (Tereza Černá) | H4: ano | I4: Zákon o certifikaci, zákon č. 500/2004 Sb., správní řád | J4: ano | K4: ='P2'!E5 -> 2 | L4: ='P2'!E6 -> 3 | M4: ='P2'!E7 -> 3 | N4: ='P2'!E8 -> 3
A5: P3 | B5: Žádosti, technická dokumentace | C5: =Tabulka5[[#This Row],[ID]]&": "&Tabulka4[[#This Row],[Typové primární aktivum]] -> P3: Žádosti, technická dokumentace | D5: informace | E5: Technická dokumentace a žádost o certifikaci, kterou zasílají jednotliví výrobci ke svým senzorům | F5: náměstek sekce certifikací (Martin Novotný) | G5: ředitel odboru certifikací 1 (Jan Novák), ředitelka odboru certifikací 2 (Tereza Černá) | H5: ano | I5: Zákon o certifikaci | J5: ano | K5: ='P3'!E5 -> 3 | L5: ='P3'!E6 -> 3 | M5: ='P3'!E7 -> 3 | N5: ='P3'!E8 -> 3
A6: P4 | B6: Informace o průběhu certifikace | C6: =Tabulka5[[#This Row],[ID]]&": "&Tabulka4[[#This Row],[Typové primární aktivum]] -> P4: Informace o průběhu certifikace | D6: informace | E6: Informace o průběhu certifikace - kdo rozhodl, kdy došla žádost, průběh certifikace atd. | F6: náměstek sekce certifikací (Martin Novotný) | G6: ředitel odboru certifikací 1 (Jan Novák), ředitelka odboru certifikací 2 (Tereza Černá) | H6: ano | I6: Zákon o certifikaci, zákon č. 500/2004 Sb., správní řád | J6: ano | K6: ='P4'!E5 -> 3 | L6: ='P4'!E6 -> 4 | M6: ='P4'!E7 -> 3 | N6: ='P4'!E8 -> 3
A7: S2 | B7: Provoz dětské skupiny | C7: =Tabulka5[[#This Row],[ID]]&": "&Tabulka4[[#This Row],[Typové primární aktivum]] -> S2: Provoz dětské skupiny | D7: služba | E7: Zajištění provozu dětské skupiny pro děti zaměstnanců ministerstva | F7: náměstek sekce provozní (Tomáš Dvořák) | G7: vedoucí odboru personálního (Anna Veselá) | H7: ano | I7: Zákon č. 247/2014 Sb. o poskytování služby péče o dítě v dětské skupině a o změně souvisejících zákonů | J7: ne | K7: 3 | L7: 2 | M7: 2 | N7: 1
A8: … | B8: … | C8: … | D8: … | E8: … | F8: … | G8: … | H8: … | I8: … | J8: … | K8: … | L8: … | M8: … | N8: … | O8: …

Sheet Vazby prim. aktiv
A1: Vazby mezi primárními aktivy | C1: S1 | D1: P1 | E1: P2 | F1: P3 | G1: P4 | H1: Komentář
C2: ='Katalog primárních aktiv'!B2 -> Služba certifikace senzorů | D2: ='Katalog primárních aktiv'!B3 -> Seznam certifikovaných senzorů | E2: ='Katalog primárních aktiv'!B4 -> Rozhodnutí | F2: ='Katalog primárních aktiv'!B5 -> Žádosti, technická dokumentace | G2: ='Katalog primárních aktiv'!B6 -> Informace o průběhu certifikace
A3: S1 | B3: ='Katalog primárních aktiv'!B2 -> Služba certifikace senzorů | D3: x | E3: x | F3: x | G3: x | H3: Primární aktivum S1 pracuje se všemi informacemi v agendovém systémů. Hodnoty služby certifikace senzorů jsou nejvyšší hodnoty, které byly stanoveny pro jednotlivá primární aktiva P1-P4.
A4: P1 | B4: ='Katalog primárních aktiv'!B3 -> Seznam certifikovaných senzorů | C4: x
A5: P2 | B5: ='Katalog primárních aktiv'!B4 -> Rozhodnutí | C5: x
A6: P3 | B6: ='Katalog primárních aktiv'!B5 -> Žádosti, technická dokumentace | C6: x
A7: P4 | B7: ='Katalog primárních aktiv'!B6 -> Informace o průběhu certifikace | C7: x

Sheet S1
A1: Název primárního aktiva: | B1: ='Katalog primárních aktiv'!B2 -> Služba certifikace senzorů
A2: Gestor primárního aktiva: | B2: ='Katalog primárních aktiv'!F2 -> náměstek sekce certifikací (Martin Novotný)
A3: Garant primárního aktiva: | B3: ='Katalog primárních aktiv'!G2 -> ředitel odboru certifikací 1 (Jan Novák), ředitelka odboru certifikací 2 (Tereza Černá)
A4: Datum hodnocení: | B4: 46055
A5: Výsledné hodnocení primárního aktiva (nejvyšší hodnoty jednotlivých atributů) | B5: Dostupnost | E5: 3
B6: Ztráta | E6: =MAX(S12:S25) -> 4
B7: Důvěrnost | E7: =MAX(V12:V25) -> 3
B8: Integrita | E8: =MAX(W12:X25) -> 3
B10: Dostupnost | K10: Ztráta | T10: Důvěrnost | W10: Integrita
A11: Oblasti dopadu | B11: Nedostupnost 15 min | C11: Nedostupnost 1 h | D11: Nedostupnost 4 h | E11: Nedostupnost 8 h | F11: Nedostupnost 1den | G11: Nedostupnost 2 dny | H11: Nedostupnost 1 týden | I11: Nedostupnost 14 dní | J11: Nedostupnost měsíc a více | K11: Ztráta dat od zálohy (15 min) | L11: Ztráta dat od zálohy (1 h) | M11: Ztráta dat od zálohy (4 h) | N11: Ztráta dat od zálohy (8 h) | O11: Ztráta dat od zálohy (1 den) | P11: Ztráta dat od zálohy (2 dny) | Q11: Ztráta dat od zálohy (1 týden) | R11: Ztráta dat od zálohy (14 dní) | S11: Úplná ztráta dat | T11: Prozrazení v rámci organizace | U11: Prozrazení smluvním partnerům | V11: Prozrazení vně organizaci | W11: Modifikace dat malého rozsahu | X11: Modifikace dat velkého rozsahu
A12: Ochrana osobních údajů - dopady na subjekty osobních údajů | B12: =MAX('P1'!B12,'P2'!B12,'P3'!B12,'P4'!B12) -> 1 | C12: =MAX('P1'!C12,'P2'!C12,'P3'!C12,'P4'!C12) -> 1 | D12: =MAX('P1'!D12,'P2'!D12,'P3'!D12,'P4'!D12) -> 1 | E12: =MAX('P1'!E12,'P2'!E12,'P3'!E12,'P4'!E12) -> 1 | F12: =MAX('P1'!F12,'P2'!F12,'P3'!F12,'P4'!F12) -> 1 | G12: =MAX('P1'!G12,'P2'!G12,'P3'!G12,'P4'!G12) -> 1 | H12: =MAX('P1'!H12,'P2'!H12,'P3'!H12,'P4'!H12) -> 1 | I12: =MAX('P1'!I12,'P2'!I12,'P3'!I12,'P4'!I12) -> 1 | ... X12: =MAX('P1'!X12,'P2'!X12,'P3'!X12,'P4'!X12) -> 2 | Z12: Úrovně dopadu
A13: Ochrana osobních údajů - finanční újma subjektů údajů | B13: =MAX('P1'!B13,'P2'!B13,'P3'!B13,'P4'!B13) -> 1 | C13: =MAX('P1'!C13,'P2'!C13,'P3'!C13,'P4'!C13) -> 1 | D13: =MAX('P1'!D13,'P2'!D13,'P3'!D13,'P4'!D13) -> 1 | E13: =MAX('P1'!E13,'P2'!E13,'P3'!E13,'P4'!E13) -> 1 | F13: =MAX('P1'!F13,'P2'!F13,'P3'!F13,'P4'!F13) -> 1 | G13: =MAX('P1'!G13,'P2'!G13,'P3'!G13,'P4'!G13) -> 1 | H13: =MAX('P1'!H13,'P2'!H13,'P3'!H13,'P4'!H13) -> 1 | I13: =MAX('P1'!I13,'P2'!I13,'P3'!I13,'P4'!I13) -> 1 | ... X13: =MAX('P1'!X13,'P2'!X13,'P3'!X13,'P4'!X13) -> 2 | Z13: 0 | AA13: nerelevantní
A14: Obchodní tajemství | B14: =MAX('P1'!B14,'P2'!B14,'P3'!B14,'P4'!B14) -> 0 | C14: =MAX('P1'!C14,'P2'!C14,'P3'!C14,'P4'!C14) -> 0 | D14: =MAX('P1'!D14,'P2'!D14,'P3'!D14,'P4'!D14) -> 0 | E14: =MAX('P1'!E14,'P2'!E14,'P3'!E14,'P4'!E14) -> 0 | F14: =MAX('P1'!F14,'P2'!F14,'P3'!F14,'P4'!F14) -> 0 | G14: =MAX('P1'!G14,'P2'!G14,'P3'!G14,'P4'!G14) -> 0 | H14: =MAX('P1'!H14,'P2'!H14,'P3'!H14,'P4'!H14) -> 0 | I14: =MAX('P1'!I14,'P2'!I14,'P3'!I14,'P4'!I14) -> 0 | ... X14: =MAX('P1'!X14,'P2'!X14,'P3'!X14,'P4'!X14) -> 0 | Z14: 1 | AA14: nízká
A15: Zákonné a smluvní povinnosti | B15: =MAX('P1'!B15,'P2'!B15,'P3'!B15,'P4'!B15) -> 1 | C15: =MAX('P1'!C15,'P2'!C15,'P3'!C15,'P4'!C15) -> 1 | D15: =MAX('P1'!D15,'P2'!D15,'P3'!D15,'P4'!D15) -> 1 | E15: =MAX('P1'!E15,'P2'!E15,'P3'!E15,'P4'!E15) -> 1 | F15: =MAX('P1'!F15,'P2'!F15,'P3'!F15,'P4'!F15) -> 1 | G15: =MAX('P1'!G15,'P2'!G15,'P3'!G15,'P4'!G15) -> 2 | H15: =MAX('P1'!H15,'P2'!H15,'P3'!H15,'P4'!H15) -> 2 | I15: =MAX('P1'!I15,'P2'!I15,'P3'!I15,'P4'!I15) -> 2 | ... X15: =MAX('P1'!X15,'P2'!X15,'P3'!X15,'P4'!X15) -> 3 | Z15: 2 | AA15: střední
A16: Narušení vnitřních řídících a kontrolních činností | B16: =MAX('P1'!B16,'P2'!B16,'P3'!B16,'P4'!B16) -> 1 | C16: =MAX('P1'!C16,'P2'!C16,'P3'!C16,'P4'!C16) -> 1 | D16: =MAX('P1'!D16,'P2'!D16,'P3'!D16,'P4'!D16) -> 1 | E16: =MAX('P1'!E16,'P2'!E16,'P3'!E16,'P4'!E16) -> 1 | F16: =MAX('P1'!F16,'P2'!F16,'P3'!F16,'P4'!F16) -> 1 | G16: =MAX('P1'!G16,'P2'!G16,'P3'!G16,'P4'!G16) -> 2 | H16: =MAX('P1'!H16,'P2'!H16,'P3'!H16,'P4'!H16) -> 2 | I16: =MAX('P1'!I16,'P2'!I16,'P3'!I16,'P4'!I16) -> 2 | ... X16: =MAX('P1'!X16,'P2'!X16,'P3'!X16,'P4'!X16) -> 3 | Z16: 3 | AA16: vysoká
A17: Veřejný pořádek | B17: =MAX('P1'!B17,'P2'!B17,'P3'!B17,'P4'!B17) -> 0 | C17: =MAX('P1'!C17,'P2'!C17,'P3'!C17,'P4'!C17) -> 0 | D17: =MAX('P1'!D17,'P2'!D17,'P3'!D17,'P4'!D17) -> 0 | E17: =MAX('P1'!E17,'P2'!E17,'P3'!E17,'P4'!E17) -> 0 | F17: =MAX('P1'!F17,'P2'!F17,'P3'!F17,'P4'!F17) -> 0 | G17: =MAX('P1'!G17,'P2'!G17,'P3'!G17,'P4'!G17) -> 0 | H17: =MAX('P1'!H17,'P2'!H17,'P3'!H17,'P4'!H17) -> 0 | I17: =MAX('P1'!I17,'P2'!I17,'P3'!I17,'P4'!I17) -> 0 | ... X17: =MAX('P1'!X17,'P2'!X17,'P3'!X17,'P4'!X17) -> 0 | Z17: 4 | AA17: kritická
A18: Finanční ztráty | B18: =MAX('P1'!B18,'P2'!B18,'P3'!B18,'P4'!B18) -> 1 | C18: =MAX('P1'!C18,'P2'!C18,'P3'!C18,'P4'!C18) -> 1 | D18: =MAX('P1'!D18,'P2'!D18,'P3'!D18,'P4'!D18) -> 1 | E18: =MAX('P1'!E18,'P2'!E18,'P3'!E18,'P4'!E18) -> 1 | F18: =MAX('P1'!F18,'P2'!F18,'P3'!F18,'P4'!F18) -> 1 | G18: =MAX('P1'!G18,'P2'!G18,'P3'!G18,'P4'!G18) -> 2 | H18: =MAX('P1'!H18,'P2'!H18,'P3'!H18,'P4'!H18) -> 2 | I18: =MAX('P1'!I18,'P2'!I18,'P3'!I18,'P4'!I18) -> 2 | ... X18: =MAX('P1'!X18,'P2'!X18,'P3'!X18,'P4'!X18) -> 3
A19: Zajišťování nezbytných nebo základních služeb | B19: =MAX('P1'!B19,'P2'!B19,'P3'!B19,'P4'!B19) -> 1 | C19: =MAX('P1'!C19,'P2'!C19,'P3'!C19,'P4'!C19) -> 1 | D19: =MAX('P1'!D19,'P2'!D19,'P3'!D19,'P4'!D19) -> 1 | E19: =MAX('P1'!E19,'P2'!E19,'P3'!E19,'P4'!E19) -> 1 | F19: =MAX('P1'!F19,'P2'!F19,'P3'!F19,'P4'!F19) -> 1 | G19: =MAX('P1'!G19,'P2'!G19,'P3'!G19,'P4'!G19) -> 2 | H19: =MAX('P1'!H19,'P2'!H19,'P3'!H19,'P4'!H19) -> 2 | I19: =MAX('P1'!I19,'P2'!I19,'P3'!I19,'P4'!I19) -> 2 | ... X19: =MAX('P1'!X19,'P2'!X19,'P3'!X19,'P4'!X19) -> 3
A20: Narušení běžných činností | B20: =MAX('P1'!B20,'P2'!B20,'P3'!B20,'P4'!B20) -> 0 | C20: =MAX('P1'!C20,'P2'!C20,'P3'!C20,'P4'!C20) -> 0 | D20: =MAX('P1'!D20,'P2'!D20,'P3'!D20,'P4'!D20) -> 0 | E20: =MAX('P1'!E20,'P2'!E20,'P3'!E20,'P4'!E20) -> 0 | F20: =MAX('P1'!F20,'P2'!F20,'P3'!F20,'P4'!F20) -> 0 | G20: =MAX('P1'!G20,'P2'!G20,'P3'!G20,'P4'!G20) -> 0 | H20: =MAX('P1'!H20,'P2'!H20,'P3'!H20,'P4'!H20) -> 0 | I20: =MAX('P1'!I20,'P2'!I20,'P3'!I20,'P4'!I20) -> 0 | ... X20: =MAX('P1'!X20,'P2'!X20,'P3'!X20,'P4'!X20) -> 0
A21: Ztráta důvěryhodnosti | B21: =MAX('P1'!B21,'P2'!B21,'P3'!B21,'P4'!B21) -> 1 | C21: =MAX('P1'!C21,'P2'!C21,'P3'!C21,'P4'!C21) -> 1 | D21: =MAX('P1'!D21,'P2'!D21,'P3'!D21,'P4'!D21) -> 1 | E21: =MAX('P1'!E21,'P2'!E21,'P3'!E21,'P4'!E21) -> 1 | F21: =MAX('P1'!F21,'P2'!F21,'P3'!F21,'P4'!F21) -> 1 | G21: =MAX('P1'!G21,'P2'!G21,'P3'!G21,'P4'!G21) -> 2 | H21: =MAX('P1'!H21,'P2'!H21,'P3'!H21,'P4'!H21) -> 2 | I21: =MAX('P1'!I21,'P2'!I21,'P3'!I21,'P4'!I21) -> 2 | ... X21: =MAX('P1'!X21,'P2'!X21,'P3'!X21,'P4'!X21) -> 3
A22: Bezpečnost a zdraví osob | B22: =MAX('P1'!B22,'P2'!B22,'P3'!B22,'P4'!B22) -> 0 | C22: =MAX('P1'!C22,'P2'!C22,'P3'!C22,'P4'!C22) -> 0 | D22: =MAX('P1'!D22,'P2'!D22,'P3'!D22,'P4'!D22) -> 0 | E22: =MAX('P1'!E22,'P2'!E22,'P3'!E22,'P4'!E22) -> 0 | F22: =MAX('P1'!F22,'P2'!F22,'P3'!F22,'P4'!F22) -> 0 | G22: =MAX('P1'!G22,'P2'!G22,'P3'!G22,'P4'!G22) -> 0 | H22: =MAX('P1'!H22,'P2'!H22,'P3'!H22,'P4'!H22) -> 0 | I22: =MAX('P1'!I22,'P2'!I22,'P3'!I22,'P4'!I22) -> 0 | ... X22: =MAX('P1'!X22,'P2'!X22,'P3'!X22,'P4'!X22) -> 0
A23: Dopad na uživatele IS nebo KS | B23: =MAX('P1'!B23,'P2'!B23,'P3'!B23,'P4'!B23) -> 1 | C23: =MAX('P1'!C23,'P2'!C23,'P3'!C23,'P4'!C23) -> 1 | D23: =MAX('P1'!D23,'P2'!D23,'P3'!D23,'P4'!D23) -> 2 | E23: =MAX('P1'!E23,'P2'!E23,'P3'!E23,'P4'!E23) -> 3 | F23: =MAX('P1'!F23,'P2'!F23,'P3'!F23,'P4'!F23) -> 3 | G23: =MAX('P1'!G23,'P2'!G23,'P3'!G23,'P4'!G23) -> 3 | H23: =MAX('P1'!H23,'P2'!H23,'P3'!H23,'P4'!H23) -> 4 | I23: =MAX('P1'!I23,'P2'!I23,'P3'!I23,'P4'!I23) -> 4 | ... X23: =MAX('P1'!X23,'P2'!X23,'P3'!X23,'P4'!X23) -> 3
A24: Mezinárodní vztahy | B24: =MAX('P1'!B24,'P2'!B24,'P3'!B24,'P4'!B24) -> 0 | C24: =MAX('P1'!C24,'P2'!C24,'P3'!C24,'P4'!C24) -> 0 | D24: =MAX('P1'!D24,'P2'!D24,'P3'!D24,'P4'!D24) -> 0 | E24: =MAX('P1'!E24,'P2'!E24,'P3'!E24,'P4'!E24) -> 0 | F24: =MAX('P1'!F24,'P2'!F24,'P3'!F24,'P4'!F24) -> 0 | G24: =MAX('P1'!G24,'P2'!G24,'P3'!G24,'P4'!G24) -> 0 | H24: =MAX('P1'!H24,'P2'!H24,'P3'!H24,'P4'!H24) -> 0 | I24: =MAX('P1'!I24,'P2'!I24,'P3'!I24,'P4'!I24) -> 0 | ... X24: =MAX('P1'!X24,'P2'!X24,'P3'!X24,'P4'!X24) -> 0
A25: Trestně-právní řízení | B25: =MAX('P1'!B25,'P2'!B25,'P3'!B25,'P4'!B25) -> 0 | C25: =MAX('P1'!C25,'P2'!C25,'P3'!C25,'P4'!C25) -> 0 | D25: =MAX('P1'!D25,'P2'!D25,'P3'!D25,'P4'!D25) -> 0 | E25: =MAX('P1'!E25,'P2'!E25,'P3'!E25,'P4'!E25) -> 0 | F25: =MAX('P1'!F25,'P2'!F25,'P3'!F25,'P4'!F25) -> 0 | G25: =MAX('P1'!G25,'P2'!G25,'P3'!G25,'P4'!G25) -> 0 | H25: =MAX('P1'!H25,'P2'!H25,'P3'!H25,'P4'!H25) -> 0 | I25: =MAX('P1'!I25,'P2'!I25,'P3'!I25,'P4'!I25) -> 0 | ... X25: =MAX('P1'!X25,'P2'!X25,'P3'!X25,'P4'!X25) -> 0
A26: Komentář k dopadům (uveďte odůvodnění k následkům narušení dostupnosti-odkdy a proč začíná mít nedostupnost negativní dopad, narušení důvěrnosti-např. porušení pravidel obecného nařízení GDPR, narušení integrity dat-např. chyba při zpracování dat agendy) | B26: Hodnoty služby certifikace senzorů jsou nejvyšší hodnoty, které byly stanoveny pro jednotlivá primární aktiva P1-P4.

Sheet P1
A1: Název primárního aktiva: | B1: ='Katalog primárních aktiv'!B3 -> Seznam certifikovaných senzorů
A2: Gestor primárního aktiva: | B2: ='Katalog primárních aktiv'!F3 -> náměstek sekce certifikací (Martin Novotný)
A3: Garant primárního aktiva: | B3: ='Katalog primárních aktiv'!G3 -> ředitelka odboru podpory (Renata Malá)
A4: Datum hodnocení: | B4: 46041
A5: Výsledné hodnocení primárního aktiva (nejvyšší hodnoty jednotlivých atributů) | B5: Dostupnost | E5: 2
B6: Ztráta | E6: =MAX(K12:S25) -> 1
B7: Důvěrnost | E7: =MAX(T12:V25) -> 1
B8: Integrita | E8: =MAX(W12:X25) -> 3
B10: Dostupnost | K10: Ztráta | T10: Důvěrnost | W10: Integrita
A11: Oblasti dopadu | B11: Nedostupnost 15 min | C11: Nedostupnost 1 h | D11: Nedostupnost 4 h | E11: Nedostupnost 8 h | F11: Nedostupnost 1den | G11: Nedostupnost 2 dny | H11: Nedostupnost 1 týden | I11: Nedostupnost 14 dní | J11: Nedostupnost měsíc a více | K11: Ztráta dat od zálohy (15 min) | L11: Ztráta dat od zálohy (1 h) | M11: Ztráta dat od zálohy (4 h) | N11: Ztráta dat od zálohy (8 h) | O11: Ztráta dat od zálohy (1 den) | P11: Ztráta dat od zálohy (2 dny) | Q11: Ztráta dat od zálohy (1 týden) | R11: Ztráta dat od zálohy (14 dní) | S11: Úplná ztráta dat | T11: Prozrazení v rámci organizace | U11: Prozrazení smluvním partnerům | V11: Prozrazení vně organizaci | W11: Modifikace dat malého rozsahu | X11: Modifikace dat velkého rozsahu
A12: Ochrana osobních údajů - dopady na subjekty osobních údajů | Z12: Úrovně dopadu
A13: Ochrana osobních údajů - finanční újma subjektů údajů | Z13: 0 | AA13: nerelevantní
A14: Obchodní tajemství | Z14: 1 | AA14: nízká
A15: Zákonné a smluvní povinnosti | B15: 1 | C15: 1 | D15: 1 | E15: 1 | F15: 1 | G15: 2 | H15: 2 | I15: 2 | J15: 3 | K15: 1 | L15: 1 | M15: 1 | N15: 1 | O15: 1 | P15: 1 | Q15: 1 | R15: 1 | S15: 1 | T15: 1 | U15: 1 | V15: 1 | W15: 3 | X15: 3 | Z15: 2 | AA15: střední
A16: Narušení vnitřních řídících a kontrolních činností | B16: 1 | C16: 1 | D16: 1 | E16: 1 | F16: 1 | G16: 2 | H16: 2 | I16: 2 | J16: 2 | K16: 1 | L16: 1 | M16: 1 | N16: 1 | O16: 1 | P16: 1 | Q16: 1 | R16: 1 | S16: 1 | T16: 1 | U16: 1 | V16: 1 | W16: 2 | X16: 2 | Z16: 3 | AA16: vysoká
A17: Veřejný pořádek | Z17: 4 | AA17: kritická
A18: Finanční ztráty | B18: 1 | C18: 1 | D18: 1 | E18: 1 | F18: 1 | G18: 2 | H18: 2 | I18: 2 | J18: 2 | K18: 1 | L18: 1 | M18: 1 | N18: 1 | O18: 1 | P18: 1 | Q18: 1 | R18: 1 | S18: 1 | T18: 1 | U18: 1 | V18: 1 | W18: 2 | X18: 2
A19: Zajišťování nezbytných nebo základních služeb | B19: 1 | C19: 1 | D19: 1 | E19: 1 | F19: 1 | G19: 2 | H19: 2 | I19: 2 | J19: 2 | K19: 1 | L19: 1 | M19: 1 | N19: 1 | O19: 1 | P19: 1 | Q19: 1 | R19: 1 | S19: 1 | T19: 1 | U19: 1 | V19: 1 | W19: 2 | X19: 2
A20: Narušení běžných činností
A21: Ztráta důvěryhodnosti | B21: 1 | C21: 1 | D21: 1 | E21: 1 | F21: 1 | G21: 2 | H21: 2 | I21: 2 | J21: 3 | K21: 1 | L21: 1 | M21: 1 | N21: 1 | O21: 1 | P21: 1 | Q21: 1 | R21: 1 | S21: 1 | T21: 1 | U21: 1 | V21: 1 | W21: 3 | X21: 3
A22: Bezpečnost a zdraví osob
A23: Dopad na uživatele IS nebo KS | B23: 1 | C23: 1 | D23: 1 | E23: 1 | F23: 1 | G23: 2 | H23: 2 | I23: 2 | J23: 3 | K23: 1 | L23: 1 | M23: 1 | N23: 1 | O23: 1 | P23: 1 | Q23: 1 | R23: 1 | S23: 1 | T23: 1 | U23: 1 | V23: 1 | W23: 2 | X23: 2
A24: Mezinárodní vztahy
A25: Trestně-právní řízení
A26: Komentář k dopadům (uveďte odůvodnění k následkům narušení dostupnosti-odkdy a proč začíná mít nedostupnost negativní dopad, narušení důvěrnosti-např. porušení pravidel obecného nařízení GDPR, narušení integrity dat-např. chyba při zpracování dat agendy) | B26: Ze zákona vyplývá povinnost zveřejňovat seznam certifikovaných senzorů. Organizace jsou povinny používat pouze certifikované senzory. Je nutné dodržovat zákonné lhůty, může se stát, že bude zaměstnanec vykonávat svoji činnost na poslední chvíli, a proto vadí nedostupnost již od jednoho dne. Pokud dojde ke ztrátě pouze seznamu, jsme schopni jej obnovit, neboť máme veškeré předchozí kroky a materiály k dispozici. Informace jsou určené ke zveřejnění. Integrita informací je zásadní, i když se změní informace jen o jednom senzoru, může to způsobit velké dopady, např. vysoké ztráty dotčeného výrobce. Certifikování je hlavní činností ministerstva, pokud nebude schopno dělat celý proces, bude to výrazná komplikace. Ztráta důvěryhodnosti je spojená s neplněním zákonných a smluvních povinností - když ministerstvo není schopné plnit své povinnosti, není důvěryhodné. Narušení vnitřních řidicích a kontrolních činností nemá takové dopady jako narušení zákonných a smluvních povinností, které jsou v tomto případě klíčové. Finační ztráty souvisí s porušením zákonných a smluvních povinností - sankce za porušení. Finanční ztráty jsou totožné od 2 a více dní. V případě, že dojde k narušení bezpečnosti informací, ovlivní to malé množství osob (týká se žadatelů o certifikaci). V případě dlouhodobé nedostupnosti hrozí ztráta důvěryhodnosti ministerstva v rámci celé ČR. Stejně tak v případě narušení integrity bude negativní publicita v rámci celé ČR. V oblasti dopadu na uživatele dopady nedostupnosti narůstají s delším časovým obdobím, kdy uživatel není schopen dokončit svou práci. V případě, že dojde k pozměnění seznamu, ovlivní to uživatele tím způsobem, že mu to přidá práci - bude jej muset kontrolovat, upravit atd.

Sheet P2
A1: Název primárního aktiva: | B1: ='Katalog primárních aktiv'!B4 -> Rozhodnutí
A2: Gestor primárního aktiva: | B2: ='Katalog primárních aktiv'!F4 -> náměstek sekce certifikací (Martin Novotný)
A3: Garant primárního aktiva: | B3: ='Katalog primárních aktiv'!G4 -> ředitel odboru certifikací 1 (Jan Novák), ředitelka odboru certifikací 2 (Tereza Černá)
A4: Datum hodnocení: | B4: 46041
A5: Výsledné hodnocení primárního aktiva (nejvyšší hodnoty jednotlivých atributů) | B5: Dostupnost | E5: 2
B6: Ztráta | E6: =MAX(K12:S25) -> 3
B7: Důvěrnost | E7: =MAX(T12:V25) -> 3
B8: Integrita | E8: =MAX(W12:X25) -> 3
B10: Dostupnost | K10: Ztráta | T10: Důvěrnost | W10: Integrita
A11: Oblasti dopadu | B11: Nedostupnost 15 min | C11: Nedostupnost 1 h | D11: Nedostupnost 4 h | E11: Nedostupnost 8 h | F11: Nedostupnost 1den | G11: Nedostupnost 2 dny | H11: Nedostupnost 1 týden | I11: Nedostupnost 14 dní | J11: Nedostupnost měsíc a více | K11: Ztráta dat od zálohy (15 min) | L11: Ztráta dat od zálohy (1 h) | M11: Ztráta dat od zálohy (4 h) | N11: Ztráta dat od zálohy (8 h) | O11: Ztráta dat od zálohy (1 den) | P11: Ztráta dat od zálohy (2 dny) | Q11: Ztráta dat od zálohy (1 týden) | R11: Ztráta dat od zálohy (14 dní) | S11: Úplná ztráta dat | T11: Prozrazení v rámci organizace | U11: Prozrazení smluvním partnerům | V11: Prozrazení vně organizaci | W11: Modifikace dat malého rozsahu | X11: Modifikace dat velkého rozsahu
A12: Ochrana osobních údajů - dopady na subjekty osobních údajů | B12: 1 | C12: 1 | D12: 1 | E12: 1 | F12: 1 | G12: 1 | H12: 1 | I12: 1 | J12: 1 | K12: 1 | L12: 1 | M12: 1 | N12: 1 | O12: 1 | P12: 1 | Q12: 1 | R12: 1 | S12: 1 | T12: 2 | U12: 2 | V12: 2 | W12: 2 | X12: 2 | Z12: Úrovně dopadu
A13: Ochrana osobních údajů - finanční újma subjektů údajů | B13: 1 | C13: 1 | D13: 1 | E13: 1 | F13: 1 | G13: 1 | H13: 1 | I13: 1 | J13: 1 | K13: 1 | L13: 1 | M13: 1 | N13: 1 | O13: 1 | P13: 1 | Q13: 1 | R13: 1 | S13: 1 | T13: 1 | U13: 1 | V13: 1 | W13: 2 | X13: 2 | Z13: 0 | AA13: nerelevantní
A14: Obchodní tajemství | Z14: 1 | AA14: nízká
A15: Zákonné a smluvní povinnosti | B15: 1 | C15: 1 | D15: 1 | E15: 1 | F15: 1 | G15: 2 | H15: 2 | I15: 2 | J15: 3 | K15: 1 | L15: 1 | M15: 1 | N15: 1 | O15: 1 | P15: 2 | Q15: 2 | R15: 2 | S15: 2 | T15: 2 | U15: 3 | V15: 3 | W15: 3 | X15: 3 | Z15: 2 | AA15: střední
A16: Narušení vnitřních řídících a kontrolních činností | B16: 1 | C16: 1 | D16: 1 | E16: 1 | F16: 1 | G16: 2 | H16: 2 | I16: 2 | J16: 3 | K16: 1 | L16: 1 | M16: 1 | N16: 1 | O16: 1 | P16: 2 | Q16: 2 | R16: 2 | S16: 2 | T16: 1 | U16: 1 | V16: 1 | W16: 2 | X16: 3 | Z16: 3 | AA16: vysoká
A17: Veřejný pořádek | Z17: 4 | AA17: kritická
A18: Finanční ztráty | B18: 1 | C18: 1 | D18: 1 | E18: 1 | F18: 1 | G18: 2 | H18: 2 | I18: 2 | J18: 3 | K18: 1 | L18: 1 | M18: 1 | N18: 1 | O18: 1 | P18: 2 | Q18: 2 | R18: 2 | S18: 2 | T18: 2 | U18: 3 | V18: 3 | W18: 3 | X18: 3
A19: Zajišťování nezbytných nebo základních služeb | B19: 1 | C19: 1 | D19: 1 | E19: 1 | F19: 1 | G19: 2 | H19: 2 | I19: 2 | J19: 3 | K19: 1 | L19: 1 | M19: 1 | N19: 1 | O19: 1 | P19: 2 | Q19: 2 | R19: 2 | S19: 2 | T19: 1 | U19: 1 | V19: 1 | W19: 2 | X19: 3
A20: Narušení běžných činností
A21: Ztráta důvěryhodnosti | B21: 1 | C21: 1 | D21: 1 | E21: 1 | F21: 1 | G21: 2 | H21: 2 | I21: 2 | J21: 3 | K21: 1 | L21: 1 | M21: 1 | N21: 1 | O21: 1 | P21: 2 | Q21: 2 | R21: 2 | S21: 2 | T21: 1 | U21: 2 | V21: 3 | W21: 3 | X21: 3
A22: Bezpečnost a zdraví osob
A23: Dopad na uživatele IS nebo KS | B23: 1 | C23: 1 | D23: 1 | E23: 1 | F23: 1 | G23: 2 | H23: 2 | I23: 2 | J23: 3 | K23: 1 | L23: 1 | M23: 1 | N23: 1 | O23: 1 | P23: 3 | Q23: 3 | R23: 3 | S23: 3 | T23: 1 | U23: 1 | V23: 1 | W23: 2 | X23: 3
A24: Mezinárodní vztahy
A25: Trestně-právní řízení
A26: Komentář k dopadům (uveďte odůvodnění k následkům narušení dostupnosti-odkdy a proč začíná mít nedostupnost negativní dopad, narušení důvěrnosti-např. porušení pravidel obecného nařízení GDPR, narušení integrity dat-např. chyba při zpracování dat agendy) | B26: Stejně jako u primárního aktiva P1 se dopady narušení dostupnosti odvíjí od lhůt, které je ministerstvo povinno dodržovat. V tomto případě se hodnoty ztráty odvíjí od hodnot narušení nedostupnosti, neboť jsme schopni nahradit práci, kterou bylo potřeba vykonat pro vypracování rozhodnutí a vypracovat jej znovu, ale je na to potřeba mít dostatek času. Rozhodnutí se posléze zasílají jednotlivým žadatelům o certifikaci a některá rozhodnutí by se v případě ztráty dala do systému zpětně nahrát. Rozhodnutí se odesílají individuálně co nejdříve je možné, neshromažďují a neposílají se hromadně (např. každý druhý den v 15:00). Proces se řídí správním řádem, únik informací může být potrestán pokutou, pokud by se informace z rozhodnutí dostaly na veřejnost, hrozí žaloby ze strany výrobců. Dopady narušení integrity jsou obdobné jako u primárního aktiva P1. V případě dopadu na uživatele u narušení dostupnosti jsou dopady shodné jako u porušení zákonných a smluvních povinností, uživatel se dostane ke všem podkladům, ale nemůže vydat rozhodnutí (vykonávat svoji pracovní činnost). V případě narušení integrity by uživatel musel rozhodnutí opravovat, což by stálo jeho pracovní čas. Únik dat neovlivní výkon uživatele. Finanční ztráty úzce souvisí se zákonnými a smluvními povinnostmi, stejně jako u předchozího primárního aktiva. Provoz není ovlivněn ztrátou důvěrnosti, v případně narušení integrity nebo ztráty bude potřeba data rekonstruovat. V případě nedostupnosti není možné vykonávat běžnou pracovní činnost spojenou s vydáváním rozhodnutí. Při úniku osobních informací jsou ovlivněni jednotlivci (např. jméno, příjmení kontaktní osoby).

Sheet P3
A1: Název primárního aktiva: | B1: ='Katalog primárních aktiv'!B5 -> Žádosti, technická dokumentace
A2: Gestor primárního aktiva: | B2: ='Katalog primárních aktiv'!F5 -> náměstek sekce certifikací (Martin Novotný)
A3: Garant primárního aktiva: | B3: ='Katalog primárních aktiv'!G5 -> ředitel odboru certifikací 1 (Jan Novák), ředitelka odboru certifikací 2 (Tereza Černá)
A4: Datum hodnocení: | B4: 46055
A5: Výsledné hodnocení primárního aktiva (nejvyšší hodnoty jednotlivých atributů) | B5: Dostupnost | E5: 3
B6: Ztráta | E6: =MAX(K12:S25) -> 3
B7: Důvěrnost | E7: =MAX(T12:V25) -> 3
B8: Integrita | E8: =MAX(W12:X25) -> 3
B10: Dostupnost | K10: Ztráta | T10: Důvěrnost | W10: Integrita
A11: Oblasti dopadu | B11: Nedostupnost 15 min | C11: Nedostupnost 1 h | D11: Nedostupnost 4 h | E11: Nedostupnost 8 h | F11: Nedostupnost 1den | G11: Nedostupnost 2 dny | H11: Nedostupnost 1 týden | I11: Nedostupnost 14 dní | J11: Nedostupnost měsíc a více | K11: Ztráta dat od zálohy (15 min) | L11: Ztráta dat od zálohy (1 h) | M11: Ztráta dat od zálohy (4 h) | N11: Ztráta dat od zálohy (8 h) | O11: Ztráta dat od zálohy (1 den) | P11: Ztráta dat od zálohy (2 dny) | Q11: Ztráta dat od zálohy (1 týden) | R11: Ztráta dat od zálohy (14 dní) | S11: Úplná ztráta dat | T11: Prozrazení v rámci organizace | U11: Prozrazení smluvním partnerům | V11: Prozrazení vně organizaci | W11: Modifikace dat malého rozsahu | X11: Modifikace dat velkého rozsahu
A12: Ochrana osobních údajů - dopady na subjekty osobních údajů | B12: 1 | C12: 1 | D12: 1 | E12: 1 | F12: 1 | G12: 1 | H12: 1 | I12: 1 | J12: 1 | K12: 1 | L12: 1 | M12: 1 | N12: 1 | O12: 1 | P12: 1 | Q12: 1 | R12: 1 | S12: 1 | T12: 2 | U12: 2 | V12: 2 | W12: 2 | X12: 2 | Z12: Úrovně dopadu
A13: Ochrana osobních údajů - finanční újma subjektů údajů | B13: 1 | C13: 1 | D13: 1 | E13: 1 | F13: 1 | G13: 1 | H13: 1 | I13: 1 | J13: 1 | K13: 1 | L13: 1 | M13: 1 | N13: 1 | O13: 1 | P13: 1 | Q13: 1 | R13: 1 | S13: 1 | T13: 2 | U13: 2 | V13: 2 | W13: 2 | X13: 2 | Z13: 0 | AA13: nerelevantní
A14: Obchodní tajemství | Z14: 1 | AA14: nízká
A15: Zákonné a smluvní povinnosti | B15: 1 | C15: 1 | D15: 1 | E15: 1 | F15: 1 | G15: 2 | H15: 2 | I15: 2 | J15: 3 | K15: 1 | L15: 1 | M15: 1 | N15: 1 | O15: 1 | P15: 1 | Q15: 1 | R15: 1 | S15: 1 | T15: 2 | U15: 3 | V15: 3 | W15: 3 | X15: 3 | Z15: 2 | AA15: střední
A16: Narušení vnitřních řídících a kontrolních činností | B16: 1 | C16: 1 | D16: 1 | E16: 1 | F16: 1 | G16: 2 | H16: 2 | I16: 2 | J16: 3 | K16: 1 | L16: 1 | M16: 1 | N16: 1 | O16: 1 | P16: 2 | Q16: 2 | R16: 2 | S16: 2 | T16: 1 | U16: 1 | V16: 1 | W16: 3 | X16: 3 | Z16: 3 | AA16: vysoká
A17: Veřejný pořádek | Z17: 4 | AA17: kritická
A18: Finanční ztráty | B18: 1 | C18: 1 | D18: 1 | E18: 1 | F18: 1 | G18: 2 | H18: 2 | I18: 2 | J18: 3 | K18: 1 | L18: 1 | M18: 1 | N18: 1 | O18: 1 | P18: 2 | Q18: 2 | R18: 2 | S18: 2 | T18: 2 | U18: 3 | V18: 3 | W18: 3 | X18: 3
A19: Zajišťování nezbytných nebo základních služeb | B19: 1 | C19: 1 | D19: 1 | E19: 1 | F19: 1 | G19: 2 | H19: 2 | I19: 2 | J19: 3 | K19: 1 | L19: 1 | M19: 1 | N19: 1 | O19: 1 | P19: 1 | Q19: 1 | R19: 1 | S19: 1 | T19: 1 | U19: 1 | V19: 1 | W19: 3 | X19: 3
A20: Narušení běžných činností
A21: Ztráta důvěryhodnosti | B21: 1 | C21: 1 | D21: 1 | E21: 1 | F21: 1 | G21: 2 | H21: 2 | I21: 2 | J21: 3 | K21: 1 | L21: 1 | M21: 1 | N21: 1 | O21: 1 | P21: 1 | Q21: 1 | R21: 1 | S21: 1 | T21: 1 | U21: 2 | V21: 3 | W21: 3 | X21: 3
A22: Bezpečnost a zdraví osob
A23: Dopad na uživatele IS nebo KS | B23: 1 | C23: 1 | D23: 2 | E23: 3 | F23: 3 | G23: 3 | H23: 4 | I23: 4 | J23: 4 | K23: 1 | L23: 1 | M23: 1 | N23: 1 | O23: 1 | P23: 1 | Q23: 2 | R23: 2 | S23: 3 | T23: 1 | U23: 1 | V23: 1 | W23: 3 | X23: 3
A24: Mezinárodní vztahy
A25: Trestně-právní řízení
A26: Komentář k dopadům (uveďte odůvodnění k následkům narušení dostupnosti-odkdy a proč začíná mít nedostupnost negativní dopad, narušení důvěrnosti-např. porušení pravidel obecného nařízení GDPR, narušení integrity dat-např. chyba při zpracování dat agendy) | B26: Většina hodnot dopadu se odvíjí ze stejných důvodů, jako u přechozích dvou primárních aktiv (P1 a P2). Největší rozdíly jsou v oblasti dopadu na uživatele, neboť podání žádosti a poskytnutí technické dokumentace senzorů je počátek procesu certifikace a pokud by uživatel neměl k těmto informacím přístup, nemohl by začít vykonnávat činnosti nutné k dokončení celého procesu. V rámci procesu certifikace je možné ze strany žadatele žádost aktualizovat/doplnit a podle množství změn je pak celý proces certifikace přiměřeně prodloužen, aby mohly být všechny nové skutečnosti dostatečně zohledněny.

Sheet P4
A1: Název primárního aktiva: | B1: ='Katalog primárních aktiv'!B6 -> Informace o průběhu certifikace
A2: Gestor primárního aktiva: | B2: ='Katalog primárních aktiv'!F6 -> náměstek sekce certifikací (Martin Novotný)
A3: Garant primárního aktiva: | B3: ='Katalog primárních aktiv'!G6 -> ředitel odboru certifikací 1 (Jan Novák), ředitelka odboru certifikací 2 (Tereza Černá)
A4: Datum hodnocení: | B4: 46055
A5: Výsledné hodnocení primárního aktiva (nejvyšší hodnoty jednotlivých atributů) | B5: Dostupnost | E5: 3
B6: Ztráta | E6: =MAX(K12:S25) -> 4
B7: Důvěrnost | E7: =MAX(T12:V25) -> 3
B8: Integrita | E8: =MAX(W12:X25) -> 3
B10: Dostupnost | K10: Ztráta | T10: Důvěrnost | W10: Integrita
A11: Oblasti dopadu | B11: Nedostupnost 15 min | C11: Nedostupnost 1 h | D11: Nedostupnost 4 h | E11: Nedostupnost 8 h | F11: Nedostupnost 1den | G11: Nedostupnost 2 dny | H11: Nedostupnost 1 týden | I11: Nedostupnost 14 dní | J11: Nedostupnost měsíc a více | K11: Ztráta dat od zálohy (15 min) | L11: Ztráta dat od zálohy (1 h) | M11: Ztráta dat od zálohy (4 h) | N11: Ztráta dat od zálohy (8 h) | O11: Ztráta dat od zálohy (1 den) | P11: Ztráta dat od zálohy (2 dny) | Q11: Ztráta dat od zálohy (1 týden) | R11: Ztráta dat od zálohy (14 dní) | S11: Úplná ztráta dat | T11: Prozrazení v rámci organizace | U11: Prozrazení smluvním partnerům | V11: Prozrazení vně organizaci | W11: Modifikace dat malého rozsahu | X11: Modifikace dat velkého rozsahu
A12: Ochrana osobních údajů - dopady na subjekty osobních údajů | B12: 1 | C12: 1 | D12: 1 | E12: 1 | F12: 1 | G12: 1 | H12: 1 | I12: 1 | J12: 1 | K12: 1 | L12: 1 | M12: 1 | N12: 1 | O12: 1 | P12: 1 | Q12: 1 | R12: 1 | S12: 1 | T12: 2 | U12: 2 | V12: 2 | W12: 2 | X12: 2 | Z12: Úrovně dopadu
A13: Ochrana osobních údajů - finanční újma subjektů údajů | B13: 1 | C13: 1 | D13: 1 | E13: 1 | F13: 1 | G13: 1 | H13: 1 | I13: 1 | J13: 1 | K13: 1 | L13: 1 | M13: 1 | N13: 1 | O13: 1 | P13: 1 | Q13: 1 | R13: 1 | S13: 1 | T13: 2 | U13: 2 | V13: 2 | W13: 2 | X13: 2 | Z13: 0 | AA13: nerelevantní
A14: Obchodní tajemství | Z14: 1 | AA14: nízká
A15: Zákonné a smluvní povinnosti | B15: 1 | C15: 1 | D15: 1 | E15: 1 | F15: 1 | G15: 2 | H15: 2 | I15: 2 | J15: 3 | K15: 1 | L15: 1 | M15: 1 | N15: 1 | O15: 1 | P15: 2 | Q15: 2 | R15: 2 | S15: 2 | T15: 2 | U15: 3 | V15: 3 | W15: 3 | X15: 3 | Z15: 2 | AA15: střední
A16: Narušení vnitřních řídících a kontrolních činností | B16: 1 | C16: 1 | D16: 1 | E16: 1 | F16: 1 | G16: 2 | H16: 2 | I16: 2 | J16: 3 | K16: 1 | L16: 1 | M16: 1 | N16: 1 | O16: 1 | P16: 2 | Q16: 2 | R16: 2 | S16: 2 | T16: 1 | U16: 1 | V16: 1 | W16: 2 | X16: 3 | Z16: 3 | AA16: vysoká
A17: Veřejný pořádek | Z17: 4 | AA17: kritická
A18: Finanční ztráty | B18: 1 | C18: 1 | D18: 1 | E18: 1 | F18: 1 | G18: 2 | H18: 2 | I18: 2 | J18: 3 | K18: 1 | L18: 1 | M18: 1 | N18: 1 | O18: 1 | P18: 2 | Q18: 2 | R18: 2 | S18: 2 | T18: 2 | U18: 3 | V18: 3 | W18: 3 | X18: 3
A19: Zajišťování nezbytných nebo základních služeb | B19: 1 | C19: 1 | D19: 1 | E19: 1 | F19: 1 | G19: 2 | H19: 2 | I19: 2 | J19: 3 | K19: 1 | L19: 1 | M19: 1 | N19: 1 | O19: 1 | P19: 2 | Q19: 2 | R19: 2 | S19: 2 | T19: 1 | U19: 1 | V19: 1 | W19: 2 | X19: 3
A20: Narušení běžných činností
A21: Ztráta důvěryhodnosti | B21: 1 | C21: 1 | D21: 1 | E21: 1 | F21: 1 | G21: 2 | H21: 2 | I21: 2 | J21: 3 | K21: 1 | L21: 1 | M21: 1 | N21: 1 | O21: 1 | P21: 2 | Q21: 2 | R21: 2 | S21: 2 | T21: 1 | U21: 2 | V21: 3 | W21: 3 | X21: 3
A22: Bezpečnost a zdraví osob
A23: Dopad na uživatele IS nebo KS | B23: 1 | C23: 1 | D23: 1 | E23: 1 | F23: 1 | G23: 2 | H23: 3 | I23: 4 | J23: 4 | K23: 1 | L23: 1 | M23: 1 | N23: 1 | O23: 1 | P23: 3 | Q23: 3 | R23: 3 | S23: 4 | T23: 1 | U23: 1 | V23: 1 | W23: 2 | X23: 3
A24: Mezinárodní vztahy
A25: Trestně-právní řízení
A26: Komentář k dopadům (uveďte odůvodnění k následkům narušení dostupnosti-odkdy a proč začíná mít nedostupnost negativní dopad, narušení důvěrnosti-např. porušení pravidel obecného nařízení GDPR, narušení integrity dat-např. chyba při zpracování dat agendy) | B26: Důvody pro hodnocení tohoto primárního aktiva ve značné míře kopírují důvody uvedených u předchozích primárních aktiv (P1-P3). Nejvýraznější rozdíl je v oblasti ztráty dat a dopadu na uživatele, neboť pokud by se ztratily všechny informace o průběhu certifikace z agendového systému, přišel by uživatel o veškerou svoji práci vykonanou v rámci procesu certifikace a v nejhorším možném případě by byl nucen začít od začátku, což by s sebou neslo značnou časovou náročnost. V případě, že by informační systém nebyl dostupný, opět by uživatel nebyl schopen pracovat a naplňovat tak hlavní účel vzniku Ministerstva certifikací - tedy certifikovat senzory.

Sheet Katalog podpůrných aktiv
A1: ID | B1: Kategorie podpůrného aktiva | C1: Skupina podpůrného aktiva | D1: Typové podpůrné aktivum | E1: Název | F1: Popis podpůrného aktiva | G1: Gestor aktiva | H1: Garant aktiva | I1: Významný dodavatel | J1: Rozsah řízení KB | K1: Dostupnost | L1: Ztráta | M1: Důvěrnost | N1: Integrita | O1: Poznámka
A2: PO1 | B2: Technické vybavení (HW) | C2: Servery | D2: Aplikační server (HW) | E2: =Tabulka1[[#This Row],[ID]]&": "&Tabulka1[[#This Row],[Typové podpůrné aktivum]] -> PO1: Aplikační server (HW) | F2: 2x standalone Server | G2: ředitel odboru ICT (Josef Dvořák) | H2: vedoucí oddělení provozu síťové infrastruktury (Aleš Pokorný) | I2: ano - Dodavatel B | J2: ano | K2: =IF('Hodnoty podpůrných aktiv'!D5<5,1,IF(AND('Hodnoty podpůrných aktiv'!D5<9,'Hodnoty podpůrných aktiv'!D5>4),2,IF(AND('Hodnoty podpůrných aktiv'!D5<13,'Hodnoty podpůrných aktiv'!D5>8),3,4))) -> 3 | L2: =IF('Hodnoty podpůrných aktiv'!E5<5,1,IF(AND('Hodnoty podpůrných aktiv'!E5<9,'Hodnoty podpůrných aktiv'!E5>4),2,IF(AND('Hodnoty podpůrných aktiv'!E5<13,'Hodnoty podpůrných aktiv'!E5>8),3,4))) -> 2 | M2: =IF('Hodnoty podpůrných aktiv'!F5<5,1,IF(AND('Hodnoty podpůrných aktiv'!F5<9,'Hodnoty podpůrných aktiv'!F5>4),2,IF(AND('Hodnoty podpůrných aktiv'!F5<13,'Hodnoty podpůrných aktiv'!F5>8),3,4))) -> 2 | N2: =IF('Hodnoty podpůrných aktiv'!G5<5,1,IF(AND('Hodnoty podpůrných aktiv'!G5<9,'Hodnoty podpůrných aktiv'!G5>4),2,IF(AND('Hodnoty podpůrných aktiv'!G5<13,'Hodnoty podpůrných aktiv'!G5>8),3,4))) -> 3
A3: PO2 | B3: Technické vybavení (HW) | C3: Servery | D3: Databázový server (HW) | E3: =Tabulka1[[#This Row],[ID]]&": "&Tabulka1[[#This Row],[Typové podpůrné aktivum]] -> PO2: Databázový server (HW) | F3: 1x standalone Server | G3: ředitel odboru ICT (Josef Dvořák) | H3: vedoucí oddělení provozu síťové infrastruktury (Aleš Pokorný) | I3: ano - Dodavatel B | J3: ano | K3: =IF('Hodnoty podpůrných aktiv'!D6<5,1,IF(AND('Hodnoty podpůrných aktiv'!D6<9,'Hodnoty podpůrných aktiv'!D6>4),2,IF(AND('Hodnoty podpůrných aktiv'!D6<13,'Hodnoty podpůrných aktiv'!D6>8),3,4))) -> 3 | L3: =IF('Hodnoty podpůrných aktiv'!E6<5,1,IF(AND('Hodnoty podpůrných aktiv'!E6<9,'Hodnoty podpůrných aktiv'!E6>4),2,IF(AND('Hodnoty podpůrných aktiv'!E6<13,'Hodnoty podpůrných aktiv'!E6>8),3,4))) -> 2 | M3: =IF('Hodnoty podpůrných aktiv'!F6<5,1,IF(AND('Hodnoty podpůrných aktiv'!F6<9,'Hodnoty podpůrných aktiv'!F6>4),2,IF(AND('Hodnoty podpůrných aktiv'!F6<13,'Hodnoty podpůrných aktiv'!F6>8),3,4))) -> 2 | N3: =IF('Hodnoty podpůrných aktiv'!G6<5,1,IF(AND('Hodnoty podpůrných aktiv'!G6<9,'Hodnoty podpůrných aktiv'!G6>4),2,IF(AND('Hodnoty podpůrných aktiv'!G6<13,'Hodnoty podpůrných aktiv'!G6>8),3,4))) -> 3
A4: PO3 | B4: Technické vybavení (HW) | C4: Servery | D4: Webový server (HW) | E4: =Tabulka1[[#This Row],[ID]]&": "&Tabulka1[[#This Row],[Typové podpůrné aktivum]] -> PO3: Webový server (HW) | F4: 1x standalone Server, servery výrobce na nějž se vztahuje varování NÚKIB ze 17.12.2018 | G4: ředitel odboru ICT (Josef Dvořák) | H4: vedoucí oddělení provozu síťové infrastruktury (Aleš Pokorný) | I4: ano - Dodavatel B | J4: ano | K4: =IF('Hodnoty podpůrných aktiv'!D7<5,1,IF(AND('Hodnoty podpůrných aktiv'!D7<9,'Hodnoty podpůrných aktiv'!D7>4),2,IF(AND('Hodnoty podpůrných aktiv'!D7<13,'Hodnoty podpůrných aktiv'!D7>8),3,4))) -> 2 | L4: =IF('Hodnoty podpůrných aktiv'!E7<5,1,IF(AND('Hodnoty podpůrných aktiv'!E7<9,'Hodnoty podpůrných aktiv'!E7>4),2,IF(AND('Hodnoty podpůrných aktiv'!E7<13,'Hodnoty podpůrných aktiv'!E7>8),3,4))) -> 1 | M4: =IF('Hodnoty podpůrných aktiv'!F7<5,1,IF(AND('Hodnoty podpůrných aktiv'!F7<9,'Hodnoty podpůrných aktiv'!F7>4),2,IF(AND('Hodnoty podpůrných aktiv'!F7<13,'Hodnoty podpůrných aktiv'!F7>8),3,4))) -> 1 | N4: =IF('Hodnoty podpůrných aktiv'!G7<5,1,IF(AND('Hodnoty podpůrných aktiv'!G7<9,'Hodnoty podpůrných aktiv'!G7>4),2,IF(AND('Hodnoty podpůrných aktiv'!G7<13,'Hodnoty podpůrných aktiv'!G7>8),3,4))) -> 3
A5: PO4 | B5: Programové vybavení (SW) | C5: Systémový SW | D5: Operační systém - aplikační server | E5: =Tabulka1[[#This Row],[ID]]&": "&Tabulka1[[#This Row],[Typové podpůrné aktivum]] -> PO4: Operační systém - aplikační server | F5: 2x standalone Server, licence | G5: ředitel odboru ICT (Josef Dvořák) | H5: vedoucí oddělení provozu aplikační infrastruktury (Tomáš Fiala) | I5: ano - Dodavatel B | J5: ano | K5: =IF('Hodnoty podpůrných aktiv'!D8<5,1,IF(AND('Hodnoty podpůrných aktiv'!D8<9,'Hodnoty podpůrných aktiv'!D8>4),2,IF(AND('Hodnoty podpůrných aktiv'!D8<13,'Hodnoty podpůrných aktiv'!D8>8),3,4))) -> 3 | L5: =IF('Hodnoty podpůrných aktiv'!E8<5,1,IF(AND('Hodnoty podpůrných aktiv'!E8<9,'Hodnoty podpůrných aktiv'!E8>4),2,IF(AND('Hodnoty podpůrných aktiv'!E8<13,'Hodnoty podpůrných aktiv'!E8>8),3,4))) -> 2 | M5: =IF('Hodnoty podpůrných aktiv'!F8<5,1,IF(AND('Hodnoty podpůrných aktiv'!F8<9,'Hodnoty podpůrných aktiv'!F8>4),2,IF(AND('Hodnoty podpůrných aktiv'!F8<13,'Hodnoty podpůrných aktiv'!F8>8),3,4))) -> 2 | N5: =IF('Hodnoty podpůrných aktiv'!G8<5,1,IF(AND('Hodnoty podpůrných aktiv'!G8<9,'Hodnoty podpůrných aktiv'!G8>4),2,IF(AND('Hodnoty podpůrných aktiv'!G8<13,'Hodnoty podpůrných aktiv'!G8>8),3,4))) -> 3
A6: PO5 | B6: Programové vybavení (SW) | C6: Systémový SW | D6: Operační systém - databázový server | E6: =Tabulka1[[#This Row],[ID]]&": "&Tabulka1[[#This Row],[Typové podpůrné aktivum]] -> PO5: Operační systém - databázový server | F6: 1x standalone Server, licence | G6: ředitel odboru ICT (Josef Dvořák) | H6: vedoucí oddělení provozu aplikační infrastruktury (Tomáš Fiala) | I6: ano - Dodavatel B | J6: ano | K6: =IF('Hodnoty podpůrných aktiv'!D9<5,1,IF(AND('Hodnoty podpůrných aktiv'!D9<9,'Hodnoty podpůrných aktiv'!D9>4),2,IF(AND('Hodnoty podpůrných aktiv'!D9<13,'Hodnoty podpůrných aktiv'!D9>8),3,4))) -> 3 | L6: =IF('Hodnoty podpůrných aktiv'!E9<5,1,IF(AND('Hodnoty podpůrných aktiv'!E9<9,'Hodnoty podpůrných aktiv'!E9>4),2,IF(AND('Hodnoty podpůrných aktiv'!E9<13,'Hodnoty podpůrných aktiv'!E9>8),3,4))) -> 2 | M6: =IF('Hodnoty podpůrných aktiv'!F9<5,1,IF(AND('Hodnoty podpůrných aktiv'!F9<9,'Hodnoty podpůrných aktiv'!F9>4),2,IF(AND('Hodnoty podpůrných aktiv'!F9<13,'Hodnoty podpůrných aktiv'!F9>8),3,4))) -> 2 | N6: =IF('Hodnoty podpůrných aktiv'!G9<5,1,IF(AND('Hodnoty podpůrných aktiv'!G9<9,'Hodnoty podpůrných aktiv'!G9>4),2,IF(AND('Hodnoty podpůrných aktiv'!G9<13,'Hodnoty podpůrných aktiv'!G9>8),3,4))) -> 3
A7: PO6 | B7: Programové vybavení (SW) | C7: Systémový SW | D7: Operační systém - webový server | E7: =Tabulka1[[#This Row],[ID]]&": "&Tabulka1[[#This Row],[Typové podpůrné aktivum]] -> PO6: Operační systém - webový server | F7: 1x standalone Server, licence | G7: ředitel odboru ICT (Josef Dvořák) | H7: vedoucí oddělení provozu aplikační infrastruktury (Tomáš Fiala) | I7: ano - Dodavatel B | J7: ano | K7: =IF('Hodnoty podpůrných aktiv'!D10<5,1,IF(AND('Hodnoty podpůrných aktiv'!D10<9,'Hodnoty podpůrných aktiv'!D10>4),2,IF(AND('Hodnoty podpůrných aktiv'!D10<13,'Hodnoty podpůrných aktiv'!D10>8),3,4))) -> 2 | L7: =IF('Hodnoty podpůrných aktiv'!E10<5,1,IF(AND('Hodnoty podpůrných aktiv'!E10<9,'Hodnoty podpůrných aktiv'!E10>4),2,IF(AND('Hodnoty podpůrných aktiv'!E10<13,'Hodnoty podpůrných aktiv'!E10>8),3,4))) -> 1 | M7: =IF('Hodnoty podpůrných aktiv'!F10<5,1,IF(AND('Hodnoty podpůrných aktiv'!F10<9,'Hodnoty podpůrných aktiv'!F10>4),2,IF(AND('Hodnoty podpůrných aktiv'!F10<13,'Hodnoty podpůrných aktiv'!F10>8),3,4))) -> 1 | N7: =IF('Hodnoty podpůrných aktiv'!G10<5,1,IF(AND('Hodnoty podpůrných aktiv'!G10<9,'Hodnoty podpůrných aktiv'!G10>4),2,IF(AND('Hodnoty podpůrných aktiv'!G10<13,'Hodnoty podpůrných aktiv'!G10>8),3,4))) -> 3
A8: PO7 | B8: Programové vybavení (SW) | C8: Systémový SW | D8: Aplikační server (licence) | E8: =Tabulka1[[#This Row],[ID]]&": "&Tabulka1[[#This Row],[Typové podpůrné aktivum]] -> PO7: Aplikační server (licence) | F8: 2x standalone Server, licence | G8: ředitel odboru ICT (Josef Dvořák) | H8: vedoucí oddělení provozu aplikační infrastruktury (Tomáš Fiala) | I8: ano - Dodavatel A | J8: ano | K8: =IF('Hodnoty podpůrných aktiv'!D11<5,1,IF(AND('Hodnoty podpůrných aktiv'!D11<9,'Hodnoty podpůrných aktiv'!D11>4),2,IF(AND('Hodnoty podpůrných aktiv'!D11<13,'Hodnoty podpůrných aktiv'!D11>8),3,4))) -> 3 | L8: =IF('Hodnoty podpůrných aktiv'!E11<5,1,IF(AND('Hodnoty podpůrných aktiv'!E11<9,'Hodnoty podpůrných aktiv'!E11>4),2,IF(AND('Hodnoty podpůrných aktiv'!E11<13,'Hodnoty podpůrných aktiv'!E11>8),3,4))) -> 2 | M8: =IF('Hodnoty podpůrných aktiv'!F11<5,1,IF(AND('Hodnoty podpůrných aktiv'!F11<9,'Hodnoty podpůrných aktiv'!F11>4),2,IF(AND('Hodnoty podpůrných aktiv'!F11<13,'Hodnoty podpůrných aktiv'!F11>8),3,4))) -> 2 | N8: =IF('Hodnoty podpůrných aktiv'!G11<5,1,IF(AND('Hodnoty podpůrných aktiv'!G11<9,'Hodnoty podpůrných aktiv'!G11>4),2,IF(AND('Hodnoty podpůrných aktiv'!G11<13,'Hodnoty podpůrných aktiv'!G11>8),3,4))) -> 3
A9: PO8 | B9: Programové vybavení (SW) | C9: Systémový SW | D9: Databázový server (licence) | E9: =Tabulka1[[#This Row],[ID]]&": "&Tabulka1[[#This Row],[Typové podpůrné aktivum]] -> PO8: Databázový server (licence) | F9: 1x standalone Server, licence | G9: ředitel odboru ICT (Josef Dvořák) | H9: vedoucí oddělení provozu aplikační infrastruktury (Tomáš Fiala) | I9: ano - Dodavatel A | J9: ano | K9: =IF('Hodnoty podpůrných aktiv'!D12<5,1,IF(AND('Hodnoty podpůrných aktiv'!D12<9,'Hodnoty podpůrných aktiv'!D12>4),2,IF(AND('Hodnoty podpůrných aktiv'!D12<13,'Hodnoty podpůrných aktiv'!D12>8),3,4))) -> 3 | L9: =IF('Hodnoty podpůrných aktiv'!E12<5,1,IF(AND('Hodnoty podpůrných aktiv'!E12<9,'Hodnoty podpůrných aktiv'!E12>4),2,IF(AND('Hodnoty podpůrných aktiv'!E12<13,'Hodnoty podpůrných aktiv'!E12>8),3,4))) -> 2 | M9: =IF('Hodnoty podpůrných aktiv'!F12<5,1,IF(AND('Hodnoty podpůrných aktiv'!F12<9,'Hodnoty podpůrných aktiv'!F12>4),2,IF(AND('Hodnoty podpůrných aktiv'!F12<13,'Hodnoty podpůrných aktiv'!F12>8),3,4))) -> 2 | N9: =IF('Hodnoty podpůrných aktiv'!G12<5,1,IF(AND('Hodnoty podpůrných aktiv'!G12<9,'Hodnoty podpůrných aktiv'!G12>4),2,IF(AND('Hodnoty podpůrných aktiv'!G12<13,'Hodnoty podpůrných aktiv'!G12>8),3,4))) -> 3
A10: PO9 | B10: Programové vybavení (SW) | C10: Systémový SW | D10: Webový server (licence) | E10: =Tabulka1[[#This Row],[ID]]&": "&Tabulka1[[#This Row],[Typové podpůrné aktivum]] -> PO9: Webový server (licence) | F10: 1x standalone Server, licence | G10: ředitel odboru ICT (Josef Dvořák) | H10: vedoucí oddělení provozu aplikační infrastruktury (Tomáš Fiala) | I10: ano - Dodavatel A | J10: ano | K10: =IF('Hodnoty podpůrných aktiv'!D13<5,1,IF(AND('Hodnoty podpůrných aktiv'!D13<9,'Hodnoty podpůrných aktiv'!D13>4),2,IF(AND('Hodnoty podpůrných aktiv'!D13<13,'Hodnoty podpůrných aktiv'!D13>8),3,4))) -> 2 | L10: =IF('Hodnoty podpůrných aktiv'!E13<5,1,IF(AND('Hodnoty podpůrných aktiv'!E13<9,'Hodnoty podpůrných aktiv'!E13>4),2,IF(AND('Hodnoty podpůrných aktiv'!E13<13,'Hodnoty podpůrných aktiv'!E13>8),3,4))) -> 1 | M10: =IF('Hodnoty podpůrných aktiv'!F13<5,1,IF(AND('Hodnoty podpůrných aktiv'!F13<9,'Hodnoty podpůrných aktiv'!F13>4),2,IF(AND('Hodnoty podpůrných aktiv'!F13<13,'Hodnoty podpůrných aktiv'!F13>8),3,4))) -> 1 | N10: =IF('Hodnoty podpůrných aktiv'!G13<5,1,IF(AND('Hodnoty podpůrných aktiv'!G13<9,'Hodnoty podpůrných aktiv'!G13>4),2,IF(AND('Hodnoty podpůrných aktiv'!G13<13,'Hodnoty podpůrných aktiv'!G13>8),3,4))) -> 3
A11: PO10 | B11: Programové vybavení (SW) | C11: Systémový SW | D11: Aplikační server (SW) | E11: =Tabulka1[[#This Row],[ID]]&": "&Tabulka1[[#This Row],[Typové podpůrné aktivum]] -> PO10: Aplikační server (SW) | F11: 2x standalone Server, programový kód | G11: ředitel odboru ICT (Josef Dvořák) | H11: vedoucí oddělení provozu aplikační infrastruktury (Tomáš Fiala) | I11: ano - Dodavatel A | J11: ano | K11: =IF('Hodnoty podpůrných aktiv'!D14<5,1,IF(AND('Hodnoty podpůrných aktiv'!D14<9,'Hodnoty podpůrných aktiv'!D14>4),2,IF(AND('Hodnoty podpůrných aktiv'!D14<13,'Hodnoty podpůrných aktiv'!D14>8),3,4))) -> 3 | L11: =IF('Hodnoty podpůrných aktiv'!E14<5,1,IF(AND('Hodnoty podpůrných aktiv'!E14<9,'Hodnoty podpůrných aktiv'!E14>4),2,IF(AND('Hodnoty podpůrných aktiv'!E14<13,'Hodnoty podpůrných aktiv'!E14>8),3,4))) -> 2 | M11: =IF('Hodnoty podpůrných aktiv'!F14<5,1,IF(AND('Hodnoty podpůrných aktiv'!F14<9,'Hodnoty podpůrných aktiv'!F14>4),2,IF(AND('Hodnoty podpůrných aktiv'!F14<13,'Hodnoty podpůrných aktiv'!F14>8),3,4))) -> 2 | N11: =IF('Hodnoty podpůrných aktiv'!G14<5,1,IF(AND('Hodnoty podpůrných aktiv'!G14<9,'Hodnoty podpůrných aktiv'!G14>4),2,IF(AND('Hodnoty podpůrných aktiv'!G14<13,'Hodnoty podpůrných aktiv'!G14>8),3,4))) -> 3
A12: PO11 | B12: Programové vybavení (SW) | C12: Systémový SW | D12: Databázový server (SW) | E12: =Tabulka1[[#This Row],[ID]]&": "&Tabulka1[[#This Row],[Typové podpůrné aktivum]] -> PO11: Databázový server (SW) | F12: 1x standalone Server, programový kód | G12: ředitel odboru ICT (Josef Dvořák) | H12: vedoucí oddělení provozu aplikační infrastruktury (Tomáš Fiala) | I12: ano - Dodavatel A | J12: ano | K12: =IF('Hodnoty podpůrných aktiv'!D15<5,1,IF(AND('Hodnoty podpůrných aktiv'!D15<9,'Hodnoty podpůrných aktiv'!D15>4),2,IF(AND('Hodnoty podpůrných aktiv'!D15<13,'Hodnoty podpůrných aktiv'!D15>8),3,4))) -> 3 | L12: =IF('Hodnoty podpůrných aktiv'!E15<5,1,IF(AND('Hodnoty podpůrných aktiv'!E15<9,'Hodnoty podpůrných aktiv'!E15>4),2,IF(AND('Hodnoty podpůrných aktiv'!E15<13,'Hodnoty podpůrných aktiv'!E15>8),3,4))) -> 2 | M12: =IF('Hodnoty podpůrných aktiv'!F15<5,1,IF(AND('Hodnoty podpůrných aktiv'!F15<9,'Hodnoty podpůrných aktiv'!F15>4),2,IF(AND('Hodnoty podpůrných aktiv'!F15<13,'Hodnoty podpůrných aktiv'!F15>8),3,4))) -> 2 | N12: =IF('Hodnoty podpůrných aktiv'!G15<5,1,IF(AND('Hodnoty podpůrných aktiv'!G15<9,'Hodnoty podpůrných aktiv'!G15>4),2,IF(AND('Hodnoty podpůrných aktiv'!G15<13,'Hodnoty podpůrných aktiv'!G15>8),3,4))) -> 3
A13: PO12 | B13: Programové vybavení (SW) | C13: Systémový SW | D13: Webový server (SW) | E13: =Tabulka1[[#This Row],[ID]]&": "&Tabulka1[[#This Row],[Typové podpůrné aktivum]] -> PO12: Webový server (SW) | F13: 1x standalone Server, programový kód | G13: ředitel odboru ICT (Josef Dvořák) | H13: vedoucí oddělení provozu aplikační infrastruktury (Tomáš Fiala) | I13: ano - Dodavatel A | J13: ano | K13: =IF('Hodnoty podpůrných aktiv'!D16<5,1,IF(AND('Hodnoty podpůrných aktiv'!D16<9,'Hodnoty podpůrných aktiv'!D16>4),2,IF(AND('Hodnoty podpůrných aktiv'!D16<13,'Hodnoty podpůrných aktiv'!D16>8),3,4))) -> 2 | L13: =IF('Hodnoty podpůrných aktiv'!E16<5,1,IF(AND('Hodnoty podpůrných aktiv'!E16<9,'Hodnoty podpůrných aktiv'!E16>4),2,IF(AND('Hodnoty podpůrných aktiv'!E16<13,'Hodnoty podpůrných aktiv'!E16>8),3,4))) -> 1 | M13: =IF('Hodnoty podpůrných aktiv'!F16<5,1,IF(AND('Hodnoty podpůrných aktiv'!F16<9,'Hodnoty podpůrných aktiv'!F16>4),2,IF(AND('Hodnoty podpůrných aktiv'!F16<13,'Hodnoty podpůrných aktiv'!F16>8),3,4))) -> 1 | N13: =IF('Hodnoty podpůrných aktiv'!G16<5,1,IF(AND('Hodnoty podpůrných aktiv'!G16<9,'Hodnoty podpůrných aktiv'!G16>4),2,IF(AND('Hodnoty podpůrných aktiv'!G16<13,'Hodnoty podpůrných aktiv'!G16>8),3,4))) -> 3
... A16: PO15 | B16: Lidské zdroje | C16: Uživatelé | D16: Uživatel - žadatel | E16: =Tabulka1[[#This Row],[ID]]&": "&Tabulka1[[#This Row],[Typové podpůrné aktivum]] -> PO15: Uživatel - žadatel | F16: žadatelé o certifikaci senzorů | G16: náměstek sekce certifikací (Martin Novotný) | H16: ředitelka odboru podpory (Renata Malá) | I16: ano - Dodavatel A | J16: ano, musí se řídit nastavenými pravidly | K16: =IF('Hodnoty podpůrných aktiv'!D19<5,1,IF(AND('Hodnoty podpůrných aktiv'!D19<9,'Hodnoty podpůrných aktiv'!D19>4),2,IF(AND('Hodnoty podpůrných aktiv'!D19<13,'Hodnoty podpůrných aktiv'!D19>8),3,4))) -> 1 | L16: =IF('Hodnoty podpůrných aktiv'!E19<5,1,IF(AND('Hodnoty podpůrných aktiv'!E19<9,'Hodnoty podpůrných aktiv'!E19>4),2,IF(AND('Hodnoty podpůrných aktiv'!E19<13,'Hodnoty podpůrných aktiv'!E19>8),3,4))) -> 1 | M16: =IF('Hodnoty podpůrných aktiv'!F19<5,1,IF(AND('Hodnoty podpůrných aktiv'!F19<9,'Hodnoty podpůrných aktiv'!F19>4),2,IF(AND('Hodnoty podpůrných aktiv'!F19<13,'Hodnoty podpůrných aktiv'!F19>8),3,4))) -> 3 | N16: =IF('Hodnoty podpůrných aktiv'!G19<5,1,IF(AND('Hodnoty podpůrných aktiv'!G19<9,'Hodnoty podpůrných aktiv'!G19>4),2,IF(AND('Hodnoty podpůrných aktiv'!G19<13,'Hodnoty podpůrných aktiv'!G19>8),3,4))) -> 3
A17: PO16 | B17: Lidské zdroje | C17: Uživatelé | D17: Uživatel - veřejnost | E17: =Tabulka1[[#This Row],[ID]]&": "&Tabulka1[[#This Row],[Typové podpůrné aktivum]] -> PO16: Uživatel - veřejnost | F17: široká veřejnost, která chce získat informace o certifikovaných senzorech | J17: ne, rozsah bude končit na zobrazovacím bodě - GUI webové služby | K17: =IF('Hodnoty podpůrných aktiv'!D20<5,1,IF(AND('Hodnoty podpůrných aktiv'!D20<9,'Hodnoty podpůrných aktiv'!D20>4),2,IF(AND('Hodnoty podpůrných aktiv'!D20<13,'Hodnoty podpůrných aktiv'!D20>8),3,4))) -> 1 | L17: =IF('Hodnoty podpůrných aktiv'!E20<5,1,IF(AND('Hodnoty podpůrných aktiv'!E20<9,'Hodnoty podpůrných aktiv'!E20>4),2,IF(AND('Hodnoty podpůrných aktiv'!E20<13,'Hodnoty podpůrných aktiv'!E20>8),3,4))) -> 1 | M17: =IF('Hodnoty podpůrných aktiv'!F20<5,1,IF(AND('Hodnoty podpůrných aktiv'!F20<9,'Hodnoty podpůrných aktiv'!F20>4),2,IF(AND('Hodnoty podpůrných aktiv'!F20<13,'Hodnoty podpůrných aktiv'!F20>8),3,4))) -> 1 | N17: =IF('Hodnoty podpůrných aktiv'!G20<5,1,IF(AND('Hodnoty podpůrných aktiv'!G20<9,'Hodnoty podpůrných aktiv'!G20>4),2,IF(AND('Hodnoty podpůrných aktiv'!G20<13,'Hodnoty podpůrných aktiv'!G20>8),3,4))) -> 1 | O17: Pro aktivum mimo rozsah ISMS není potřeba stanovovat gestora a garanta.
A18: PO17 | B18: Lidské zdroje | C18: Administrátoři | D18: Administrátor - interní | E18: =Tabulka1[[#This Row],[ID]]&": "&Tabulka1[[#This Row],[Typové podpůrné aktivum]] -> PO17: Administrátor - interní | F18: interní administrátoři | G18: ředitel odboru ICT (Josef Dvořák) | H18: ředitel odboru ICT (Josef Dvořák) | J18: ano | K18: =IF('Hodnoty podpůrných aktiv'!D21<5,1,IF(AND('Hodnoty podpůrných aktiv'!D21<9,'Hodnoty podpůrných aktiv'!D21>4),2,IF(AND('Hodnoty podpůrných aktiv'!D21<13,'Hodnoty podpůrných aktiv'!D21>8),3,4))) -> 3 | L18: =IF('Hodnoty podpůrných aktiv'!E21<5,1,IF(AND('Hodnoty podpůrných aktiv'!E21<9,'Hodnoty podpůrných aktiv'!E21>4),2,IF(AND('Hodnoty podpůrných aktiv'!E21<13,'Hodnoty podpůrných aktiv'!E21>8),3,4))) -> 4 | M18: =IF('Hodnoty podpůrných aktiv'!F21<5,1,IF(AND('Hodnoty podpůrných aktiv'!F21<9,'Hodnoty podpůrných aktiv'!F21>4),2,IF(AND('Hodnoty podpůrných aktiv'!F21<13,'Hodnoty podpůrných aktiv'!F21>8),3,4))) -> 3 | N18: =IF('Hodnoty podpůrných aktiv'!G21<5,1,IF(AND('Hodnoty podpůrných aktiv'!G21<9,'Hodnoty podpůrných aktiv'!G21>4),2,IF(AND('Hodnoty podpůrných aktiv'!G21<13,'Hodnoty podpůrných aktiv'!G21>8),3,4))) -> 3
A19: PO18 | B19: Lidské zdroje | C19: Administrátoři | D19: Administrátor - externí | E19: =Tabulka1[[#This Row],[ID]]&": "&Tabulka1[[#This Row],[Typové podpůrné aktivum]] -> PO18: Administrátor - externí | F19: externí administrátoři | G19: ředitel odboru ICT (Josef Dvořák) | H19: ředitel odboru ICT (Josef Dvořák) | I19: ano - Dodavatel A, Dodavatel B | J19: ano | K19: =IF('Hodnoty podpůrných aktiv'!D22<5,1,IF(AND('Hodnoty podpůrných aktiv'!D22<9,'Hodnoty podpůrných aktiv'!D22>4),2,IF(AND('Hodnoty podpůrných aktiv'!D22<13,'Hodnoty podpůrných aktiv'!D22>8),3,4))) -> 3 | L19: =IF('Hodnoty podpůrných aktiv'!E22<5,1,IF(AND('Hodnoty podpůrných aktiv'!E22<9,'Hodnoty podpůrných aktiv'!E22>4),2,IF(AND('Hodnoty podpůrných aktiv'!E22<13,'Hodnoty podpůrných aktiv'!E22>8),3,4))) -> 4 | M19: =IF('Hodnoty podpůrných aktiv'!F22<5,1,IF(AND('Hodnoty podpůrných aktiv'!F22<9,'Hodnoty podpůrných aktiv'!F22>4),2,IF(AND('Hodnoty podpůrných aktiv'!F22<13,'Hodnoty podpůrných aktiv'!F22>8),3,4))) -> 3 | N19: =IF('Hodnoty podpůrných aktiv'!G22<5,1,IF(AND('Hodnoty podpůrných aktiv'!G22<9,'Hodnoty podpůrných aktiv'!G22>4),2,IF(AND('Hodnoty podpůrných aktiv'!G22<13,'Hodnoty podpůrných aktiv'!G22>8),3,4))) -> 3
E20: =Tabulka1[[#This Row],[ID]]&": "&Tabulka1[[#This Row],[Typové podpůrné aktivum]] -> : | K20: =IF('Hodnoty podpůrných aktiv'!D22<5,1,IF(AND('Hodnoty podpůrných aktiv'!D22<9,'Hodnoty podpůrných aktiv'!D22>4),2,IF(AND('Hodnoty podpůrných aktiv'!D22<13,'Hodnoty podpůrných aktiv'!D22>8),3,4))) -> 3 | L20: =IF('Hodnoty podpůrných aktiv'!E22<5,1,IF(AND('Hodnoty podpůrných aktiv'!E22<9,'Hodnoty podpůrných aktiv'!E22>4),2,IF(AND('Hodnoty podpůrných aktiv'!E22<13,'Hodnoty podpůrných aktiv'!E22>8),3,4))) -> 4 | M20: =IF('Hodnoty podpůrných aktiv'!F22<5,1,IF(AND('Hodnoty podpůrných aktiv'!F22<9,'Hodnoty podpůrných aktiv'!F22>4),2,IF(AND('Hodnoty podpůrných aktiv'!F22<13,'Hodnoty podpůrných aktiv'!F22>8),3,4))) -> 3 | N20: =IF('Hodnoty podpůrných aktiv'!G22<5,1,IF(AND('Hodnoty podpůrných aktiv'!G22<9,'Hodnoty podpůrných aktiv'!G22>4),2,IF(AND('Hodnoty podpůrných aktiv'!G22<13,'Hodnoty podpůrných aktiv'!G22>8),3,4))) -> 3
A21: PO19 | B21: Aplikace | C21: Systémová aplikace | D21: Autentizační a autorizační aplikace | E21: =Tabulka1[[#This Row],[ID]]&": "&Tabulka1[[#This Row],[Typové podpůrné aktivum]] -> PO19: Autentizační a autorizační aplikace | F21: jedno typové aktivum, které shrnuje HW, SW, OS, aplikační SW | G21: ředitel odboru ICT (Josef Dvořák) | H21: vedoucí oddělení provozu aplikační infrastruktury (Tomáš Fiala) | I21: ano - Dodavatel A | J21: ano | K21: =IF('Hodnoty podpůrných aktiv'!D23<5,1,IF(AND('Hodnoty podpůrných aktiv'!D23<9,'Hodnoty podpůrných aktiv'!D23>4),2,IF(AND('Hodnoty podpůrných aktiv'!D23<13,'Hodnoty podpůrných aktiv'!D23>8),3,4))) -> 2 | L21: =IF('Hodnoty podpůrných aktiv'!E23<5,1,IF(AND('Hodnoty podpůrných aktiv'!E23<9,'Hodnoty podpůrných aktiv'!E23>4),2,IF(AND('Hodnoty podpůrných aktiv'!E23<13,'Hodnoty podpůrných aktiv'!E23>8),3,4))) -> 3 | M21: =IF('Hodnoty podpůrných aktiv'!F23<5,1,IF(AND('Hodnoty podpůrných aktiv'!F23<9,'Hodnoty podpůrných aktiv'!F23>4),2,IF(AND('Hodnoty podpůrných aktiv'!F23<13,'Hodnoty podpůrných aktiv'!F23>8),3,4))) -> 3 | N21: =IF('Hodnoty podpůrných aktiv'!G23<5,1,IF(AND('Hodnoty podpůrných aktiv'!G23<9,'Hodnoty podpůrných aktiv'!G23>4),2,IF(AND('Hodnoty podpůrných aktiv'!G23<13,'Hodnoty podpůrných aktiv'!G23>8),3,4))) -> 3
A22: PO20 | B22: Komunikační prostředky | C22: Síťová zařízení | D22: Switch (přepínač) | E22: =Tabulka1[[#This Row],[ID]]&": "&Tabulka1[[#This Row],[Typové podpůrné aktivum]] -> PO20: Switch (přepínač) | F22: obecné síťové prostředí, jsou standardizovány aktivní prvky velkého světového výrobce • Typ 1. – velké L3 switche, cca 4 ks • Typ 2. – malé L2 switche, cca 20 ks | G22: ředitel odboru ICT (Josef Dvořák) | H22: vedoucí oddělení provozu síťové infrastruktury (Aleš Pokorný) | I22: ano - Dodavatel B | J22: ano | K22: =IF('Hodnoty podpůrných aktiv'!D24<5,1,IF(AND('Hodnoty podpůrných aktiv'!D24<9,'Hodnoty podpůrných aktiv'!D24>4),2,IF(AND('Hodnoty podpůrných aktiv'!D24<13,'Hodnoty podpůrných aktiv'!D24>8),3,4))) -> 3 | L22: =IF('Hodnoty podpůrných aktiv'!E24<5,1,IF(AND('Hodnoty podpůrných aktiv'!E24<9,'Hodnoty podpůrných aktiv'!E24>4),2,IF(AND('Hodnoty podpůrných aktiv'!E24<13,'Hodnoty podpůrných aktiv'!E24>8),3,4))) -> 2 | M22: =IF('Hodnoty podpůrných aktiv'!F24<5,1,IF(AND('Hodnoty podpůrných aktiv'!F24<9,'Hodnoty podpůrných aktiv'!F24>4),2,IF(AND('Hodnoty podpůrných aktiv'!F24<13,'Hodnoty podpůrných aktiv'!F24>8),3,4))) -> 2 | N22: =IF('Hodnoty podpůrných aktiv'!G24<5,1,IF(AND('Hodnoty podpůrných aktiv'!G24<9,'Hodnoty podpůrných aktiv'!G24>4),2,IF(AND('Hodnoty podpůrných aktiv'!G24<13,'Hodnoty podpůrných aktiv'!G24>8),3,4))) -> 3
A23: PO21 | B23: Komunikační prostředky | C23: Síťová zařízení | D23: Switch (přepínač) | E23: =Tabulka1[[#This Row],[ID]]&": "&Tabulka1[[#This Row],[Typové podpůrné aktivum]] -> PO21: Switch (přepínač) | F23: obecné síťové prostředí, jsou standardizovány aktivní prvky výrobce na nějž se vztahuje varování NÚKIB ze 17.12.2018 • Typ 1. – velké L3 switche, cca 6 ks • Typ 2. – malé L2 switche, cca 30ks | G23: ředitel odboru ICT (Josef Dvořák) | H23: vedoucí oddělení provozu síťové infrastruktury (Aleš Pokorný) | I23: ano - Dodavatel B | J23: ano | K23: =IF('Hodnoty podpůrných aktiv'!D25<5,1,IF(AND('Hodnoty podpůrných aktiv'!D25<9,'Hodnoty podpůrných aktiv'!D25>4),2,IF(AND('Hodnoty podpůrných aktiv'!D25<13,'Hodnoty podpůrných aktiv'!D25>8),3,4))) -> 3 | L23: =IF('Hodnoty podpůrných aktiv'!E25<5,1,IF(AND('Hodnoty podpůrných aktiv'!E25<9,'Hodnoty podpůrných aktiv'!E25>4),2,IF(AND('Hodnoty podpůrných aktiv'!E25<13,'Hodnoty podpůrných aktiv'!E25>8),3,4))) -> 2 | M23: =IF('Hodnoty podpůrných aktiv'!F25<5,1,IF(AND('Hodnoty podpůrných aktiv'!F25<9,'Hodnoty podpůrných aktiv'!F25>4),2,IF(AND('Hodnoty podpůrných aktiv'!F25<13,'Hodnoty podpůrných aktiv'!F25>8),3,4))) -> 2 | N23: =IF('Hodnoty podpůrných aktiv'!G25<5,1,IF(AND('Hodnoty podpůrných aktiv'!G25<9,'Hodnoty podpůrných aktiv'!G25>4),2,IF(AND('Hodnoty podpůrných aktiv'!G25<13,'Hodnoty podpůrných aktiv'!G25>8),3,4))) -> 3
A24: PO22 | B24: Komunikační prostředky | C24: Síťová zařízení | D24: HW firewall - vnitřní | E24: =Tabulka1[[#This Row],[ID]]&": "&Tabulka1[[#This Row],[Typové podpůrné aktivum]] -> PO22: HW firewall - vnitřní | F24: vnitřní firewall | G24: ředitel odboru ICT (Josef Dvořák) | H24: vedoucí oddělení provozu síťové infrastruktury (Aleš Pokorný) | I24: ano - Dodavatel B | J24: ano | K24: =IF('Hodnoty podpůrných aktiv'!D26<5,1,IF(AND('Hodnoty podpůrných aktiv'!D26<9,'Hodnoty podpůrných aktiv'!D26>4),2,IF(AND('Hodnoty podpůrných aktiv'!D26<13,'Hodnoty podpůrných aktiv'!D26>8),3,4))) -> 3 | L24: =IF('Hodnoty podpůrných aktiv'!E26<5,1,IF(AND('Hodnoty podpůrných aktiv'!E26<9,'Hodnoty podpůrných aktiv'!E26>4),2,IF(AND('Hodnoty podpůrných aktiv'!E26<13,'Hodnoty podpůrných aktiv'!E26>8),3,4))) -> 2 | M24: =IF('Hodnoty podpůrných aktiv'!F26<5,1,IF(AND('Hodnoty podpůrných aktiv'!F26<9,'Hodnoty podpůrných aktiv'!F26>4),2,IF(AND('Hodnoty podpůrných aktiv'!F26<13,'Hodnoty podpůrných aktiv'!F26>8),3,4))) -> 2 | N24: =IF('Hodnoty podpůrných aktiv'!G26<5,1,IF(AND('Hodnoty podpůrných aktiv'!G26<9,'Hodnoty podpůrných aktiv'!G26>4),2,IF(AND('Hodnoty podpůrných aktiv'!G26<13,'Hodnoty podpůrných aktiv'!G26>8),3,4))) -> 3
A25: PO23 | B25: Komunikační prostředky | C25: Síťová zařízení | D25: HW firewall - perimetrový | E25: =Tabulka1[[#This Row],[ID]]&": "&Tabulka1[[#This Row],[Typové podpůrné aktivum]] -> PO23: HW firewall - perimetrový | F25: perimetrový firewall | G25: ředitel odboru ICT (Josef Dvořák) | H25: vedoucí oddělení provozu síťové infrastruktury (Aleš Pokorný) | I25: ano - Dodavatel B | J25: ano | K25: =IF('Hodnoty podpůrných aktiv'!D27<5,1,IF(AND('Hodnoty podpůrných aktiv'!D27<9,'Hodnoty podpůrných aktiv'!D27>4),2,IF(AND('Hodnoty podpůrných aktiv'!D27<13,'Hodnoty podpůrných aktiv'!D27>8),3,4))) -> 3 | L25: =IF('Hodnoty podpůrných aktiv'!E27<5,1,IF(AND('Hodnoty podpůrných aktiv'!E27<9,'Hodnoty podpůrných aktiv'!E27>4),2,IF(AND('Hodnoty podpůrných aktiv'!E27<13,'Hodnoty podpůrných aktiv'!E27>8),3,4))) -> 2 | M25: =IF('Hodnoty podpůrných aktiv'!F27<5,1,IF(AND('Hodnoty podpůrných aktiv'!F27<9,'Hodnoty podpůrných aktiv'!F27>4),2,IF(AND('Hodnoty podpůrných aktiv'!F27<13,'Hodnoty podpůrných aktiv'!F27>8),3,4))) -> 2 | N25: =IF('Hodnoty podpůrných aktiv'!G27<5,1,IF(AND('Hodnoty podpůrných aktiv'!G27<9,'Hodnoty podpůrných aktiv'!G27>4),2,IF(AND('Hodnoty podpůrných aktiv'!G27<13,'Hodnoty podpůrných aktiv'!G27>8),3,4))) -> 3
A26: PO24 | B26: Programové vybavení (SW) | C26: Bezpečnostní SW | D26: Antivir | E26: =Tabulka1[[#This Row],[ID]]&": "&Tabulka1[[#This Row],[Typové podpůrné aktivum]] -> PO24: Antivir | F26: prostředí windows, servery i koncová zařízení | G26: ředitel odboru ICT (Josef Dvořák) | H26: vedoucí oddělení provozu aplikační infrastruktury (Tomáš Fiala) | I26: ano - Dodavatel B | J26: ano, všechny dokumenty nahrávané v pdf | K26: =IF('Hodnoty podpůrných aktiv'!D28<5,1,IF(AND('Hodnoty podpůrných aktiv'!D28<9,'Hodnoty podpůrných aktiv'!D28>4),2,IF(AND('Hodnoty podpůrných aktiv'!D28<13,'Hodnoty podpůrných aktiv'!D28>8),3,4))) -> 2 | L26: =IF('Hodnoty podpůrných aktiv'!E28<5,1,IF(AND('Hodnoty podpůrných aktiv'!E28<9,'Hodnoty podpůrných aktiv'!E28>4),2,IF(AND('Hodnoty podpůrných aktiv'!E28<13,'Hodnoty podpůrných aktiv'!E28>8),3,4))) -> 3 | M26: =IF('Hodnoty podpůrných aktiv'!F28<5,1,IF(AND('Hodnoty podpůrných aktiv'!F28<9,'Hodnoty podpůrných aktiv'!F28>4),2,IF(AND('Hodnoty podpůrných aktiv'!F28<13,'Hodnoty podpůrných aktiv'!F28>8),3,4))) -> 3 | N26: =IF('Hodnoty podpůrných aktiv'!G28<5,1,IF(AND('Hodnoty podpůrných aktiv'!G28<9,'Hodnoty podpůrných aktiv'!G28>4),2,IF(AND('Hodnoty podpůrných aktiv'!G28<13,'Hodnoty podpůrných aktiv'!G28>8),3,4))) -> 3
A27: PO25 | B27: Programové vybavení (SW) | C27: Systémový SW | D27: Monitoring a správa provozu | E27: =Tabulka1[[#This Row],[ID]]&": "&Tabulka1[[#This Row],[Typové podpůrné aktivum]] -> PO25: Monitoring a správa provozu | F27: lokální logy různých zařízení, jednoduchý dohled, aktualizace | G27: ředitelka odboru bezpečnostního (Petra Horáková) | H27: vedoucí oddělení bezpečnosti ICT (Jiří Hrubý) | I27: ano - Dodavatel A | J27: ano | K27: =IF('Hodnoty podpůrných aktiv'!D29<5,1,IF(AND('Hodnoty podpůrných aktiv'!D29<9,'Hodnoty podpůrných aktiv'!D29>4),2,IF(AND('Hodnoty podpůrných aktiv'!D29<13,'Hodnoty podpůrných aktiv'!D29>8),3,4))) -> 3 | L27: =IF('Hodnoty podpůrných aktiv'!E29<5,1,IF(AND('Hodnoty podpůrných aktiv'!E29<9,'Hodnoty podpůrných aktiv'!E29>4),2,IF(AND('Hodnoty podpůrných aktiv'!E29<13,'Hodnoty podpůrných aktiv'!E29>8),3,4))) -> 3 | M27: =IF('Hodnoty podpůrných aktiv'!F29<5,1,IF(AND('Hodnoty podpůrných aktiv'!F29<9,'Hodnoty podpůrných aktiv'!F29>4),2,IF(AND('Hodnoty podpůrných aktiv'!F29<13,'Hodnoty podpůrných aktiv'!F29>8),3,4))) -> 3 | N27: =IF('Hodnoty podpůrných aktiv'!G29<5,1,IF(AND('Hodnoty podpůrných aktiv'!G29<9,'Hodnoty podpůrných aktiv'!G29>4),2,IF(AND('Hodnoty podpůrných aktiv'!G29<13,'Hodnoty podpůrných aktiv'!G29>8),3,4))) -> 3
A28: PO26 | B28: Objekty | C28: Místnosti | D28: Serverovna | E28: =Tabulka1[[#This Row],[ID]]&": "&Tabulka1[[#This Row],[Typové podpůrné aktivum]] -> PO26: Serverovna | F28: serverovna, rack, rozvodna | G28: ředitelka odboru správy majetku (Alena Veselá) | H28: ředitelka odboru správy majetku (Alena Veselá) | J28: ano | K28: =IF('Hodnoty podpůrných aktiv'!D30<5,1,IF(AND('Hodnoty podpůrných aktiv'!D30<9,'Hodnoty podpůrných aktiv'!D30>4),2,IF(AND('Hodnoty podpůrných aktiv'!D30<13,'Hodnoty podpůrných aktiv'!D30>8),3,4))) -> 3 | L28: =IF('Hodnoty podpůrných aktiv'!E30<5,1,IF(AND('Hodnoty podpůrných aktiv'!E30<9,'Hodnoty podpůrných aktiv'!E30>4),2,IF(AND('Hodnoty podpůrných aktiv'!E30<13,'Hodnoty podpůrných aktiv'!E30>8),3,4))) -> 3 | M28: =IF('Hodnoty podpůrných aktiv'!F30<5,1,IF(AND('Hodnoty podpůrných aktiv'!F30<9,'Hodnoty podpůrných aktiv'!F30>4),2,IF(AND('Hodnoty podpůrných aktiv'!F30<13,'Hodnoty podpůrných aktiv'!F30>8),3,4))) -> 3 | N28: =IF('Hodnoty podpůrných aktiv'!G30<5,1,IF(AND('Hodnoty podpůrných aktiv'!G30<9,'Hodnoty podpůrných aktiv'!G30>4),2,IF(AND('Hodnoty podpůrných aktiv'!G30<13,'Hodnoty podpůrných aktiv'!G30>8),3,4))) -> 3
A29: PO27 | B29: Objekty | C29: Areály | D29: Areál | E29: =Tabulka1[[#This Row],[ID]]&": "&Tabulka1[[#This Row],[Typové podpůrné aktivum]] -> PO27: Areál | F29: všechny budovy ministerstva | G29: ředitelka odboru správy majetku (Alena Veselá) | H29: ředitelka odboru správy majetku (Alena Veselá) | J29: ano | K29: =IF('Hodnoty podpůrných aktiv'!D31<5,1,IF(AND('Hodnoty podpůrných aktiv'!D31<9,'Hodnoty podpůrných aktiv'!D31>4),2,IF(AND('Hodnoty podpůrných aktiv'!D31<13,'Hodnoty podpůrných aktiv'!D31>8),3,4))) -> 3 | L29: =IF('Hodnoty podpůrných aktiv'!E31<5,1,IF(AND('Hodnoty podpůrných aktiv'!E31<9,'Hodnoty podpůrných aktiv'!E31>4),2,IF(AND('Hodnoty podpůrných aktiv'!E31<13,'Hodnoty podpůrných aktiv'!E31>8),3,4))) -> 3 | M29: =IF('Hodnoty podpůrných aktiv'!F31<5,1,IF(AND('Hodnoty podpůrných aktiv'!F31<9,'Hodnoty podpůrných aktiv'!F31>4),2,IF(AND('Hodnoty podpůrných aktiv'!F31<13,'Hodnoty podpůrných aktiv'!F31>8),3,4))) -> 3 | N29: =IF('Hodnoty podpůrných aktiv'!G31<5,1,IF(AND('Hodnoty podpůrných aktiv'!G31<9,'Hodnoty podpůrných aktiv'!G31>4),2,IF(AND('Hodnoty podpůrných aktiv'!G31<13,'Hodnoty podpůrných aktiv'!G31>8),3,4))) -> 3
A30: PO28 | B30: Technické vybavení (HW) | C30: Kabeláž | D30: Kabeláž | E30: =Tabulka1[[#This Row],[ID]]&": "&Tabulka1[[#This Row],[Typové podpůrné aktivum]] -> PO28: Kabeláž | F30: optika, metalická kabeláž | G30: ředitel odboru ICT (Josef Dvořák) | H30: vedoucí oddělení provozu síťové infrastruktury (Aleš Pokorný) | J30: ano | K30: =IF('Hodnoty podpůrných aktiv'!D32<5,1,IF(AND('Hodnoty podpůrných aktiv'!D32<9,'Hodnoty podpůrných aktiv'!D32>4),2,IF(AND('Hodnoty podpůrných aktiv'!D32<13,'Hodnoty podpůrných aktiv'!D32>8),3,4))) -> 3 | L30: =IF('Hodnoty podpůrných aktiv'!E32<5,1,IF(AND('Hodnoty podpůrných aktiv'!E32<9,'Hodnoty podpůrných aktiv'!E32>4),2,IF(AND('Hodnoty podpůrných aktiv'!E32<13,'Hodnoty podpůrných aktiv'!E32>8),3,4))) -> 2 | M30: =IF('Hodnoty podpůrných aktiv'!F32<5,1,IF(AND('Hodnoty podpůrných aktiv'!F32<9,'Hodnoty podpůrných aktiv'!F32>4),2,IF(AND('Hodnoty podpůrných aktiv'!F32<13,'Hodnoty podpůrných aktiv'!F32>8),3,4))) -> 3 | N30: =IF('Hodnoty podpůrných aktiv'!G32<5,1,IF(AND('Hodnoty podpůrných aktiv'!G32<9,'Hodnoty podpůrných aktiv'!G32>4),2,IF(AND('Hodnoty podpůrných aktiv'!G32<13,'Hodnoty podpůrných aktiv'!G32>8),3,4))) -> 3
A31: PO29 | B31: Programové vybavení (SW) | C31: Systémový SW | D31: Zálohovací SW | E31: =Tabulka1[[#This Row],[ID]]&": "&Tabulka1[[#This Row],[Typové podpůrné aktivum]] -> PO29: Zálohovací SW | F31: licenční zálohovací SW | G31: ředitel odboru ICT (Josef Dvořák) | H31: vedoucí oddělení provozu aplikační infrastruktury (Tomáš Fiala) | J31: ano | K31: =IF('Hodnoty podpůrných aktiv'!D33<5,1,IF(AND('Hodnoty podpůrných aktiv'!D33<9,'Hodnoty podpůrných aktiv'!D33>4),2,IF(AND('Hodnoty podpůrných aktiv'!D33<13,'Hodnoty podpůrných aktiv'!D33>8),3,4))) -> 3 | L31: =IF('Hodnoty podpůrných aktiv'!E33<5,1,IF(AND('Hodnoty podpůrných aktiv'!E33<9,'Hodnoty podpůrných aktiv'!E33>4),2,IF(AND('Hodnoty podpůrných aktiv'!E33<13,'Hodnoty podpůrných aktiv'!E33>8),3,4))) -> 2 | M31: =IF('Hodnoty podpůrných aktiv'!F33<5,1,IF(AND('Hodnoty podpůrných aktiv'!F33<9,'Hodnoty podpůrných aktiv'!F33>4),2,IF(AND('Hodnoty podpůrných aktiv'!F33<13,'Hodnoty podpůrných aktiv'!F33>8),3,4))) -> 3 | N31: =IF('Hodnoty podpůrných aktiv'!G33<5,1,IF(AND('Hodnoty podpůrných aktiv'!G33<9,'Hodnoty podpůrných aktiv'!G33>4),2,IF(AND('Hodnoty podpůrných aktiv'!G33<13,'Hodnoty podpůrných aktiv'!G33>8),3,4))) -> 3
A32: PO30 | B32: Technické vybavení (HW) | C32: Servery | D32: Backup a obslužný server | E32: =Tabulka1[[#This Row],[ID]]&": "&Tabulka1[[#This Row],[Typové podpůrné aktivum]] -> PO30: Backup a obslužný server | F32: server, disková pole, páskové jednotky | G32: ředitel odboru ICT (Josef Dvořák) | H32: vedoucí oddělení provozu síťové infrastruktury (Aleš Pokorný) | J32: ano | K32: =IF('Hodnoty podpůrných aktiv'!D34<5,1,IF(AND('Hodnoty podpůrných aktiv'!D34<9,'Hodnoty podpůrných aktiv'!D34>4),2,IF(AND('Hodnoty podpůrných aktiv'!D34<13,'Hodnoty podpůrných aktiv'!D34>8),3,4))) -> 3 | L32: 3 | M32: =IF('Hodnoty podpůrných aktiv'!F34<5,1,IF(AND('Hodnoty podpůrných aktiv'!F34<9,'Hodnoty podpůrných aktiv'!F34>4),2,IF(AND('Hodnoty podpůrných aktiv'!F34<13,'Hodnoty podpůrných aktiv'!F34>8),3,4))) -> 3 | N32: =IF('Hodnoty podpůrných aktiv'!G34<5,1,IF(AND('Hodnoty podpůrných aktiv'!G34<9,'Hodnoty podpůrných aktiv'!G34>4),2,IF(AND('Hodnoty podpůrných aktiv'!G34<13,'Hodnoty podpůrných aktiv'!G34>8),3,4))) -> 3 | O32: Individuálně přehodnocena hodnota ztráty dat. Ztráta zálohovacího hardware představuje v praxi závažnější riziko, jelikož se nejedná pouze o ztrátu nahraditelného HW, ale zároveň o ztrátu značného množství dat/informací a nedostupnost procesu zálohování do blízké budoucnosti. V případě jakékoliv jiné poruchy nebude následně možné systém obnovit.
A33: PO31 | B33: Dodavatelé | C33: Významní dodavatelé | D33: Dodavatel B | E33: =Tabulka1[[#This Row],[ID]]&": "&Tabulka1[[#This Row],[Typové podpůrné aktivum]] -> PO31: Dodavatel B | F33: dodavatel sítí, security | G33: ředitel odboru ICT (Josef Dvořák) | H33: kontaktní osoba, která je odpovědná za smluvní vztah s Dodavatelem B (Adam Doležal, oddělení provozu síťové infrastruktury) | J33: ano | K33: =IF('Hodnoty podpůrných aktiv'!D36<5,1,IF(AND('Hodnoty podpůrných aktiv'!D36<9,'Hodnoty podpůrných aktiv'!D36>4),2,IF(AND('Hodnoty podpůrných aktiv'!D36<13,'Hodnoty podpůrných aktiv'!D36>8),3,4))) -> 2 | L33: =IF('Hodnoty podpůrných aktiv'!E36<5,1,IF(AND('Hodnoty podpůrných aktiv'!E36<9,'Hodnoty podpůrných aktiv'!E36>4),2,IF(AND('Hodnoty podpůrných aktiv'!E36<13,'Hodnoty podpůrných aktiv'!E36>8),3,4))) -> 2 | M33: =IF('Hodnoty podpůrných aktiv'!F36<5,1,IF(AND('Hodnoty podpůrných aktiv'!F36<9,'Hodnoty podpůrných aktiv'!F36>4),2,IF(AND('Hodnoty podpůrných aktiv'!F36<13,'Hodnoty podpůrných aktiv'!F36>8),3,4))) -> 2 | N33: =IF('Hodnoty podpůrných aktiv'!G36<5,1,IF(AND('Hodnoty podpůrných aktiv'!G36<9,'Hodnoty podpůrných aktiv'!G36>4),2,IF(AND('Hodnoty podpůrných aktiv'!G36<13,'Hodnoty podpůrných aktiv'!G36>8),3,4))) -> 2
A34: PO32 | B34: Dodavatelé | C34: Dodavatelé | D34: Dodavatel C | E34: =Tabulka1[[#This Row],[ID]]&": "&Tabulka1[[#This Row],[Typové podpůrné aktivum]] -> PO32: Dodavatel C | F34: dodavatel HW+OS | G34: ředitel odboru ICT (Josef Dvořák) | H34: kontaktní osoba, která je odpovědná za smluvní vztah s Dodavatelem C (Pavel Kříž, oddělení provozu síťové infrastruktury) | J34: ano | K34: =IF('Hodnoty podpůrných aktiv'!D35<5,1,IF(AND('Hodnoty podpůrných aktiv'!D35<9,'Hodnoty podpůrných aktiv'!D35>4),2,IF(AND('Hodnoty podpůrných aktiv'!D35<13,'Hodnoty podpůrných aktiv'!D35>8),3,4))) -> 3 | L34: =IF('Hodnoty podpůrných aktiv'!E35<5,1,IF(AND('Hodnoty podpůrných aktiv'!E35<9,'Hodnoty podpůrných aktiv'!E35>4),2,IF(AND('Hodnoty podpůrných aktiv'!E35<13,'Hodnoty podpůrných aktiv'!E35>8),3,4))) -> 2 | M34: =IF('Hodnoty podpůrných aktiv'!F35<5,1,IF(AND('Hodnoty podpůrných aktiv'!F35<9,'Hodnoty podpůrných aktiv'!F35>4),2,IF(AND('Hodnoty podpůrných aktiv'!F35<13,'Hodnoty podpůrných aktiv'!F35>8),3,4))) -> 2 | N34: =IF('Hodnoty podpůrných aktiv'!G35<5,1,IF(AND('Hodnoty podpůrných aktiv'!G35<9,'Hodnoty podpůrných aktiv'!G35>4),2,IF(AND('Hodnoty podpůrných aktiv'!G35<13,'Hodnoty podpůrných aktiv'!G35>8),3,4))) -> 3
A35: PO33 | B35: Objekty | C35: Zabezpečení | D35: Prostředky fyzické ochrany | E35: =Tabulka1[[#This Row],[ID]]&": "&Tabulka1[[#This Row],[Typové podpůrné aktivum]] -> PO33: Prostředky fyzické ochrany | F35: fyzické zabezpečení objektů | G35: ředitelka odboru bezpečnostního (Petra Horáková) | H35: vedoucí oddělení bezpečnosti (Ivan Procházka) | J35: ano | K35: =IF('Hodnoty podpůrných aktiv'!D37<5,1,IF(AND('Hodnoty podpůrných aktiv'!D37<9,'Hodnoty podpůrných aktiv'!D37>4),2,IF(AND('Hodnoty podpůrných aktiv'!D37<13,'Hodnoty podpůrných aktiv'!D37>8),3,4))) -> 2 | L35: =IF('Hodnoty podpůrných aktiv'!E37<5,1,IF(AND('Hodnoty podpůrných aktiv'!E37<9,'Hodnoty podpůrných aktiv'!E37>4),2,IF(AND('Hodnoty podpůrných aktiv'!E37<13,'Hodnoty podpůrných aktiv'!E37>8),3,4))) -> 2 | M35: =IF('Hodnoty podpůrných aktiv'!F37<5,1,IF(AND('Hodnoty podpůrných aktiv'!F37<9,'Hodnoty podpůrných aktiv'!F37>4),2,IF(AND('Hodnoty podpůrných aktiv'!F37<13,'Hodnoty podpůrných aktiv'!F37>8),3,4))) -> 2 | N35: =IF('Hodnoty podpůrných aktiv'!G37<5,1,IF(AND('Hodnoty podpůrných aktiv'!G37<9,'Hodnoty podpůrných aktiv'!G37>4),2,IF(AND('Hodnoty podpůrných aktiv'!G37<13,'Hodnoty podpůrných aktiv'!G37>8),3,4))) -> 2
A36: … | B36: ... | C36: … | D36: … | E36: … | F36: … | G36: … | H36: … | I36: … | J36: … | K36: … | L36: … | M36: … | N36: … | O36: …

Sheet Vazby
A1: Vazby primárních a podpůrných aktiv | D1: Primární aktiva
D2: S1 | H2: P1 | L2: P2 | P2: P3 | T2: P4
D3: ='Katalog primárních aktiv'!B2 -> Služba certifikace senzorů | H3: =Tabulka4[[#This Row],[Typové primární aktivum]] -> Seznam certifikovaných senzorů | L3: ='Katalog primárních aktiv'!B4 -> Rozhodnutí | P3: ='Katalog primárních aktiv'!B5 -> Žádosti, technická dokumentace | T3: ='Katalog primárních aktiv'!B6 -> Informace o průběhu certifikace
D4: Váha vlivu na dostupnost | E4: Váha vlivu na ztrátu dat | F4: Váha vlivu na důvěrnost | G4: Váha vlivu na integritu | H4: Váha vlivu na dostupnost | I4: Váha vlivu na ztrátu dat | J4: Váha vlivu na důvěrnost | K4: Váha vlivu na integritu | L4: Váha vlivu na dostupnost | M4: Váha vlivu na ztrátu dat | N4: Váha vlivu na důvěrnost | O4: Váha vlivu na integritu | P4: Váha vlivu na dostupnost | Q4: Váha vlivu na ztrátu dat | R4: Váha vlivu na důvěrnost | S4: Váha vlivu na integritu | T4: Váha vlivu na dostupnost | U4: Váha vlivu na ztrátu dat | V4: Váha vlivu na důvěrnost | W4: Váha vlivu na integritu
A5: Podpůrná aktiva | B5: PO1 | C5: ='Katalog podpůrných aktiv'!D2 -> Aplikační server (HW) | D5: 4 | E5: 2 | F5: 2 | G5: 4
B6: PO2 | C6: ='Katalog podpůrných aktiv'!D3 -> Databázový server (HW) | D6: 4 | E6: 2 | F6: 2 | G6: 4
B7: PO3 | C7: ='Katalog podpůrných aktiv'!D4 -> Webový server (HW) | H7: 4 | I7: 2 | J7: 2 | K7: 4
B8: PO4 | C8: ='Katalog podpůrných aktiv'!D5 -> Operační systém - aplikační server | D8: 4 | E8: 2 | F8: 2 | G8: 4
B9: PO5 | C9: ='Katalog podpůrných aktiv'!D6 -> Operační systém - databázový server | D9: 4 | E9: 2 | F9: 2 | G9: 4
B10: PO6 | C10: ='Katalog podpůrných aktiv'!D7 -> Operační systém - webový server | H10: 4 | I10: 2 | J10: 2 | K10: 4
B11: PO7 | C11: ='Katalog podpůrných aktiv'!D8 -> Aplikační server (licence) | D11: 4 | E11: 2 | F11: 2 | G11: 4
B12: PO8 | C12: ='Katalog podpůrných aktiv'!D9 -> Databázový server (licence) | D12: 4 | E12: 2 | F12: 2 | G12: 4
B13: PO9 | C13: ='Katalog podpůrných aktiv'!D10 -> Webový server (licence) | H13: 4 | I13: 2 | J13: 2 | K13: 4
B14: PO10 | C14: ='Katalog podpůrných aktiv'!D11 -> Aplikační server (SW) | D14: 4 | E14: 2 | F14: 2 | G14: 4
B15: PO11 | C15: ='Katalog podpůrných aktiv'!D12 -> Databázový server (SW) | D15: 4 | E15: 2 | F15: 2 | G15: 4
B16: PO12 | C16: ='Katalog podpůrných aktiv'!D13 -> Webový server (SW) | H16: 4 | I16: 2 | J16: 2 | K16: 4
B17: PO13 | C17: ='Katalog podpůrných aktiv'!D14 -> Dodavatel A | D17: 4 | E17: 3 | F17: 3 | G17: 4
B18: PO14 | C18: ='Katalog podpůrných aktiv'!D15 -> Uživatel - interní | D18: 1 | E18: 1 | F18: 3 | G18: 3
B19: PO15 | C19: ='Katalog podpůrných aktiv'!D16 -> Uživatel - žadatel | P19: 1 | Q19: 1 | R19: 3 | S19: 3
B20: PO16 | C20: ='Katalog podpůrných aktiv'!D17 -> Uživatel - veřejnost | H20: 1 | I20: 1 | J20: 1 | K20: 1
B21: PO17 | C21: ='Katalog podpůrných aktiv'!D18 -> Administrátor - interní | D21: 4 | E21: 4 | F21: 3 | G21: 4
B22: PO18 | C22: ='Katalog podpůrných aktiv'!D19 -> Administrátor - externí | D22: 4 | E22: 4 | F22: 3 | G22: 4
B23: PO19 | C23: ='Katalog podpůrných aktiv'!D21 -> Autentizační a autorizační aplikace | D23: 2 | E23: 3 | F23: 4 | G23: 4
B24: PO20 | C24: ='Katalog podpůrných aktiv'!D22 -> Switch (přepínač) | D24: 4 | E24: 2 | F24: 2 | G24: 4
B25: PO21 | C25: ='Katalog podpůrných aktiv'!D23 -> Switch (přepínač) | D25: 4 | E25: 2 | F25: 2 | G25: 4
B26: PO22 | C26: ='Katalog podpůrných aktiv'!D24 -> HW firewall - vnitřní | D26: 4 | E26: 2 | F26: 2 | G26: 4
B27: PO23 | C27: ='Katalog podpůrných aktiv'!D25 -> HW firewall - perimetrový | D27: 4 | E27: 2 | F27: 2 | G27: 4
B28: PO24 | C28: ='Katalog podpůrných aktiv'!D26 -> Antivir | D28: 2 | E28: 3 | F28: 4 | G28: 4
B29: PO25 | C29: ='Katalog podpůrných aktiv'!D27 -> Monitoring a správa provozu | D29: 3 | E29: 3 | F29: 3 | G29: 3
B30: PO26 | C30: ='Katalog podpůrných aktiv'!D28 -> Serverovna | D30: 3 | E30: 3 | F30: 3 | G30: 3
B31: PO27 | C31: ='Katalog podpůrných aktiv'!D29 -> Areál | D31: 3 | E31: 3 | F31: 3 | G31: 3
B32: PO28 | C32: ='Katalog podpůrných aktiv'!D30 -> Kabeláž | D32: 4 | E32: 2 | F32: 3 | G32: 4
B33: PO29 | C33: ='Katalog podpůrných aktiv'!D31 -> Zálohovací SW | D33: 4 | E33: 2 | F33: 3 | G33: 4
B34: PO30 | C34: ='Katalog podpůrných aktiv'!D32 -> Backup a obslužný server | D34: 4 | E34: 2 | F34: 3 | G34: 4
... B37: PO33 | C37: ='Katalog podpůrných aktiv'!D35 -> Prostředky fyzické ochrany | D37: 2 | E37: 2 | F37: 2 | G37: 2

Sheet Struktura podpůrných aktiv
A1: Kategorie podpůrného aktiva | B1: Skupina podpůrného aktiva | C1: Typové podpůrné aktivum | D1: Popis podpůrného aktiva | I1: Seznamy pro ověření dat
A2: Technické vybavení (HW) | B2: Servery | C2: Aplikační server (HW) | D2: Server specializovaný na provoz nějakého systému nebo aplikace. | I2: Aplikace | J2: Administrátoři | K2: Aplikační server (HW)
C3: Databázový server (HW) | D3: Slouží jako úložiště strukturovaných dat (databází), které umožňuje provádět vyhledávání ve více databázích. | I3: Dodavatelé | J3: Areály | K3: Administrátor - externí
C4: Backup a obslužný server | D4: Server sloužící k zálohování a obnově dat. | I4: Komunikační prostředky | J4: Bezpečnostní SW | K4: Administrátor - interní
C5: Webový server (HW) | D5: Server, který zprostředkovává komunikaci s uživateli a prezentuje výsledky, statistiky atp. | I5: Lidské zdroje | J5: Dodavatelé | K5: Antivir
B6: Kabeláž | C6: Kabeláž | D6: Optická a metalická kabeláž. | I6: Objekty | J6: Významní dodavatelé | K6: Aplikační server (licence)
A7: Komunikační prostředky | B7: Síťová zařízení | C7: HW firewall - vnitřní | D7: Hardwarové zařízení pro ochranu vnitřní sítě, uživatelů a aktiv. | I7: Programové vybavení (SW) | J7: Kabeláž | K7: Aplikační server (SW)
C8: HW firewall - perimetrový | D8: Hardwarové zařízení pro ochranu perimetru sítě, uživatelů a aktiv. | I8: Technické vybavení (HW) | J8: Místnosti | K8: Areál
C9: Switch (přepínač) | D9: Spojuje dvě a více zařízení v rámci jednoho nebo více segmentů sítě, odděluje síťový provoz. | J9: Servery | K9: Autentizační a autorizační aplikace
A10: Programové vybavení (SW) | B10: Systémový SW | C10: Operační systém - aplikační server | D10: Základní programové vybavení počítače, které zajišťuje komunikaci uživatele počítače s hardware. | J10: Síťová zařízení | K10: Backup a obslužný server
C11: Operační systém - databázový server | D11: Základní programové vybavení počítače, které zajišťuje komunikaci uživatele počítače s hardware. | J11: Systémová aplikace | K11: Databázový server (HW)
C12: Operační systém - webový server | D12: Základní programové vybavení počítače, které zajišťuje komunikaci uživatele počítače s hardware. | J12: Systémový SW | K12: Databázový server (licence)
C13: Databázový server (SW) | D13: Databáze využívané různými aplikačními moduly. | J13: Uživatelé | K13: Databázový server (SW)
C14: Databázový server (licence) | D14: Licence potřebné k chodu databázového prostředí. | J14: Zabezpečení | K14: Dodavatel A
C15: Webový server (SW) | D15: Softwarový server zajišťující provoz webového prostředí, resp. portálů. | K15: Dodavatel B
C16: Webový server (licence) | D16: Licence potřebné k zajištění chodu webového prostředí. | K16: Dodavatel C
C17: Vývojové prostředí - SW | D17: SW pro vývoj, nachází se u dodavatele. | K17: HW firewall - perimetrový
C18: Monitoring a správa provozu | D18: Nástroje zajišťující správu a monitorování chodu IS. | K18: HW firewall - vnitřní
C19: Aplikační server (SW) | D19: Softwarový server zajišťující chod aplikací. | K19: Kabeláž
B20: Bezpečnostní SW | C20: Aplikační server (licence) | D20: Licence potřebné k zajištění chodu aplikací. | K20: Monitoring a správa provozu
C21: Antivir | D21: Software, který má účinně zabraňovat a důsledně eliminovat výskyt škodlivého malware a dalších různých typů velmi nebezpečných zhoubných počítačových virů. | K21: Operační systém - aplikační server
C22: Zálohovací SW | D22: Software pro správu datových uložišť za účelem zálohování a backup. | K22: Operační systém - databázový server
A23: Objekty | B23: Areály | C23: Areál | D23: Vymezená část území tvořící geografický, správní aj. celek, který může zahrnovat více budov a prostor mezi nimi. | K23: Operační systém - webový server
B24: Místnosti | C24: Serverovna | D24: Prostor, který je ohraničen stěnami, podlahou a stropem a je součástí budovy, ve které jsou umístěny servery. | K24: Prostředky fyzické ochrany
B25: Zabezpečení | C25: Prostředky fyzické ochrany | D25: Prostředky fyzické bezpečnosti, např. kamery, zámky, turnikety atd. | K25: Serverovna
A26: Lidské zdroje | B26: Uživatelé | C26: Uživatel - interní | D26: Koncoví uživatelé služeb - vlastní zaměstnanci. | K26: Switch (přepínač)
C27: Uživatel - žadatel | D27: Koncoví uživatelé služeb - externí žadatelé o certifikaci. | K27: Uživatel - interní
C28: Uživatel - veřejnost | D28: Koncoví uživatelé služeb - veřejnost, která nahlíží na seznam schválených senzorů. | K28: Uživatel - veřejnost
B29: Administrátoři | C29: Administrátor - interní | D29: Jedná se o zaměstnance zabývající se provozem a údržbou informačního systému. Aby mohli plnit své každodenní úkoly, mohou mít zvláštní přístupová práva k informačnímu systému. | K29: Uživatel - žadatel
C30: Administrátor - externí | D30: Zaměstnaneci dodavatele zabývající se provozem a údržbou informačního systému. Aby mohli plnit své každodenní úkoly, mohou mít zvláštní přístupová práva k informačnímu systému. | K30: Vývojové prostředí - SW
A31: Aplikace | B31: Systémová aplikace | C31: Autentizační a autorizační aplikace | D31: Typové aktivum zahrnující HW, SW, OS a aplikační SW. | K31: Webový server (HW)
A32: Dodavatelé | B32: Významní dodavatelé | C32: Dodavatel A | D32: Subjekt poskytující plnění, které je významné z hlediska zajištění KB regulované služby. | K32: Webový server (licence)
C33: Dodavatel B | D33: Subjekt poskytující plnění, které je významné z hlediska zajištění KB regulované služby. | K33: Webový server (SW)
B34: Dodavatelé | C34: Dodavatel C | D34: Subjekt dodává koncová zařízení (HW, SW), včetně zajištění podpory. | K34: Zálohovací SW

Sheet Hodnoty podpůrných aktiv
A1: Hodnoty podpůrných aktiv podle váhy vlivu | D1: Maximální hodnota podpůrného aktiva | H1: Primární aktiva
H2: S1 | L2: P1 | P2: P2 | T2: P3 | X2: P4
H3: ='Katalog primárních aktiv'!B2 -> Služba certifikace senzorů | L3: =Tabulka4[[#This Row],[Typové primární aktivum]] -> Seznam certifikovaných senzorů | P3: ='Katalog primárních aktiv'!B4 -> Rozhodnutí | T3: ='Katalog primárních aktiv'!B5 -> Žádosti, technická dokumentace | X3: ='Katalog primárních aktiv'!B6 -> Informace o průběhu certifikace
D4: Dostupnost | E4: Ztráta | F4: Důvěrnost | G4: Integrita | H4: Dostupnost | I4: Ztráta | J4: Důvěrnost | K4: Integrita | L4: Dostupnost | M4: Ztráta | N4: Důvěrnost | O4: Integrita | P4: Dostupnost | Q4: Ztráta | R4: Důvěrnost | S4: Integrita | T4: Dostupnost | U4: Ztráta | V4: Důvěrnost | W4: Integrita | X4: Dostupnost | Y4: Ztráta | Z4: Důvěrnost | AA4: Integrita
A5: Podpůrná aktiva | B5: PO1 | C5: ='Katalog podpůrných aktiv'!D2 -> Aplikační server (HW) | D5: =MAX(H5,L5,P5,T5,X5) -> 12 | E5: =MAX(I5,M5,Q5,U5,Y5) -> 8 | F5: =MAX(J5,N5,R5,V5,Z5) -> 6 | G5: =MAX(K5,O5,S5,W5,AA5) -> 12 | H5: ='S1'!$E$5*Vazby!D5 -> 12 | I5: ='S1'!$E$6*Vazby!E5 -> 8 | J5: ='S1'!$E$7*Vazby!F5 -> 6 | K5: ='S1'!$E$8*Vazby!G5 -> 12 | L5: ='P1'!$E$5*Vazby!H5 -> 0 | M5: ='P1'!$E$6*Vazby!I5 -> 0 | N5: ='P1'!$E$7*Vazby!J5 -> 0 | O5: ='P1'!$E$8*Vazby!K5 -> 0 | P5: ='P2'!$E$5*Vazby!L5 -> 0 | Q5: ='P2'!$E$6*Vazby!M5 -> 0 | R5: ='P2'!$E$7*Vazby!N5 -> 0 | S5: ='P2'!$E$8*Vazby!O5 -> 0 | T5: ='P3'!$E$5*Vazby!P5 -> 0 | U5: ='P3'!$E$6*Vazby!Q5 -> 0 | V5: ='P3'!$E$7*Vazby!R5 -> 0 | W5: ='P3'!$E$8*Vazby!S5 -> 0 | X5: ='P4'!$E$5*Vazby!T5 -> 0 | Y5: ='P4'!$E$6*Vazby!U5 -> 0 | Z5: ='P4'!$E$7*Vazby!V5 -> 0 | AA5: ='P4'!$E$8*Vazby!W5 -> 0
B6: PO2 | C6: ='Katalog podpůrných aktiv'!D3 -> Databázový server (HW) | D6: =MAX(H6,L6,P6,T6,X6) -> 12 | E6: =MAX(I6,M6,Q6,U6,Y6) -> 8 | F6: =MAX(J6,N6,R6,V6,Z6) -> 6 | G6: =MAX(K6,O6,S6,W6,AA6) -> 12 | H6: ='S1'!$E$5*Vazby!D6 -> 12 | I6: ='S1'!$E$6*Vazby!E6 -> 8 | J6: ='S1'!$E$7*Vazby!F6 -> 6 | K6: ='S1'!$E$8*Vazby!G6 -> 12 | L6: ='P1'!$E$5*Vazby!H6 -> 0 | M6: ='P1'!$E$6*Vazby!I6 -> 0 | N6: ='P1'!$E$7*Vazby!J6 -> 0 | O6: ='P1'!$E$8*Vazby!K6 -> 0 | P6: ='P2'!$E$5*Vazby!L6 -> 0 | Q6: ='P2'!$E$6*Vazby!M6 -> 0 | R6: ='P2'!$E$7*Vazby!N6 -> 0 | S6: ='P2'!$E$8*Vazby!O6 -> 0 | T6: ='P3'!$E$5*Vazby!P6 -> 0 | U6: ='P3'!$E$6*Vazby!Q6 -> 0 | V6: ='P3'!$E$7*Vazby!R6 -> 0 | W6: ='P3'!$E$8*Vazby!S6 -> 0 | X6: ='P4'!$E$5*Vazby!T6 -> 0 | Y6: ='P4'!$E$6*Vazby!U6 -> 0 | Z6: ='P4'!$E$7*Vazby!V6 -> 0 | AA6: ='P4'!$E$8*Vazby!W6 -> 0
B7: PO3 | C7: ='Katalog podpůrných aktiv'!D4 -> Webový server (HW) | D7: =MAX(H7,L7,P7,T7,X7) -> 8 | E7: =MAX(I7,M7,Q7,U7,Y7) -> 2 | F7: =MAX(J7,N7,R7,V7,Z7) -> 2 | G7: =MAX(K7,O7,S7,W7,AA7) -> 12 | H7: ='S1'!$E$5*Vazby!D7 -> 0 | I7: ='S1'!$E$6*Vazby!E7 -> 0 | J7: ='S1'!$E$7*Vazby!F7 -> 0 | K7: ='S1'!$E$8*Vazby!G7 -> 0 | L7: ='P1'!$E$5*Vazby!H7 -> 8 | M7: ='P1'!$E$6*Vazby!I7 -> 2 | N7: ='P1'!$E$7*Vazby!J7 -> 2 | O7: ='P1'!$E$8*Vazby!K7 -> 12 | P7: ='P2'!$E$5*Vazby!L7 -> 0 | Q7: ='P2'!$E$6*Vazby!M7 -> 0 | R7: ='P2'!$E$7*Vazby!N7 -> 0 | S7: ='P2'!$E$8*Vazby!O7 -> 0 | T7: ='P3'!$E$5*Vazby!P7 -> 0 | U7: ='P3'!$E$6*Vazby!Q7 -> 0 | V7: ='P3'!$E$7*Vazby!R7 -> 0 | W7: ='P3'!$E$8*Vazby!S7 -> 0 | X7: ='P4'!$E$5*Vazby!T7 -> 0 | Y7: ='P4'!$E$6*Vazby!U7 -> 0 | Z7: ='P4'!$E$7*Vazby!V7 -> 0 | AA7: ='P4'!$E$8*Vazby!W7 -> 0
B8: PO4 | C8: ='Katalog podpůrných aktiv'!D5 -> Operační systém - aplikační server | D8: =MAX(H8,L8,P8,T8,X8) -> 12 | E8: =MAX(I8,M8,Q8,U8,Y8) -> 8 | F8: =MAX(J8,N8,R8,V8,Z8) -> 6 | G8: =MAX(K8,O8,S8,W8,AA8) -> 12 | H8: ='S1'!$E$5*Vazby!D8 -> 12 | I8: ='S1'!$E$6*Vazby!E8 -> 8 | J8: ='S1'!$E$7*Vazby!F8 -> 6 | K8: ='S1'!$E$8*Vazby!G8 -> 12 | L8: ='P1'!$E$5*Vazby!H8 -> 0 | M8: ='P1'!$E$6*Vazby!I8 -> 0 | N8: ='P1'!$E$7*Vazby!J8 -> 0 | O8: ='P1'!$E$8*Vazby!K8 -> 0 | P8: ='P2'!$E$5*Vazby!L8 -> 0 | Q8: ='P2'!$E$6*Vazby!M8 -> 0 | R8: ='P2'!$E$7*Vazby!N8 -> 0 | S8: ='P2'!$E$8*Vazby!O8 -> 0 | T8: ='P3'!$E$5*Vazby!P8 -> 0 | U8: ='P3'!$E$6*Vazby!Q8 -> 0 | V8: ='P3'!$E$7*Vazby!R8 -> 0 | W8: ='P3'!$E$8*Vazby!S8 -> 0 | X8: ='P4'!$E$5*Vazby!T8 -> 0 | Y8: ='P4'!$E$6*Vazby!U8 -> 0 | Z8: ='P4'!$E$7*Vazby!V8 -> 0 | AA8: ='P4'!$E$8*Vazby!W8 -> 0
B9: PO5 | C9: ='Katalog podpůrných aktiv'!D6 -> Operační systém - databázový server | D9: =MAX(H9,L9,P9,T9,X9) -> 12 | E9: =MAX(I9,M9,Q9,U9,Y9) -> 8 | F9: =MAX(J9,N9,R9,V9,Z9) -> 6 | G9: =MAX(K9,O9,S9,W9,AA9) -> 12 | H9: ='S1'!$E$5*Vazby!D9 -> 12 | I9: ='S1'!$E$6*Vazby!E9 -> 8 | J9: ='S1'!$E$7*Vazby!F9 -> 6 | K9: ='S1'!$E$8*Vazby!G9 -> 12 | L9: ='P1'!$E$5*Vazby!H9 -> 0 | M9: ='P1'!$E$6*Vazby!I9 -> 0 | N9: ='P1'!$E$7*Vazby!J9 -> 0 | O9: ='P1'!$E$8*Vazby!K9 -> 0 | P9: ='P2'!$E$5*Vazby!L9 -> 0 | Q9: ='P2'!$E$6*Vazby!M9 -> 0 | R9: ='P2'!$E$7*Vazby!N9 -> 0 | S9: ='P2'!$E$8*Vazby!O9 -> 0 | T9: ='P3'!$E$5*Vazby!P9 -> 0 | U9: ='P3'!$E$6*Vazby!Q9 -> 0 | V9: ='P3'!$E$7*Vazby!R9 -> 0 | W9: ='P3'!$E$8*Vazby!S9 -> 0 | X9: ='P4'!$E$5*Vazby!T9 -> 0 | Y9: ='P4'!$E$6*Vazby!U9 -> 0 | Z9: ='P4'!$E$7*Vazby!V9 -> 0 | AA9: ='P4'!$E$8*Vazby!W9 -> 0
B10: PO6 | C10: ='Katalog podpůrných aktiv'!D7 -> Operační systém - webový server | D10: =MAX(H10,L10,P10,T10,X10) -> 8 | E10: =MAX(I10,M10,Q10,U10,Y10) -> 2 | F10: =MAX(J10,N10,R10,V10,Z10) -> 2 | G10: =MAX(K10,O10,S10,W10,AA10) -> 12 | H10: ='S1'!$E$5*Vazby!D10 -> 0 | I10: ='S1'!$E$6*Vazby!E10 -> 0 | J10: ='S1'!$E$7*Vazby!F10 -> 0 | K10: ='S1'!$E$8*Vazby!G10 -> 0 | L10: ='P1'!$E$5*Vazby!H10 -> 8 | M10: ='P1'!$E$6*Vazby!I10 -> 2 | N10: ='P1'!$E$7*Vazby!J10 -> 2 | O10: ='P1'!$E$8*Vazby!K10 -> 12 | P10: ='P2'!$E$5*Vazby!L10 -> 0 | Q10: ='P2'!$E$6*Vazby!M10 -> 0 | R10: ='P2'!$E$7*Vazby!N10 -> 0 | S10: ='P2'!$E$8*Vazby!O10 -> 0 | T10: ='P3'!$E$5*Vazby!P10 -> 0 | U10: ='P3'!$E$6*Vazby!Q10 -> 0 | V10: ='P3'!$E$7*Vazby!R10 -> 0 | W10: ='P3'!$E$8*Vazby!S10 -> 0 | X10: ='P4'!$E$5*Vazby!T10 -> 0 | Y10: ='P4'!$E$6*Vazby!U10 -> 0 | Z10: ='P4'!$E$7*Vazby!V10 -> 0 | AA10: ='P4'!$E$8*Vazby!W10 -> 0
B11: PO7 | C11: ='Katalog podpůrných aktiv'!D8 -> Aplikační server (licence) | D11: =MAX(H11,L11,P11,T11,X11) -> 12 | E11: =MAX(I11,M11,Q11,U11,Y11) -> 8 | F11: =MAX(J11,N11,R11,V11,Z11) -> 6 | G11: =MAX(K11,O11,S11,W11,AA11) -> 12 | H11: ='S1'!$E$5*Vazby!D11 -> 12 | I11: ='S1'!$E$6*Vazby!E11 -> 8 | J11: ='S1'!$E$7*Vazby!F11 -> 6 | K11: ='S1'!$E$8*Vazby!G11 -> 12 | L11: ='P1'!$E$5*Vazby!H11 -> 0 | M11: ='P1'!$E$6*Vazby!I11 -> 0 | N11: ='P1'!$E$7*Vazby!J11 -> 0 | O11: ='P1'!$E$8*Vazby!K11 -> 0 | P11: ='P2'!$E$5*Vazby!L11 -> 0 | Q11: ='P2'!$E$6*Vazby!M11 -> 0 | R11: ='P2'!$E$7*Vazby!N11 -> 0 | S11: ='P2'!$E$8*Vazby!O11 -> 0 | T11: ='P3'!$E$5*Vazby!P11 -> 0 | U11: ='P3'!$E$6*Vazby!Q11 -> 0 | V11: ='P3'!$E$7*Vazby!R11 -> 0 | W11: ='P3'!$E$8*Vazby!S11 -> 0 | X11: ='P4'!$E$5*Vazby!T11 -> 0 | Y11: ='P4'!$E$6*Vazby!U11 -> 0 | Z11: ='P4'!$E$7*Vazby!V11 -> 0 | AA11: ='P4'!$E$8*Vazby!W11 -> 0
B12: PO8 | C12: ='Katalog podpůrných aktiv'!D9 -> Databázový server (licence) | D12: =MAX(H12,L12,P12,T12,X12) -> 12 | E12: =MAX(I12,M12,Q12,U12,Y12) -> 8 | F12: =MAX(J12,N12,R12,V12,Z12) -> 6 | G12: =MAX(K12,O12,S12,W12,AA12) -> 12 | H12: ='S1'!$E$5*Vazby!D12 -> 12 | I12: ='S1'!$E$6*Vazby!E12 -> 8 | J12: ='S1'!$E$7*Vazby!F12 -> 6 | K12: ='S1'!$E$8*Vazby!G12 -> 12 | L12: ='P1'!$E$5*Vazby!H12 -> 0 | M12: ='P1'!$E$6*Vazby!I12 -> 0 | N12: ='P1'!$E$7*Vazby!J12 -> 0 | O12: ='P1'!$E$8*Vazby!K12 -> 0 | P12: ='P2'!$E$5*Vazby!L12 -> 0 | Q12: ='P2'!$E$6*Vazby!M12 -> 0 | R12: ='P2'!$E$7*Vazby!N12 -> 0 | S12: ='P2'!$E$8*Vazby!O12 -> 0 | T12: ='P3'!$E$5*Vazby!P12 -> 0 | U12: ='P3'!$E$6*Vazby!Q12 -> 0 | V12: ='P3'!$E$7*Vazby!R12 -> 0 | W12: ='P3'!$E$8*Vazby!S12 -> 0 | X12: ='P4'!$E$5*Vazby!T12 -> 0 | Y12: ='P4'!$E$6*Vazby!U12 -> 0 | Z12: ='P4'!$E$7*Vazby!V12 -> 0 | AA12: ='P4'!$E$8*Vazby!W12 -> 0
B13: PO9 | C13: ='Katalog podpůrných aktiv'!D10 -> Webový server (licence) | D13: =MAX(H13,L13,P13,T13,X13) -> 8 | E13: =MAX(I13,M13,Q13,U13,Y13) -> 2 | F13: =MAX(J13,N13,R13,V13,Z13) -> 2 | G13: =MAX(K13,O13,S13,W13,AA13) -> 12 | H13: ='S1'!$E$5*Vazby!D13 -> 0 | I13: ='S1'!$E$6*Vazby!E13 -> 0 | J13: ='S1'!$E$7*Vazby!F13 -> 0 | K13: ='S1'!$E$8*Vazby!G13 -> 0 | L13: ='P1'!$E$5*Vazby!H13 -> 8 | M13: ='P1'!$E$6*Vazby!I13 -> 2 | N13: ='P1'!$E$7*Vazby!J13 -> 2 | O13: ='P1'!$E$8*Vazby!K13 -> 12 | P13: ='P2'!$E$5*Vazby!L13 -> 0 | Q13: ='P2'!$E$6*Vazby!M13 -> 0 | R13: ='P2'!$E$7*Vazby!N13 -> 0 | S13: ='P2'!$E$8*Vazby!O13 -> 0 | T13: ='P3'!$E$5*Vazby!P13 -> 0 | U13: ='P3'!$E$6*Vazby!Q13 -> 0 | V13: ='P3'!$E$7*Vazby!R13 -> 0 | W13: ='P3'!$E$8*Vazby!S13 -> 0 | X13: ='P4'!$E$5*Vazby!T13 -> 0 | Y13: ='P4'!$E$6*Vazby!U13 -> 0 | Z13: ='P4'!$E$7*Vazby!V13 -> 0 | AA13: ='P4'!$E$8*Vazby!W13 -> 0
B14: PO10 | C14: ='Katalog podpůrných aktiv'!D11 -> Aplikační server (SW) | D14: =MAX(H14,L14,P14,T14,X14) -> 12 | E14: =MAX(I14,M14,Q14,U14,Y14) -> 8 | F14: =MAX(J14,N14,R14,V14,Z14) -> 6 | G14: =MAX(K14,O14,S14,W14,AA14) -> 12 | H14: ='S1'!$E$5*Vazby!D14 -> 12 | I14: ='S1'!$E$6*Vazby!E14 -> 8 | J14: ='S1'!$E$7*Vazby!F14 -> 6 | K14: ='S1'!$E$8*Vazby!G14 -> 12 | L14: ='P1'!$E$5*Vazby!H14 -> 0 | M14: ='P1'!$E$6*Vazby!I14 -> 0 | N14: ='P1'!$E$7*Vazby!J14 -> 0 | O14: ='P1'!$E$8*Vazby!K14 -> 0 | P14: ='P2'!$E$5*Vazby!L14 -> 0 | Q14: ='P2'!$E$6*Vazby!M14 -> 0 | R14: ='P2'!$E$7*Vazby!N14 -> 0 | S14: ='P2'!$E$8*Vazby!O14 -> 0 | T14: ='P3'!$E$5*Vazby!P14 -> 0 | U14: ='P3'!$E$6*Vazby!Q14 -> 0 | V14: ='P3'!$E$7*Vazby!R14 -> 0 | W14: ='P3'!$E$8*Vazby!S14 -> 0 | X14: ='P4'!$E$5*Vazby!T14 -> 0 | Y14: ='P4'!$E$6*Vazby!U14 -> 0 | Z14: ='P4'!$E$7*Vazby!V14 -> 0 | AA14: ='P4'!$E$8*Vazby!W14 -> 0
B15: PO11 | C15: ='Katalog podpůrných aktiv'!D12 -> Databázový server (SW) | D15: =MAX(H15,L15,P15,T15,X15) -> 12 | E15: =MAX(I15,M15,Q15,U15,Y15) -> 8 | F15: =MAX(J15,N15,R15,V15,Z15) -> 6 | G15: =MAX(K15,O15,S15,W15,AA15) -> 12 | H15: ='S1'!$E$5*Vazby!D15 -> 12 | I15: ='S1'!$E$6*Vazby!E15 -> 8 | J15: ='S1'!$E$7*Vazby!F15 -> 6 | K15: ='S1'!$E$8*Vazby!G15 -> 12 | L15: ='P1'!$E$5*Vazby!H15 -> 0 | M15: ='P1'!$E$6*Vazby!I15 -> 0 | N15: ='P1'!$E$7*Vazby!J15 -> 0 | O15: ='P1'!$E$8*Vazby!K15 -> 0 | P15: ='P2'!$E$5*Vazby!L15 -> 0 | Q15: ='P2'!$E$6*Vazby!M15 -> 0 | R15: ='P2'!$E$7*Vazby!N15 -> 0 | S15: ='P2'!$E$8*Vazby!O15 -> 0 | T15: ='P3'!$E$5*Vazby!P15 -> 0 | U15: ='P3'!$E$6*Vazby!Q15 -> 0 | V15: ='P3'!$E$7*Vazby!R15 -> 0 | W15: ='P3'!$E$8*Vazby!S15 -> 0 | X15: ='P4'!$E$5*Vazby!T15 -> 0 | Y15: ='P4'!$E$6*Vazby!U15 -> 0 | Z15: ='P4'!$E$7*Vazby!V15 -> 0 | AA15: ='P4'!$E$8*Vazby!W15 -> 0
B16: PO12 | C16: ='Katalog podpůrných aktiv'!D13 -> Webový server (SW) | D16: =MAX(H16,L16,P16,T16,X16) -> 8 | E16: =MAX(I16,M16,Q16,U16,Y16) -> 2 | F16: =MAX(J16,N16,R16,V16,Z16) -> 2 | G16: =MAX(K16,O16,S16,W16,AA16) -> 12 | H16: ='S1'!$E$5*Vazby!D16 -> 0 | I16: ='S1'!$E$6*Vazby!E16 -> 0 | J16: ='S1'!$E$7*Vazby!F16 -> 0 | K16: ='S1'!$E$8*Vazby!G16 -> 0 | L16: ='P1'!$E$5*Vazby!H16 -> 8 | M16: ='P1'!$E$6*Vazby!I16 -> 2 | N16: ='P1'!$E$7*Vazby!J16 -> 2 | O16: ='P1'!$E$8*Vazby!K16 -> 12 | P16: ='P2'!$E$5*Vazby!L16 -> 0 | Q16: ='P2'!$E$6*Vazby!M16 -> 0 | R16: ='P2'!$E$7*Vazby!N16 -> 0 | S16: ='P2'!$E$8*Vazby!O16 -> 0 | T16: ='P3'!$E$5*Vazby!P16 -> 0 | U16: ='P3'!$E$6*Vazby!Q16 -> 0 | V16: ='P3'!$E$7*Vazby!R16 -> 0 | W16: ='P3'!$E$8*Vazby!S16 -> 0 | X16: ='P4'!$E$5*Vazby!T16 -> 0 | Y16: ='P4'!$E$6*Vazby!U16 -> 0 | Z16: ='P4'!$E$7*Vazby!V16 -> 0 | AA16: ='P4'!$E$8*Vazby!W16 -> 0
B17: PO13 | C17: ='Katalog podpůrných aktiv'!D14 -> Dodavatel A | D17: =MAX(H17,L17,P17,T17,X17) -> 12 | E17: =MAX(I17,M17,Q17,U17,Y17) -> 12 | F17: =MAX(J17,N17,R17,V17,Z17) -> 9 | G17: =MAX(K17,O17,S17,W17,AA17) -> 12 | H17: ='S1'!$E$5*Vazby!D17 -> 12 | I17: ='S1'!$E$6*Vazby!E17 -> 12 | J17: ='S1'!$E$7*Vazby!F17 -> 9 | K17: ='S1'!$E$8*Vazby!G17 -> 12 | L17: ='P1'!$E$5*Vazby!H17 -> 0 | M17: ='P1'!$E$6*Vazby!I17 -> 0 | N17: ='P1'!$E$7*Vazby!J17 -> 0 | O17: ='P1'!$E$8*Vazby!K17 -> 0 | P17: ='P2'!$E$5*Vazby!L17 -> 0 | Q17: ='P2'!$E$6*Vazby!M17 -> 0 | R17: ='P2'!$E$7*Vazby!N17 -> 0 | S17: ='P2'!$E$8*Vazby!O17 -> 0 | T17: ='P3'!$E$5*Vazby!P17 -> 0 | U17: ='P3'!$E$6*Vazby!Q17 -> 0 | V17: ='P3'!$E$7*Vazby!R17 -> 0 | W17: ='P3'!$E$8*Vazby!S17 -> 0 | X17: ='P4'!$E$5*Vazby!T17 -> 0 | Y17: ='P4'!$E$6*Vazby!U17 -> 0 | Z17: ='P4'!$E$7*Vazby!V17 -> 0 | AA17: ='P4'!$E$8*Vazby!W17 -> 0
... B22: PO18 | C22: ='Katalog podpůrných aktiv'!D19 -> Administrátor - externí | D22: =MAX(H22,L22,P22,T22,X22) -> 12 | E22: =MAX(I22,M22,Q22,U22,Y22) -> 16 | F22: =MAX(J22,N22,R22,V22,Z22) -> 9 | G22: =MAX(K22,O22,S22,W22,AA22) -> 12 | H22: ='S1'!$E$5*Vazby!D22 -> 12 | I22: ='S1'!$E$6*Vazby!E22 -> 16 | J22: ='S1'!$E$7*Vazby!F22 -> 9 | K22: ='S1'!$E$8*Vazby!G22 -> 12 | L22: ='P1'!$E$5*Vazby!H22 -> 0 | M22: ='P1'!$E$6*Vazby!I22 -> 0 | N22: ='P1'!$E$7*Vazby!J22 -> 0 | O22: ='P1'!$E$8*Vazby!K22 -> 0 | P22: ='P2'!$E$5*Vazby!L22 -> 0 | Q22: ='P2'!$E$6*Vazby!M22 -> 0 | R22: ='P2'!$E$7*Vazby!N22 -> 0 | S22: ='P2'!$E$8*Vazby!O22 -> 0 | T22: ='P3'!$E$5*Vazby!P22 -> 0 | U22: ='P3'!$E$6*Vazby!Q22 -> 0 | V22: ='P3'!$E$7*Vazby!R22 -> 0 | W22: ='P3'!$E$8*Vazby!S22 -> 0 | X22: ='P4'!$E$5*Vazby!T22 -> 0 | Y22: ='P4'!$E$6*Vazby!U22 -> 0 | Z22: ='P4'!$E$7*Vazby!V22 -> 0 | AA22: ='P4'!$E$8*Vazby!W22 -> 0
B23: PO19 | C23: ='Katalog podpůrných aktiv'!D21 -> Autentizační a autorizační aplikace | D23: =MAX(H23,L23,P23,T23,X23) -> 6 | E23: =MAX(I23,M23,Q23,U23,Y23) -> 12 | F23: =MAX(J23,N23,R23,V23,Z23) -> 12 | G23: =MAX(K23,O23,S23,W23,AA23) -> 12 | H23: ='S1'!$E$5*Vazby!D23 -> 6 | I23: ='S1'!$E$6*Vazby!E23 -> 12 | J23: ='S1'!$E$7*Vazby!F23 -> 12 | K23: ='S1'!$E$8*Vazby!G23 -> 12 | L23: ='P1'!$E$5*Vazby!H23 -> 0 | M23: ='P1'!$E$6*Vazby!I23 -> 0 | N23: ='P1'!$E$7*Vazby!J23 -> 0 | O23: ='P1'!$E$8*Vazby!K23 -> 0 | P23: ='P2'!$E$5*Vazby!L23 -> 0 | Q23: ='P2'!$E$6*Vazby!M23 -> 0 | R23: ='P2'!$E$7*Vazby!N23 -> 0 | S23: ='P2'!$E$8*Vazby!O23 -> 0 | T23: ='P3'!$E$5*Vazby!P23 -> 0 | U23: ='P3'!$E$6*Vazby!Q23 -> 0 | V23: ='P3'!$E$7*Vazby!R23 -> 0 | W23: ='P3'!$E$8*Vazby!S23 -> 0 | X23: ='P4'!$E$5*Vazby!T23 -> 0 | Y23: ='P4'!$E$6*Vazby!U23 -> 0 | Z23: ='P4'!$E$7*Vazby!V23 -> 0 | AA23: ='P4'!$E$8*Vazby!W23 -> 0
B24: PO20 | C24: ='Katalog podpůrných aktiv'!D22 -> Switch (přepínač) | D24: =MAX(H24,L24,P24,T24,X24) -> 12 | E24: =MAX(I24,M24,Q24,U24,Y24) -> 8 | F24: =MAX(J24,N24,R24,V24,Z24) -> 6 | G24: =MAX(K24,O24,S24,W24,AA24) -> 12 | H24: ='S1'!$E$5*Vazby!D24 -> 12 | I24: ='S1'!$E$6*Vazby!E24 -> 8 | J24: ='S1'!$E$7*Vazby!F24 -> 6 | K24: ='S1'!$E$8*Vazby!G24 -> 12 | L24: ='P1'!$E$5*Vazby!H24 -> 0 | M24: ='P1'!$E$6*Vazby!I24 -> 0 | N24: ='P1'!$E$7*Vazby!J24 -> 0 | O24: ='P1'!$E$8*Vazby!K24 -> 0 | P24: ='P2'!$E$5*Vazby!L24 -> 0 | Q24: ='P2'!$E$6*Vazby!M24 -> 0 | R24: ='P2'!$E$7*Vazby!N24 -> 0 | S24: ='P2'!$E$8*Vazby!O24 -> 0 | T24: ='P3'!$E$5*Vazby!P24 -> 0 | U24: ='P3'!$E$6*Vazby!Q24 -> 0 | V24: ='P3'!$E$7*Vazby!R24 -> 0 | W24: ='P3'!$E$8*Vazby!S24 -> 0 | X24: ='P4'!$E$5*Vazby!T24 -> 0 | Y24: ='P4'!$E$6*Vazby!U24 -> 0 | Z24: ='P4'!$E$7*Vazby!V24 -> 0 | AA24: ='P4'!$E$8*Vazby!W24 -> 0
B25: PO21 | C25: ='Katalog podpůrných aktiv'!D23 -> Switch (přepínač) | D25: =MAX(H25,L25,P25,T25,X25) -> 12 | E25: =MAX(I25,M25,Q25,U25,Y25) -> 8 | F25: =MAX(J25,N25,R25,V25,Z25) -> 6 | G25: =MAX(K25,O25,S25,W25,AA25) -> 12 | H25: ='S1'!$E$5*Vazby!D25 -> 12 | I25: ='S1'!$E$6*Vazby!E25 -> 8 | J25: ='S1'!$E$7*Vazby!F25 -> 6 | K25: ='S1'!$E$8*Vazby!G25 -> 12 | L25: ='P1'!$E$5*Vazby!H25 -> 0 | M25: ='P1'!$E$6*Vazby!I25 -> 0 | N25: ='P1'!$E$7*Vazby!J25 -> 0 | O25: ='P1'!$E$8*Vazby!K25 -> 0 | P25: ='P2'!$E$5*Vazby!L25 -> 0 | Q25: ='P2'!$E$6*Vazby!M25 -> 0 | R25: ='P2'!$E$7*Vazby!N25 -> 0 | S25: ='P2'!$E$8*Vazby!O25 -> 0 | T25: ='P3'!$E$5*Vazby!P25 -> 0 | U25: ='P3'!$E$6*Vazby!Q25 -> 0 | V25: ='P3'!$E$7*Vazby!R25 -> 0 | W25: ='P3'!$E$8*Vazby!S25 -> 0 | X25: ='P4'!$E$5*Vazby!T25 -> 0 | Y25: ='P4'!$E$6*Vazby!U25 -> 0 | Z25: ='P4'!$E$7*Vazby!V25 -> 0 | AA25: ='P4'!$E$8*Vazby!W25 -> 0
B26: PO22 | C26: ='Katalog podpůrných aktiv'!D24 -> HW firewall - vnitřní | D26: =MAX(H26,L26,P26,T26,X26) -> 12 | E26: =MAX(I26,M26,Q26,U26,Y26) -> 8 | F26: =MAX(J26,N26,R26,V26,Z26) -> 6 | G26: =MAX(K26,O26,S26,W26,AA26) -> 12 | H26: ='S1'!$E$5*Vazby!D26 -> 12 | I26: ='S1'!$E$6*Vazby!E26 -> 8 | J26: ='S1'!$E$7*Vazby!F26 -> 6 | K26: ='S1'!$E$8*Vazby!G26 -> 12 | L26: ='P1'!$E$5*Vazby!H26 -> 0 | M26: ='P1'!$E$6*Vazby!I26 -> 0 | N26: ='P1'!$E$7*Vazby!J26 -> 0 | O26: ='P1'!$E$8*Vazby!K26 -> 0 | P26: ='P2'!$E$5*Vazby!L26 -> 0 | Q26: ='P2'!$E$6*Vazby!M26 -> 0 | R26: ='P2'!$E$7*Vazby!N26 -> 0 | S26: ='P2'!$E$8*Vazby!O26 -> 0 | T26: ='P3'!$E$5*Vazby!P26 -> 0 | U26: ='P3'!$E$6*Vazby!Q26 -> 0 | V26: ='P3'!$E$7*Vazby!R26 -> 0 | W26: ='P3'!$E$8*Vazby!S26 -> 0 | X26: ='P4'!$E$5*Vazby!T26 -> 0 | Y26: ='P4'!$E$6*Vazby!U26 -> 0 | Z26: ='P4'!$E$7*Vazby!V26 -> 0 | AA26: ='P4'!$E$8*Vazby!W26 -> 0
B27: PO23 | C27: ='Katalog podpůrných aktiv'!D25 -> HW firewall - perimetrový | D27: =MAX(H27,L27,P27,T27,X27) -> 12 | E27: =MAX(I27,M27,Q27,U27,Y27) -> 8 | F27: =MAX(J27,N27,R27,V27,Z27) -> 6 | G27: =MAX(K27,O27,S27,W27,AA27) -> 12 | H27: ='S1'!$E$5*Vazby!D27 -> 12 | I27: ='S1'!$E$6*Vazby!E27 -> 8 | J27: ='S1'!$E$7*Vazby!F27 -> 6 | K27: ='S1'!$E$8*Vazby!G27 -> 12 | L27: ='P1'!$E$5*Vazby!H27 -> 0 | M27: ='P1'!$E$6*Vazby!I27 -> 0 | N27: ='P1'!$E$7*Vazby!J27 -> 0 | O27: ='P1'!$E$8*Vazby!K27 -> 0 | P27: ='P2'!$E$5*Vazby!L27 -> 0 | Q27: ='P2'!$E$6*Vazby!M27 -> 0 | R27: ='P2'!$E$7*Vazby!N27 -> 0 | S27: ='P2'!$E$8*Vazby!O27 -> 0 | T27: ='P3'!$E$5*Vazby!P27 -> 0 | U27: ='P3'!$E$6*Vazby!Q27 -> 0 | V27: ='P3'!$E$7*Vazby!R27 -> 0 | W27: ='P3'!$E$8*Vazby!S27 -> 0 | X27: ='P4'!$E$5*Vazby!T27 -> 0 | Y27: ='P4'!$E$6*Vazby!U27 -> 0 | Z27: ='P4'!$E$7*Vazby!V27 -> 0 | AA27: ='P4'!$E$8*Vazby!W27 -> 0
B28: PO24 | C28: ='Katalog podpůrných aktiv'!D26 -> Antivir | D28: =MAX(H28,L28,P28,T28,X28) -> 6 | E28: =MAX(I28,M28,Q28,U28,Y28) -> 12 | F28: =MAX(J28,N28,R28,V28,Z28) -> 12 | G28: =MAX(K28,O28,S28,W28,AA28) -> 12 | H28: ='S1'!$E$5*Vazby!D28 -> 6 | I28: ='S1'!$E$6*Vazby!E28 -> 12 | J28: ='S1'!$E$7*Vazby!F28 -> 12 | K28: ='S1'!$E$8*Vazby!G28 -> 12 | L28: ='P1'!$E$5*Vazby!H28 -> 0 | M28: ='P1'!$E$6*Vazby!I28 -> 0 | N28: ='P1'!$E$7*Vazby!J28 -> 0 | O28: ='P1'!$E$8*Vazby!K28 -> 0 | P28: ='P2'!$E$5*Vazby!L28 -> 0 | Q28: ='P2'!$E$6*Vazby!M28 -> 0 | R28: ='P2'!$E$7*Vazby!N28 -> 0 | S28: ='P2'!$E$8*Vazby!O28 -> 0 | T28: ='P3'!$E$5*Vazby!P28 -> 0 | U28: ='P3'!$E$6*Vazby!Q28 -> 0 | V28: ='P3'!$E$7*Vazby!R28 -> 0 | W28: ='P3'!$E$8*Vazby!S28 -> 0 | X28: ='P4'!$E$5*Vazby!T28 -> 0 | Y28: ='P4'!$E$6*Vazby!U28 -> 0 | Z28: ='P4'!$E$7*Vazby!V28 -> 0 | AA28: ='P4'!$E$8*Vazby!W28 -> 0
B29: PO25 | C29: ='Katalog podpůrných aktiv'!D27 -> Monitoring a správa provozu | D29: =MAX(H29,L29,P29,T29,X29) -> 9 | E29: =MAX(I29,M29,Q29,U29,Y29) -> 12 | F29: =MAX(J29,N29,R29,V29,Z29) -> 9 | G29: =MAX(K29,O29,S29,W29,AA29) -> 9 | H29: ='S1'!$E$5*Vazby!D29 -> 9 | I29: ='S1'!$E$6*Vazby!E29 -> 12 | J29: ='S1'!$E$7*Vazby!F29 -> 9 | K29: ='S1'!$E$8*Vazby!G29 -> 9 | L29: ='P1'!$E$5*Vazby!H29 -> 0 | M29: ='P1'!$E$6*Vazby!I29 -> 0 | N29: ='P1'!$E$7*Vazby!J29 -> 0 | O29: ='P1'!$E$8*Vazby!K29 -> 0 | P29: ='P2'!$E$5*Vazby!L29 -> 0 | Q29: ='P2'!$E$6*Vazby!M29 -> 0 | R29: ='P2'!$E$7*Vazby!N29 -> 0 | S29: ='P2'!$E$8*Vazby!O29 -> 0 | T29: ='P3'!$E$5*Vazby!P29 -> 0 | U29: ='P3'!$E$6*Vazby!Q29 -> 0 | V29: ='P3'!$E$7*Vazby!R29 -> 0 | W29: ='P3'!$E$8*Vazby!S29 -> 0 | X29: ='P4'!$E$5*Vazby!T29 -> 0 | Y29: ='P4'!$E$6*Vazby!U29 -> 0 | Z29: ='P4'!$E$7*Vazby!V29 -> 0 | AA29: ='P4'!$E$8*Vazby!W29 -> 0
B30: PO26 | C30: ='Katalog podpůrných aktiv'!D28 -> Serverovna | D30: =MAX(H30,L30,P30,T30,X30) -> 9 | E30: =MAX(I30,M30,Q30,U30,Y30) -> 12 | F30: =MAX(J30,N30,R30,V30,Z30) -> 9 | G30: =MAX(K30,O30,S30,W30,AA30) -> 9 | H30: ='S1'!$E$5*Vazby!D30 -> 9 | I30: ='S1'!$E$6*Vazby!E30 -> 12 | J30: ='S1'!$E$7*Vazby!F30 -> 9 | K30: ='S1'!$E$8*Vazby!G30 -> 9 | L30: ='P1'!$E$5*Vazby!H30 -> 0 | M30: ='P1'!$E$6*Vazby!I30 -> 0 | N30: ='P1'!$E$7*Vazby!J30 -> 0 | O30: ='P1'!$E$8*Vazby!K30 -> 0 | P30: ='P2'!$E$5*Vazby!L30 -> 0 | Q30: ='P2'!$E$6*Vazby!M30 -> 0 | R30: ='P2'!$E$7*Vazby!N30 -> 0 | S30: ='P2'!$E$8*Vazby!O30 -> 0 | T30: ='P3'!$E$5*Vazby!P30 -> 0 | U30: ='P3'!$E$6*Vazby!Q30 -> 0 | V30: ='P3'!$E$7*Vazby!R30 -> 0 | W30: ='P3'!$E$8*Vazby!S30 -> 0 | X30: ='P4'!$E$5*Vazby!T30 -> 0 | Y30: ='P4'!$E$6*Vazby!U30 -> 0 | Z30: ='P4'!$E$7*Vazby!V30 -> 0 | AA30: ='P4'!$E$8*Vazby!W30 -> 0
B31: PO27 | C31: ='Katalog podpůrných aktiv'!D29 -> Areál | D31: =MAX(H31,L31,P31,T31,X31) -> 9 | E31: =MAX(I31,M31,Q31,U31,Y31) -> 12 | F31: =MAX(J31,N31,R31,V31,Z31) -> 9 | G31: =MAX(K31,O31,S31,W31,AA31) -> 9 | H31: ='S1'!$E$5*Vazby!D31 -> 9 | I31: ='S1'!$E$6*Vazby!E31 -> 12 | J31: ='S1'!$E$7*Vazby!F31 -> 9 | K31: ='S1'!$E$8*Vazby!G31 -> 9 | L31: ='P1'!$E$5*Vazby!H31 -> 0 | M31: ='P1'!$E$6*Vazby!I31 -> 0 | N31: ='P1'!$E$7*Vazby!J31 -> 0 | O31: ='P1'!$E$8*Vazby!K31 -> 0 | P31: ='P2'!$E$5*Vazby!L31 -> 0 | Q31: ='P2'!$E$6*Vazby!M31 -> 0 | R31: ='P2'!$E$7*Vazby!N31 -> 0 | S31: ='P2'!$E$8*Vazby!O31 -> 0 | T31: ='P3'!$E$5*Vazby!P31 -> 0 | U31: ='P3'!$E$6*Vazby!Q31 -> 0 | V31: ='P3'!$E$7*Vazby!R31 -> 0 | W31: ='P3'!$E$8*Vazby!S31 -> 0 | X31: ='P4'!$E$5*Vazby!T31 -> 0 | Y31: ='P4'!$E$6*Vazby!U31 -> 0 | Z31: ='P4'!$E$7*Vazby!V31 -> 0 | AA31: ='P4'!$E$8*Vazby!W31 -> 0
B32: PO28 | C32: ='Katalog podpůrných aktiv'!D30 -> Kabeláž | D32: =MAX(H32,L32,P32,T32,X32) -> 12 | E32: =MAX(I32,M32,Q32,U32,Y32) -> 8 | F32: =MAX(J32,N32,R32,V32,Z32) -> 9 | G32: =MAX(K32,O32,S32,W32,AA32) -> 12 | H32: ='S1'!$E$5*Vazby!D32 -> 12 | I32: ='S1'!$E$6*Vazby!E32 -> 8 | J32: ='S1'!$E$7*Vazby!F32 -> 9 | K32: ='S1'!$E$8*Vazby!G32 -> 12 | L32: ='P1'!$E$5*Vazby!H32 -> 0 | M32: ='P1'!$E$6*Vazby!I32 -> 0 | N32: ='P1'!$E$7*Vazby!J32 -> 0 | O32: ='P1'!$E$8*Vazby!K32 -> 0 | P32: ='P2'!$E$5*Vazby!L32 -> 0 | Q32: ='P2'!$E$6*Vazby!M32 -> 0 | R32: ='P2'!$E$7*Vazby!N32 -> 0 | S32: ='P2'!$E$8*Vazby!O32 -> 0 | T32: ='P3'!$E$5*Vazby!P32 -> 0 | U32: ='P3'!$E$6*Vazby!Q32 -> 0 | V32: ='P3'!$E$7*Vazby!R32 -> 0 | W32: ='P3'!$E$8*Vazby!S32 -> 0 | X32: ='P4'!$E$5*Vazby!T32 -> 0 | Y32: ='P4'!$E$6*Vazby!U32 -> 0 | Z32: ='P4'!$E$7*Vazby!V32 -> 0 | AA32: ='P4'!$E$8*Vazby!W32 -> 0
B33: PO29 | C33: ='Katalog podpůrných aktiv'!D31 -> Zálohovací SW | D33: =MAX(H33,L33,P33,T33,X33) -> 12 | E33: =MAX(I33,M33,Q33,U33,Y33) -> 8 | F33: =MAX(J33,N33,R33,V33,Z33) -> 9 | G33: =MAX(K33,O33,S33,W33,AA33) -> 12 | H33: ='S1'!$E$5*Vazby!D33 -> 12 | I33: ='S1'!$E$6*Vazby!E33 -> 8 | J33: ='S1'!$E$7*Vazby!F33 -> 9 | K33: ='S1'!$E$8*Vazby!G33 -> 12 | L33: ='P1'!$E$5*Vazby!H33 -> 0 | M33: ='P1'!$E$6*Vazby!I33 -> 0 | N33: ='P1'!$E$7*Vazby!J33 -> 0 | O33: ='P1'!$E$8*Vazby!K33 -> 0 | P33: ='P2'!$E$5*Vazby!L33 -> 0 | Q33: ='P2'!$E$6*Vazby!M33 -> 0 | R33: ='P2'!$E$7*Vazby!N33 -> 0 | S33: ='P2'!$E$8*Vazby!O33 -> 0 | T33: ='P3'!$E$5*Vazby!P33 -> 0 | U33: ='P3'!$E$6*Vazby!Q33 -> 0 | V33: ='P3'!$E$7*Vazby!R33 -> 0 | W33: ='P3'!$E$8*Vazby!S33 -> 0 | X33: ='P4'!$E$5*Vazby!T33 -> 0 | Y33: ='P4'!$E$6*Vazby!U33 -> 0 | Z33: ='P4'!$E$7*Vazby!V33 -> 0 | AA33: ='P4'!$E$8*Vazby!W33 -> 0
B34: PO30 | C34: ='Katalog podpůrných aktiv'!D32 -> Backup a obslužný server | D34: =MAX(H34,L34,P34,T34,X34) -> 12 | E34: =MAX(I34,M34,Q34,U34,Y34) -> 8 | F34: =MAX(J34,N34,R34,V34,Z34) -> 9 | G34: =MAX(K34,O34,S34,W34,AA34) -> 12 | H34: ='S1'!$E$5*Vazby!D34 -> 12 | I34: ='S1'!$E$6*Vazby!E34 -> 8 | J34: ='S1'!$E$7*Vazby!F34 -> 9 | K34: ='S1'!$E$8*Vazby!G34 -> 12 | L34: ='P1'!$E$5*Vazby!H34 -> 0 | M34: ='P1'!$E$6*Vazby!I34 -> 0 | N34: ='P1'!$E$7*Vazby!J34 -> 0 | O34: ='P1'!$E$8*Vazby!K34 -> 0 | P34: ='P2'!$E$5*Vazby!L34 -> 0 | Q34: ='P2'!$E$6*Vazby!M34 -> 0 | R34: ='P2'!$E$7*Vazby!N34 -> 0 | S34: ='P2'!$E$8*Vazby!O34 -> 0 | T34: ='P3'!$E$5*Vazby!P34 -> 0 | U34: ='P3'!$E$6*Vazby!Q34 -> 0 | V34: ='P3'!$E$7*Vazby!R34 -> 0 | W34: ='P3'!$E$8*Vazby!S34 -> 0 | X34: ='P4'!$E$5*Vazby!T34 -> 0 | Y34: ='P4'!$E$6*Vazby!U34 -> 0 | Z34: ='P4'!$E$7*Vazby!V34 -> 0 | AA34: ='P4'!$E$8*Vazby!W34 -> 0
... B37: PO33 | C37: ='Katalog podpůrných aktiv'!D35 -> Prostředky fyzické ochrany | D37: =MAX(H37,L37,P37,T37,X37) -> 6 | E37: =MAX(I37,M37,Q37,U37,Y37) -> 8 | F37: =MAX(J37,N37,R37,V37,Z37) -> 6 | G37: =MAX(K37,O37,S37,W37,AA37) -> 6 | H37: ='S1'!$E$5*Vazby!D37 -> 6 | I37: ='S1'!$E$6*Vazby!E37 -> 8 | J37: ='S1'!$E$7*Vazby!F37 -> 6 | K37: ='S1'!$E$8*Vazby!G37 -> 6 | L37: ='P1'!$E$5*Vazby!H37 -> 0 | M37: ='P1'!$E$6*Vazby!I37 -> 0 | N37: ='P1'!$E$7*Vazby!J37 -> 0 | O37: ='P1'!$E$8*Vazby!K37 -> 0 | P37: ='P2'!$E$5*Vazby!L37 -> 0 | Q37: ='P2'!$E$6*Vazby!M37 -> 0 | R37: ='P2'!$E$7*Vazby!N37 -> 0 | S37: ='P2'!$E$8*Vazby!O37 -> 0 | T37: ='P3'!$E$5*Vazby!P37 -> 0 | U37: ='P3'!$E$6*Vazby!Q37 -> 0 | V37: ='P3'!$E$7*Vazby!R37 -> 0 | W37: ='P3'!$E$8*Vazby!S37 -> 0 | X37: ='P4'!$E$5*Vazby!T37 -> 0 | Y37: ='P4'!$E$6*Vazby!U37 -> 0 | Z37: ='P4'!$E$7*Vazby!V37 -> 0 | AA37: ='P4'!$E$8*Vazby!W37 -> 0

Sheet Katalog zranitelností
A1: ID | B1: Typové zranitelnosti | C1: Označení | D1: Příklady zranitelností | E1: Technické vybavení (HW) | F1: Programové vybavení (SW) | G1: Komunikační prostředky | H1: Objekty | I1: Lidské zdroje | J1: Dodavatelé | K1: Externí systémy a služby
A2: 1 | B2: Nedostatečná údržba aktiv | C2: ="Z"&A2&": "&B2 -> Z1: Nedostatečná údržba aktiv | D2: 1) Proces pro správu a řízení technických zranitelností není zdokumentován ani plně zaveden do praxe. Není používán nástroj pro řízení technických zranitelností. Není nasazena technologie pro skenování zranitelností. 2) Stává se, že seznam ICT komponent nově zaváděné techniky není kompletní, v organizaci se vyskytuje neevidovaný ICT HW. V případě krádeže je HW administrativně nedohledatelný. 3) Nedostatečná dokumentace interní sítě. 4) Pro testování jsou používaná produkční data. 5) Nejsou stanoveny priority obnovy informačních systémů ze zálohy. 6) Neprobíhá profylaxe a údržba . 7) Jsou vydávány aktualizace, ale nejsou aplikovány do provozního prostředí. 8) Neprobíhá pravidelné čištění skladových prostor, hromadí se hořlavý materiál. 9) Servery jsou zanášeny prachem a nejsou pravidelně čištěny. 10) Informace popsané v dokumentaci nejsou pravidelně aktualizovány. 11) Aktualizace nejsou dostatečně testovány před nasazením do produkčního prostředí. 12) Nejsou odstraňovány nedostatky identifikované v průběhu skenování zranitelností nebo penetračního testování. | E2: x | F2: x | G2: x | H2: x
A3: 2 | B3: Zastaralost aktiv | C3: ="Z"&A3&": "&B3 -> Z2: Zastaralost aktiv | D3: 1) Jsou provozovány zastaralé nebo nepodporované operační systémy. 2) Nejsou vydávány aktualizace. 3) Je používán zastaralý router. 4) Zastaralá serverovna nesplňující aktuální předpisy a normy. 5) Jsou používány zastaralé kryptografické algoritmy. 6) Není prováděno pravidelné přezkoumání používaných kryptografických algoritmů. | E3: x | F3: x | G3: x | H3: x
A4: 3 | B4: Nedostatečná ochrana perimetru | C4: ="Z"&A4&": "&B4 -> Z3: Nedostatečná ochrana perimetru | D4: 1) Není implementovaná ochrana proti Web application útokům na externí služby ani pro interní služby. 2) Není aplikován hardening serverů, zejména těch vystavených do internetu. 3) Externí Firewall není zapojen v clusteru. 4) Nedostatečné fyzické zabezpečení objektů a lokalit. 5) Routery mají nastaveno defaultní jméno a heslo pro přístup do administrátorského rozhraní. 6) Vstup do objektu je umožněn komukoliv bez prověření jeho totožnosti, účelu návštěvy atd. 7) Absence ostrahy/dozoru u vstupu atd. | E4: x | F4: x | G4: x | H4: x
A5: 4 | B5: Nedostatečné bezpečnostní povědomí uživatelů, administrátorů, osob zastávající bezpečnostní role, dodavatelů a vrcholového vedení | C5: ="Z"&A5&": "&B5 -> Z4: Nedostatečné bezpečnostní povědomí uživatelů, administrátorů, osob zastávající bezpečnostní role, dodavatelů a vrcholového vedení | D5: 1) Nedostatečné vzdělávání běžných uživatelů ICT v oblasti bezpečnosti informací. 2) Nedostatečné ověřování znalostí běžných uživatelů ICT v oblasti bezpečnosti informací. Není prováděno testování formou phishingových kampaní a dalších metod sociálního inženýrství. 3) Absence vzdělávacích programů pro administrátory a bezpečnostní techniky. 4) Dodavatelé nejsou poučeni o svých právech a povinnostech. 5) Bezpečnostní role pravidelně neabsolvují odborná školení. 6) Zaměstnanci nejsou proškoleni o tom, že nesmí do objektu pouštět neautorizované osoby (např. není ověřena identita pracovníka dodavatele a účel jeho návštěvy). 7) Zaměstnanci nejsou poučeni o pravidlech ochrany aktiv (např. klasifikace informací, pravidla pro sdílení informací atd.). 8) Zaměstnanci nejsou poučení o způsobech zacházení se zaměstnaneckou kartou (např. nenechávat kartu volně ležet bez dozoru). 9) Zaměstnanci nejsou školeni o způsobech odhalování pochybení, nevhodných nebo závadných způsobů chování. | J5: x | K5: x
A6: 5 | B6: Nedostatečné zálohování | C6: ="Z"&A6&": "&B6 -> Z5: Nedostatečné zálohování | D6: 1)Nepravidelné zálohování. 2)Nedostatečná ochrana záloh. 3)Nedostatečné testováníobnovy záloh. 4)Zálohy jsou uložené na stejném fyzickém nebo virtuálním místě, jako originální data. | E6: x | F6: x | H6: x | I6: x | J6: x | K6: x
A7: 6 | B7: Nevhodné nastavení přístupových oprávnění | C7: ="Z"&A7&": "&B7 -> Z6: Nevhodné nastavení přístupových oprávnění | D7: 1) Některá ICT zařízení nemají od výrobce přístup chráněný heslem (defaultně). 2) Není nastavena jednotná politika hesel jak v rámci domény, tak na jednotlivých IS. 3) Neprobíhá pravidelné přezkoumávání přístupových práv jak uživatelů, tak administrátorů. 4) Při přihlašování do IS neprobíhá autentizace uživatelů přes centrální správu uživatelů (AD). IS mají svou vlastní DB uživatelů. 5) Není implementován centrální Systém řízení identit (IDM). 6) Nedostatečně fyzicky zabezpečené vstupy do serverovny. 7) Absence rozdělení odpovědných rolí a jim přidružených oprávnění - všichni mají přístup všude (porušená či ignorovaná zásada "need to know"). 8) Není aplikována metoda minimálních oprávnění (least privlidge principle). | E7: x | F7: x | G7: x | H7: x | I7: x | J7: x | K7: x
A8: 7 | B8: Nedostatečné postupy a procesy pro detekování kybernetických bezpečnostních událostí a identifikování kybernetických bezpečnostních incidentů | C8: ="Z"&A8&": "&B8 -> Z7: Nedostatečné postupy a procesy pro detekování kybernetických bezpečnostních událostí a identifikování kybernetických bezpečnostních incidentů | D8: 1)Nedostatečné školení zaměstnanců. 2)Chybějící nebo neaktuální bezpečnostní politiky v rámci řízení KBI a KBU. 3) Nejednoznačné stanovení pravomocí a odpovědností. | F8: x | G8: x | I8: x | J8: x
A9: 8 | B9: Nedostatečné monitorování činnosti uživatelů a administrátorů a neschopnost odhalit činnost, která může mít vliv na bezpečnost regulované služby | C9: ="Z"&A9&": "&B9 -> Z8: Nedostatečné monitorování činnosti uživatelů a administrátorů a neschopnost odhalit činnost, která může mít vliv na bezpečnost regulované služby | D9: 1) Neexistuje dohled nad aktivitami privilegovaných (administrátorských) účtů. 2) Nejednotná úroveň logování uživatelských aktivit u jednotlivých informačních systémů, není prováděno pravidelné vyhodnocování logů. 3) Nejsou vyhodnocovány informace ze síťových sond. 4) Záznamy z kamerového systému nejsou ukládány. 5) Vedoucí pracovník nekontroluje dodržování nastavených pravidel podřízenými. 6) Záznamy z kamerového systému neexistují či nejsou ukládány. | E9: x | F9: x | G9: x | I9: x | J9: x | K9: x
A10: 9 | B10: Nedostatečné stanovení bezpečnostních pravidel a postupů, nepřesné nebo nejednoznačné vymezení práv a povinností uživatelů, administrátorů, osob zastávající bezpečnostní role, dodavatelů a vrcholového vedení | C10: ="Z"&A10&": "&B10 -> Z9: Nedostatečné stanovení bezpečnostních pravidel a postupů, nepřesné nebo nejednoznačné vymezení práv a povinností uživatelů, administrátorů, osob zastávající bezpečnostní role, dodavatelů a vrcholového vedení | D10: 1) Bezpečnostní politiky nejsou vytvořeny v dostatečném rozsahu. 2) Neexistuje Incident management dokumentace. 3) Není dokumentovaná odpovědnost a role za řízení bezpečnosti informací. 4) Nedochází k systematickému a jednotnému řízení aktiv a rizik. 5) MKB není součástí všech akvizičních procesů ICT. MKB se nevyjadřuje k bezpečnostním požadavkům na nové technologie nebo při obměně stávajících technologií. 6) Nedostatečné řízení dodavatelů, ve smlouvách nejsou stanoveny požadavky na bezpečnost, ve smlouvách absentují informace a požadavky na připojení do sítí (topologie infrastruktury, datové rozvaděče, způsob zapojení apod.). 7) Nejsou nastavena pravidla pro změny defaultních hesel na zařízeních. 8) Neexistují pravidla pro vzdálenou práci a pro BYOD. 9) Nejsou nastavena bezpečnostní pravidla, která musí být zohledněna při zpracování veřejných zakázek. 10) Nejsou nastaveny závazné postupy při identifikaci negativních bezpečnostních jevů, KBU, KBI od formy jejich hlášení, postupech řešení, seznamu zainteresovaných řešitelů a vyhodnocení těchto jevů a následného přezkoumání. 11) Staré smlouvy nezahrnují požadavky na bezpečnost nebo jen částečně. 12) Neexistuje bezpečnostní provozní příručka k IS. 13) Není nastavena forma hlášení a řešení bezpečnostních událostí a incidentů ke správci IS od dodavatele. | E10: x | F10: x | G10: x | H10: x | I10: x
A11: 10 | B11: Nedostatečná ochrana aktiv | C11: ="Z"&A11&": "&B11 -> Z10: Nedostatečná ochrana aktiv | D11: 1) Nejsou stanoveni garanti aktiv, nedošlo k jejich jmenování a neznají své povinnosti. 2) Není zavedena klasifikace aktiv (informací). 3) Není zdokumentován ani zaveden proces pro správu a likvidaci výměnných médií. Není vedena jejich evidence. 4) Není zaveden standard pro šifrování e-mailové komunikace (externí i interní). 5) Média (např. s interní dokumentací) nejsou při vložení do prostředků organizace nijak omezována ani skenována antivirovým řešením. 6) Nedostatečně technicky zajištěna ochrana citlivých informací. Není nasazeno DLP řešení. 7) Organizační opatření nejsou zavedena do praxe. Procesy nastaveny pouze formálně v dokumentaci. 8) Nedostatečná konfigurace ICT aktiv (servery, komunikační prvky, databáze, apod.) 9) Nedostatečně zdokumentovaná kabeláž. 10) Nedostatečná ochrana koncových zařízení (endpoint security)(vč. antiviru). 11) Slabá ochrana před vnějšími vlivy. 12) Minimální ochrana před útoky zvenčí - organizovanou skupinou, osamocenými hackery atd. | E11: x | F11: x | G11: x | H11: x | I11: x | J11: x | K11: x
A12: 11 | B12: Nevhodně navržená bezpečná architektura | C12: ="Z"&A12&": "&B12 -> Z11: Nevhodně navržená bezpečná architektura | D12: 1) Nižší úroveň vysoké dostupnosti z důvodu přepínání celých větví a nejen zařízení, které vypadne. 2) Uživatelský segment není od DMZ odstíněn pomocí interního FW. 3) VLAN jsou zakončeny na core switchi, což ztěžuje management prostupů mezi VLAN. 4) Na serverech není instalován FW. 5) Není používáno nastavení DNSSEC. 6) DMZ je na stejných fyzických serverech jako interní servery. Je oddělena pouze síťově na úrovni VLAN. 7) Nedostatečná segmentace sítě. 8) Nejsou definovány ACL. | E12: x | F12: x | G12: x
A13: 12 | B13: Nedostatečná míra nezávislé kontroly | C13: ="Z"&A13&": "&B13 -> Z12: Nedostatečná míra nezávislé kontroly | D13: 1) Neprobíhá pravidelný interní audit. 2) Neprobíhá pravidelný externí audit. 3) Neprobíhá penetrační testování. 4) Neprobíhá skenování zranitelností. 5) Neadekvátní kontrola změn. 6) Neprobíhají zákaznické audity u dodavatele. | E13: x | F13: x | G13: x | H13: x | I13: x | J13: x | K13: x
A14: 13 | B14: Neschopnost včasného odhalení pochybení ze strany uživatelů, administrátorů, osob zastávajících bezpečností role, dodavatelů a vrcholného vedení | C14: ="Z"&A14&": "&B14 -> Z13: Neschopnost včasného odhalení pochybení ze strany uživatelů, administrátorů, osob zastávajících bezpečností role, dodavatelů a vrcholného vedení | D14: 1)Nedostatečné školení, uživatelů, administrátorů, bezpečnostních rolí, dodavatelů a vrcholného vedení. 2)Nedostatečná kontrola dodavatelů. 3) Špatné nastavení pravidel a politik technických aktiv. 4) Absence programového vybavení pro detekci. | E14: x | F14: x | G14: x | H14: x | I14: x | J14: x | K14: x
A15: 14 | B15: Nedostatek zaměstnanců s potřebnou odbornou úrovní znalostí | C15: ="Z"&A15&": "&B15 -> Z14: Nedostatek zaměstnanců s potřebnou odbornou úrovní znalostí | D15: 1) Nedostatek kvalifikovaných zájemců o práci v informačních a komunikačních technologií. 2) Nedostatek zaměstnanců způsobený hromadnou nemocí, karanténou. | I15: x | J15: x | K15: x
A16: 15 | B16: Umístění aktiva mimo fyzickou kontrolu (například na území cizího státu) | C16: ="Z"&A16&": "&B16 -> Z15: Umístění aktiva mimo fyzickou kontrolu (například na území cizího státu) | D16: 1)Nedostatečná fyzická bezpečnost. 2) Umístění v cizím státě může podléhat jiným právním a regulačním požadavkům. 3) Nedostatečné monitorování technických aktiv. 4) Nedostatečná kontrola přístupu k aktivům. | E16: x | F16: x | G16: x | H16: x | I16: x | J16: x | K16: x
A17: 16 | B17: Umístění aktiva na území státu o jehož právním prostředí nemá povinná osoba dostatečné povědomí | C17: Z16:Umístění aktiva na území státu o jehož právním prostředí nemá povinná osoba dostatečné povědomí | D17: 1) Neoprávněný přístup k citlivým informacím nebo jejich zneužití v zemi s nejasnými zákony o ochraně dat. | E17: x | F17: x | H17: x | J17: x | K17: x
A18: 17 | B18: Zranitelnosti odhalené při skenování zranitelností a penetračním testování | C18: Z17: Zranitelnosti odhalené při skenování zranitelností a penetračním testování | D18: 1) Nezabezpečené řízení komunikace. 2) Zastaralý software. 3) Slabá hesla uživatelů. 4) Nešifrovaná komunikace. 5) Nepodporovaná technická aktiva. | E18: x | F18: x | G18: x | H18: x | I18: x | J18: x | K18: x

Sheet Katalog hrozeb
A1: ID | B1: Typové hrozby | C1: Označení | D1: Příklady hrozeb | E1: Vektor útoku | F1: Je relevantní varování NÚKIB ze dne 17. prosince 2018? | G1: Dův. (C) | H1: Int. (I) | I1: Dost. (A)
A2: 1 | B2: Porušení bezpečnostní politiky, provedení neoprávněných činností, zneužití oprávnění ze strany uživatelů a administrátorů, osob zastavajicích bezpečnostní role, dodavatelů a vrcholného vedení | C2: ="H"&A2&": "&B2 -> H1: Porušení bezpečnostní politiky, provedení neoprávněných činností, zneužití oprávnění ze strany uživatelů a administrátorů, osob zastavajicích bezpečnostní role, dodavatelů a vrcholného vedení | D2: 1)Zaměstnanec nedodrží interní předpisy organizace. 2) Nedodržení zákonných předpisů dopadajících na organizaci. 3) Zaměstnanec nebo dodavatel záměrně poruší bezpečnostní politiku organizace. 4) Zaměstnanec nebo dodavatel záměrně eskaluje svá oprávnění. 5) Zaměstnanec nebo dodavatel do infrastruktury organizace připojí neschválený HW. 6) Zaměstnanec (vývojář) provede neoprávněné změny v aplikačním kódu a jiné změny vyvíjeného SW. 7) Zaměstnanec se seznámí s informacemi, které pro něj nebyly určeny. 8) Zaměstnanec sdílí informace s osobami, pro které nebyly určeny. | E2: Interní/Externí | F2: NE | G2: x | H2: x | I2: x
A3: 2 | B3: Poškození nebo selhání technického nebo programového vybavení | C3: ="H"&A3&": "&B3 -> H2: Poškození nebo selhání technického nebo programového vybavení | D3: 1) Náhodné přetížení HW serveru, sítě, koncové stanice. 2) Nedostupnost záloh. 3) Selhání HW zařízení (klimatizace, server, diskové pole). 4) Selhání operačního systému. 5) Zaplavení nebo požár serverovny. 6) Živelná pohroma – záplavy, tornádo, zemětřesení apod. | E3: Vyšší moc/Externí | F3: ANO | G3: x | H3: x
A4: 3 | B4: Zneužití identity | C4: ="H"&A4&": "&B4 -> H3: Zneužití identity | D4: 1) Útočník se snaží o prolomení (hádání) hesel. 2) Útočník se snaží prolomit zabezpečení bezdrátové Wi-Fi sítě. 3) Útočník se snaží do organizace proniknout z guest Wi-Fi sítě. 4) Cílený kybernetický útok (hacking) - pokus o krádež identity prostřednictvím SQL Injection, XSS, session hijacking apod. 5) Útočník zneužije fyzickou přístupovou kartu. 6) Útočník odcizí heslo doménového administrátora/privátní klíče k PKI. 7) Útočník zneužije důvěru zaměstnance a donutí jej jednat ve svůj prospěch. 8) Zaměstnanec zneužije přístupové údaje/kartu jiného zaměstnance. | E4: Interní/Externí | F4: NE | G4: x | I4: x
A5: 4 | B5: Užívání programového vybavení v rozporu s licenčními podmínkami | C5: ="H"&A5&": "&B5 -> H4: Užívání programového vybavení v rozporu s licenčními podmínkami | D5: 1) Zaměstnanec instaluje nepovolený SW na uživatelskou stanici. 2) Porušení licenčních podmínek SW. 3) Užívání pirátských kopií, falšování licencí. 4) Stahování programů z nezabezpečených a neoficiálních serverů. | E5: Interní | F5: NE | G5: x | H5: x
A6: 5 | B6: Škodlivý kód (například viry, spyware, trojské koně) | C6: ="H"&A6&": "&B6 -> H5: Škodlivý kód (například viry, spyware, trojské koně) | D6: 1) Zaměstnanec infikuje pracovní stanici škodlivým kódem při práci (např. stažení přílohy, vyhledávání na internetu apod.). 2) Zaměstnanec infikuje počítačovou síť vložením infikovaného vyměnitelného zařízení či datových nosičů (USB disk, CD, DVD). 3) Napadení plošně šířeným malware. | E6: Interní/Externí | F6: ANO | G6: x | H6: x | I6: x
A7: 6 | B7: Narušení fyzické bezpečnosti | C7: ="H"&A7&": "&B7 -> H6: Narušení fyzické bezpečnosti | D7: 1) Zaměstnanec zneužije fyzické přístupy do lokalit organizace po ukončení pracovního poměru. 2) Zaměstnanec zpřístupní neoprávněné osobě zabezpečené prostory (serverovny, rozvodna, archiv apod.). 3) Teroristický útok. 4) Útočník se snaží fyzicky proniknout do organizace – destruktivní/nedestruktivní metody (např. odvrtání zámku, otevření zámku pomocí šperháků, přeřezání mříží, rozbití oken apod.). | E7: Interní/Externí | F7: NE | G7: x | H7: x | I7: x
A8: 7 | B8: Přerušení poskytování služeb elektronických komunikací, satelitních služeb nebo dodávek elektrické energie nebo jiných důležitých služeb | C8: ="H"&A8&": "&B8 -> H7: Přerušení poskytování služeb elektronických komunikací, satelitních služeb nebo dodávek elektrické energie nebo jiných důležitých služeb | D8: 1) Selhání dodávky elektrické energie, konektivity nebo jiných důležitých služeb pro provoz ICT. 2) Krátkodobé přerušení dodávek elektrické energie. | E8: Externí/Vyšší moc | F8: NE | G8: x | H8: x
A9: 8 | B9: Narušení dostupnosti primárních nebo podpůrných aktiv umístěných mimo území České republiky | C9: H8: Narušení dostupnosti primárních nebo podpůrných aktiv umístěných mimo území České republiky | D9: 1)Zavedení nových zákonu o ochraně dat nebo omezení určitých technologií. 2)Přírodní katastrofa (např. zemětřesení), která zasáhne serverové technologie nebo datová centra umístěna mimo území České republiky. | E9: Externí/Vyšší moc | F9: NE | H9: x
A10: 9 | B10: Zneužití nebo neoprávněná modifikace informací | C10: ="H"&A10&": "&B10 -> H9: Zneužití nebo neoprávněná modifikace informací | D10: 1) Útočník získá přístup k aplikaci/systému. 2) Administrátor provede neoprávněnou změnu v nastavení SW. 3) Útočník v databázi pozmění data. 4) Útočník získá přístup k datům v databázi a využije je k zacílení svých dalších útoků. 5) Neautorizované spouštění řídicích síťových služeb. | E10: Interní/Externí | F10: ANO | G10: x | H10: x | I10: x
A11: 10 | B11: Ztráta, odcizení nebo poškození aktiva | C11: ="H"&A11&": "&B11 -> H10: Ztráta, odcizení nebo poškození aktiva | D11: 1) Zaměstnanec odcizí nebo smaže data nebo informace. 2) Útočník odcizí přenosné zařízení (notebook/mobilní telefon) či listinné dokumenty s daty nebo informacemi mimo prostory organizace (např. z auta, v restauraci apod.). 3) Útočník odcizí aktivum (notebook, mobilní telefon, klasifikované listinné dokumenty) z lokalit organizace. 4) Neoprávněná osoba přečte citlivé volně ležící dokumenty nebo vyhozené do koše, přečte citlivá data z obrazovky /stolu, ke kterým by se neměl dostat nebo přečte dokumenty z tiskárny. 5) Zaměstnanec si neoprávněně ponechá aktiva po ukončení pracovního poměru. | E11: Interní/Externí | F11: ANO | H11: x | I11: x
A12: 11 | B12: Nedodržení smluvního závazku ze strany dodavatele | C12: ="H"&A12&": "&B12 -> H11: Nedodržení smluvního závazku ze strany dodavatele | D12: 1) Nedodržení pokynů organizace zaměstnanci dodavatele. 2) Nedodržování bezpečnostních opatření při vzdáleném přístupu přes VPN, RDP. 3) Únik nebo zneužití informací dodavatelem dodávek/služeb a porušení NDA. 4) Výpadek služby dodavatele. 5) Poškození aktiva při dodávce. 6) Dodavatel poruší nastavená SLA ve smlouvě. 7) Dodavatel přestane zajišťovat nasmlouvanou podporu HW a SW. 8) Dodavatel přestane dodávat nasmlouvané služby. 9) Dodavatel nedodává služby v požadované kvalitě a rozsahu. | E12: Externí | F12: NE | G12: x | H12: x | I12: x
A13: 12 | B13: Pochybení ze strany uživatelů, administrátorů, osob zastávajících bezpečnostní role, dodavatelů a vrcholného vedení | C13: ="H"&A13&": "&B13 -> H12: Pochybení ze strany uživatelů, administrátorů, osob zastávajících bezpečnostní role, dodavatelů a vrcholného vedení | D13: 1) Nezodpovědné chování při práci s e-mailem a při výměně informací s třetí stranou. 2) Sdílení citlivých dat na veřejných úložištích (Cloud). 3) Nákup nebo akvizice ICT prostředků pouze na základě ekonomické výhodnosti. 4) Nákup nevhodného zařízení s nedostatečnými funkcionalitami (např. nedostatečné šifrování přenosu dat / informací (plain text) nebo využívání nezabezpečených síťových protokolů). 5) Nedostatečné finanční zdroje. 6) Neúmyslně poškodí aktivum. 7) Opomenutí uzamknutí pracovní stanice při odchodu z kanceláře. 8) Narušení provozu chybami administrátorů. 9) Neadekvátní konfigurace aktivních síťových komponentů. 10) Nezákonné zpracování dat (vč. osobních údajů). | E13: Interní | F13: NE | G13: x | H13: x | I13: x
A14: 13 | B14: Zneužití vnitřních prostředků, sabotáž | C14: ="H"&A14&": "&B14 -> H13: Zneužití vnitřních prostředků, sabotáž | D14: 1) Vydírání zaměstnanců za účelem ohrožení aktiv organizace. 2) Zničení/poškození chráněné lokality vandalismem. 3) Působení kryptominerů na serverech organizace. 4) Zaměstnanci sledují nebo stahují nepovolený obsah. | E14: Interní/Externí | F14: ANO | G14: x | H14: x | I14: x
A15: 14 | B15: Dlouhodobé přerušení poskytování služeb elektronických komunikací, dodávky elektrické energie nebo jiných důležitých služeb | C15: ="H"&A15&": "&B15 -> H14: Dlouhodobé přerušení poskytování služeb elektronických komunikací, dodávky elektrické energie nebo jiných důležitých služeb | D15: 1) Útoční se snaží o zablokování účtu. 2) Úmyslné přetížení HW servery, sítě, koncové stanice, zahlcením DOS, DDOS útokem. 3) Živelné pohromy (např. vichřice, popadané stromy na elektrickém vedení) a pandemická situace. 4) Překopnuté kabely. 5) Zničení rozvodů elektrické energie. | E15: Externí/Vyšší moc | F15: ANO | H15: x
A16: 15 | B16: Zaměstnanci s nedostatečnou odbornou úrovní znalostí | C16: ="H"&A16&": "&B16 -> H15: Zaměstnanci s nedostatečnou odbornou úrovní znalostí | D16: 1)Zaměstnanec neidentifikuje podvodné jednání. 2) Zaměstnanec neabsolvuje potřebná odborná školení. 3) Nedostatečné finanční zdroje pro zabezpečení lidských zdrojů. | E16: Interní/Externí | F16: NE | G16: x | H16: x | I16: x
A17: 16 | B17: Cílený kybernetický útok pomocí sociálního inženýrství, použití špionážních technik | C17: ="H"&A17&": "&B17 -> H16: Cílený kybernetický útok pomocí sociálního inženýrství, použití špionážních technik | D17: 1) Útočník využije technik sociálního inženýrství (včetně spear-phisingu) k získání přístupu do systému nebo do prostor organizace, využívá metod OSINT pro sběr informací o zaměstnancích a fungování organizace. 2) Útočník si vytvoří vlastní bezdrátovou síť, na které odchytává přístupové údaje uživatelů. 3) Zaměstnanec dodavatele provede útok (vzdáleně, interně) za účelem znepřístupnění služby. 4) Útočník fyzicky odezírá informace z obrazovky monitoru. 5) Útočník fyzicky odposlouchává citlivé rozhovory a jednání. 6) Zneužití nedostatků v kódu. 7) Cílené hrozby na organizaci (APT - Advanced Persistent Threat). 8) Instalace škodlivého kódu na uživatelské stanice útočníkem. 9) Útočník se snaží zašifrovat data pomocí ransomware. | E17: Externí | F17: ANO | G17: x | H17: x | I17: x
A18: 17 | B18: Zneužití vyměnitelných technických nosičů dat | C18: ="H"&A18&": "&B18 -> H17: Zneužití vyměnitelných technických nosičů dat | D18: 1) Útočník obnoví data ze zničených, poškozených nebo vadných disků. 2) Zaměstnanci ztratí vyměnitelné nosiče dat/jsou jim odcizeny apod. | E18: Interní/Externí | F18: ANO | I18: x
A19: 18 | B19: Napadení (odposlech, modifikace, podvržení) elektronické komunikace, satelitních služeb nebo jiných důležitých služeb | C19: ="H"&A19&": "&B19 -> H18: Napadení (odposlech, modifikace, podvržení) elektronické komunikace, satelitních služeb nebo jiných důležitých služeb | D19: 1) Zaměstnanec nebo útočník se snaží proniknout do provozních systémů (nebo systémů s osobními údaji) - hacking, webové útoky - SQL Injection, Cross site scripting, Data tampering - MITM (nechráněná komunikace mezi zařízením a serverem umožní neoprávněnou manipulaci s informacemi. 2) Útočník změní čas na serveru/koncové stanici, aby zamaskoval stopy. 3) Zaměstnanec nebo útočník odposlouchává nestíněné kabely/serverovnu. 4) Útoční zachycuje (interní/externí serverovou) komunikaci (např. e-mail). 5) Zaměstnanec nebo útočník přesměrovává komunikaci. | E19: Interní/Externí | F19: ANO | G19: x | I19: x
A20: 19 | B20: Závislost na dodavateli | C20: ="H"&A20&": "&B20 -> H19: Závislost na dodavateli | D20: 1)Výpadek u dodavatele způsobí nedostupnost poskytovaných služeb organizace a narušení provozu. 2) Dodavatel náhle zvýší cenu za své služby nebo produkty. 3) Monopol dodavatele. 4) Změna vlastnické struktury. 5) Špatné stanovení smluvních podmínek (vlastnictví zdrojového kódu). | E20: Interní/Externí | F20: ANO | G20: x | H20: x | I20: x
A21: 20 | B21: Zneužití státní moci pro přístup k aktivům | C21: ="H"&A21&": "&B21 -> H20: Zneužití státní moci pro přístup k aktivům | D21: 1)Státní orgán zabaví technická aktiva, nebo jiné fyzické vybavení organizace v rámci vyšetřování. 2) Neoprávněný přístup k citlivým informacím | E21: Externí | F21: NE | G21: x | H21: x | I21: x
A22: 21 | B22: Zpřístupnění nebo předání aktiv na základě žádosti státu | C22: ="H"&A22&": "&B22 -> H21: Zpřístupnění nebo předání aktiv na základě žádosti státu | D22: 1)Státní orgány si vyžádají přístup k datům, které má organizace uložené na svých technických aktivech v rámci vyšetřování. 2)Státní orgány zavedou zákon nebo regulaci, která omezuje přístup k určitým technologiím, které organizace využívá. | E22: Externí | F22: NE | G22: x | H22: x | I22: x

Sheet Zranitelnosti vs hrozby
C1: Hrozby
A2: ID | B2: Zranitelnosti | C2: Porušení bezpečnostní politiky, provedení neoprávněných činností, zneužití oprávnění ze strany uživatelů, administrátorů, osob zastávajících bezpečnostní role, dodavatelů a vrcholové vedení | D2: Poškození nebo selhání technického nebo programového vybavení | E2: Zneužití identity | F2: Užívání programového vybavení v rozporu s licenčními podmínkami | G2: Škodlivý kód | H2: Narušení fyzické bezpečnosti | I2: Přerušení poskytování služeb elektronických komunikací, satelitních služeb nebo dodávek elektrické energie nebo jiných důležitých služeb | J2: Narušení dostupnosti primárních a podpůrných aktiv umístěných mimo území České Republiky | K2: Zneužití nebo neoprávněná modifikace informací | L2: Ztráta, odcizení nebo poškození aktiva | M2: Nedodržení smluvního závazku ze strany dodavatele | N2: Pochybení ze strany uživatelů, administrátorů, osob zastávající bezpečnostní role, dodavatelů a vrcholného vedení | O2: Zneužití vnitřních prostředků, sabotáž | P2: Dlouhodobé přerušení poskytování služeb elektronických komunikací, satelitních služeb, dodávky elektrické energie nebo jiných důležitých služeb | Q2: Cílený kybernetický útok pomocí sociálního inženýrství, použití špionážních technik | R2: Zneužití vyměnitelných technických nosičů dat | S2: Napadení (odposlech, modifikace, podvržení) elektronické komunikace, satelitních služeb nebo jiných důležitých služeb | T2: Závislost na dodavateli | U2: Zneužití státní moci pro přístup k aktivům | V2: Zpřístupnění nebo předání aktiv na základě žádosti státu
A3: 1 | B3: Nedostatečná údržba aktiv | C3: 1 | D3: 1 | E3: 1 | G3: 1 | H3: 1 | I3: 1 | J3: 1 | K3: 1 | L3: 1 | N3: 1 | O3: 1 | P3: 1 | Q3: 1 | R3: 1 | S3: 1 | T3: 1
A4: 2 | B4: Zastaralost aktiv | C4: 1 | D4: 1 | E4: 1 | G4: 1 | H4: 1 | I4: 1 | K4: 1 | L4: 1 | N4: 1 | O4: 1 | P4: 1 | Q4: 1 | R4: 1 | S4: 1 | T4: 1
A5: 3 | B5: Nedostatečná ochrana perimetru | C5: 1 | D5: 1 | E5: 1 | G5: 1 | H5: 1 | I5: 1 | J5: 1 | K5: 1 | L5: 1 | N5: 1 | O5: 1 | P5: 1 | Q5: 1 | R5: 1 | S5: 1 | U5: 1 | V5: 1
A6: 4 | B6: Nedostatečné bezpečnostní povědomí uživatelů, administrátorů, osob zastávající bezpečnostní role, dodavatelů a vrcholového vedení | C6: 1 | E6: 1 | F6: 1 | G6: 1 | H6: 1 | J6: 1 | K6: 1 | L6: 1 | M6: 1 | N6: 1 | Q6: 1 | R6: 1 | S6: 1 | T6: 1 | U6: 1 | V6: 1
A7: 5 | B7: Nedostatečné zálohování | C7: 1 | D7: 1 | G7: 1 | H7: 1 | I7: 1 | J7: 1 | K7: 1 | L7: 1 | M7: 1 | P7: 1 | S7: 1
A8: 6 | B8: Nevhodné nastavení přístupových oprávnění | C8: 1 | E8: 1 | F8: 1 | G8: 1 | H8: 1 | K8: 1 | L8: 1 | M8: 1 | N8: 1 | O8: 1 | R8: 1 | S8: 1 | T8: 1
A9: 7 | B9: Nedostatečné postupy a procesy pro detekování kybernetických bezpečnostních událostí a identifikovaní kybernetických bezpečnostních incidentů | G9: 1 | H9: 1 | I9: 1 | J9: 1 | L9: 1 | M9: 1 | N9: 1 | P9: 1 | Q9: 1 | R9: 1 | S9: 1 | T9: 1
A10: 8 | B10: Nedostatečné monitorování činnosti uživatelů a administrátorů a, neschopnost odhalit činnost, která může mít vliv na bezpečnost regulované služby | C10: 1 | E10: 1 | G10: 1 | J10: 1 | K10: 1 | L10: 1 | M10: 1 | N10: 1 | O10: 1 | Q10: 1 | R10: 1 | S10: 1 | T10: 1 | U10: 1 | V10: 1
A11: 9 | B11: Nedostatečné stanovení bezpečnostních pravidel a postupů, nepřesné nebo nejednoznačné vymezení práv a povinností uživatelů, administrátorů, osob zastávajících bezpečnostní role, dodavatelů a vrcholové vedení | C11: 1 | E11: 1 | F11: 1 | G11: 1 | H11: 1 | I11: 1 | J11: 1 | K11: 1 | L11: 1 | M11: 1 | O11: 1 | P11: 1 | Q11: 1 | R11: 1 | T11: 1 | U11: 1 | V11: 1
A12: 10 | B12: Nedostatečná ochrana aktiv | C12: 1 | D12: 1 | E12: 1 | G12: 1 | H12: 1 | I12: 1 | J12: 1 | K12: 1 | L12: 1 | M12: 1 | N12: 1 | O12: 1 | P12: 1 | R12: 1 | U12: 1 | V12: 1
A13: 11 | B13: Nevhodně navržená bezpečnáarchitektura | D13: 1 | G13: 1 | J13: 1 | N13: 1 | S13: 1 | T13: 1
A14: 12 | B14: Nedostatečná míra nezávislé kontroly | C14: 1 | E14: 1 | F14: 1 | I14: 1 | J14: 1 | K14: 1 | L14: 1 | M14: 1 | N14: 1 | O14: 1 | P14: 1 | T14: 1 | U14: 1 | V14: 1
A15: 13 | B15: Neschopnost včasného odhalení pochybení ze strany uživatelů | C15: 1 | D15: 1 | E15: 1 | F15: 1 | G15: 1 | H15: 1 | I15: 1 | J15: 1 | K15: 1 | L15: 1 | M15: 1 | N15: 1 | O15: 1 | P15: 1 | Q15: 1 | R15: 1 | S15: 1 | T15: 1
A16: 14 | B16: Nedostatek zaměstnanců s potřebnou odbornou úrovní znalostí | C16: 1 | D16: 1 | F16: 1 | J16: 1 | M16: 1 | N16: 1 | T16: 1 | U16: 1 | V16: 1
A17: 15 | B17: Umístění aktiva mimo fyzickou kontrolu (například na území cizího státu) | D17: 1 | E17: 1 | G17: 1 | H17: 1 | I17: 1 | J17: 1 | K17: 1 | L17: 1 | M17: 1 | N17: 1 | O17: 1 | P17: 1 | Q17: 1 | R17: 1 | S17: 1 | T17: 1 | U17: 1 | V17: 1
A18: 16 | B18: Umístění aktiva na území státu o jehož právním prostředí nemá povinná osoba dostatečné povědomí | D18: 1 | E18: 1 | G18: 1 | H18: 1 | I18: 1 | J18: 1 | K18: 1 | L18: 1 | M18: 1 | N18: 1 | O18: 1 | P18: 1 | Q18: 1 | R18: 1 | S18: 1 | T18: 1 | U18: 1 | V18: 1
A19: 17 | B19: Zranitelnosti odhalené při skenování zranitelností a penetračním testování | D19: 1 | E19: 1 | F19: 1 | G19: 1 | H19: 1 | I19: 1 | J19: 1 | L19: 1 | N19: 1 | O19: 1 | P19: 1 | R19: 1

Sheet Katalog rizik
A1: HODNOCENÍ RIZIK | O1: PŘEDPOKLÁDANÉ SNÍŽENÍ HODNOTY RIZIKA PO ZAVEDENÍ BEZPEČNOSTNÍCH OPATŘENÍ | X1: ZOHLEDNĚNÍ VAROVÁNÍ NÚKIB ZE DNE 17.12.2018
A2: ID | B2: Aktivum | C2: Hodnota dopadu - dostupnost | D2: Hodnota dopadu - důvěrnost | E2: Hodnota dopadu - integrita | F2: Zranitelnost | G2: Hodnota zranitelnosti | H2: Hrozba | I2: Hodnota hrozby | J2: Hodnota rizika - dostupnost | K2: Hodnota rizika - důvěrnost | L2: Hodnota rizika - integrita | M2: Způsob zvládání rizika | N2: Komentář | O2: Hodnota dopadu - dostupnost (PO) | P2: Hodnota dopadu - důvěrnost (PO) | Q2: Hodnota dopadu - integrita (PO) | R2: Hodnota zranitelnosti (PO) | S2: Hodnota hrozby (PO) | T2: Hodnota rizika - dostupnost (PO) | U2: Hodnota rizika - důvěrnost (PO) | V2: Hodnota rizika - integrita (PO) | W2: Komentář (PO) | X2: Hodnota dopadu - dostupnost (V) | Y2: Hodnota dopadu - důvěrnost (V) | Z2: Hodnota dopadu - integrita (V) | AA2: Hodnota zranitelnosti (V) | AB2: Hodnota hrozby (V) | AC2: Hodnota rizika - dostupnost (V) | AD2: Hodnota rizika - důvěrnost (V) | AE2: Hodnota rizika - integrita (V) | AF2: Způsob zvládání rizika (V) | AG2: Komentář (V)
A3: … | B3: ... | C3: … | D3: … | E3: … | F3: ... | G3: … | H3: … | I3: … | J3: … | K3: … | L3: … | M3: … | N3: … | O3: … | P3: … | Q3: … | R3: … | S3: … | T3: … | U3: … | V3: … | W3: … | AG3: Rizika, která nebyla ovlivněna tímto varováním se nezměnila a nejsou v této části tabulky uvedena; dotčená rizika jsou barevně odlišena
A4: R4 | B4: PO5: Operační systém - databázový server | C4: 3 | D4: 2 | E4: 3 | F4: Z1: Nedostatečná údržba aktiv | G4: 4 | H4: H5: Působení škodlivého kódu (například viry, spyware, trojské koně) | I4: 4 | J4: =Tabulka2[[#This Row],[Hodnota dopadu - dostupnost]]*Tabulka2[[#This Row],[Hodnota zranitelnosti]]*Tabulka2[[#This Row],[Hodnota hrozby]] -> 48 | K4: =Tabulka2[[#This Row],[Hodnota dopadu - důvěrnost]]*Tabulka2[[#This Row],[Hodnota zranitelnosti]]*Tabulka2[[#This Row],[Hodnota hrozby]] -> 32 | L4: =Tabulka2[[#This Row],[Hodnota dopadu - integrita]]*Tabulka2[[#This Row],[Hodnota zranitelnosti]]*Tabulka2[[#This Row],[Hodnota hrozby]] -> 48 | M4: Redukce | N4: nepodporované systémy, hrozí náhodně chycený malware | O4: =Tabulka2[[#This Row],[Hodnota dopadu - dostupnost]] -> 3 | P4: =Tabulka2[[#This Row],[Hodnota dopadu - důvěrnost]] -> 2 | Q4: =Tabulka2[[#This Row],[Hodnota dopadu - integrita]] -> 3 | R4: 1 | S4: 4 | T4: =Tabulka2[[#This Row],[Hodnota dopadu - dostupnost (PO)]]*Tabulka2[[#This Row],[Hodnota zranitelnosti (PO)]]*Tabulka2[[#This Row],[Hodnota hrozby (PO)]] -> 12 | U4: =Tabulka2[[#This Row],[Hodnota dopadu - důvěrnost (PO)]]*Tabulka2[[#This Row],[Hodnota zranitelnosti (PO)]]*Tabulka2[[#This Row],[Hodnota hrozby (PO)]] -> 8 | V4: =Tabulka2[[#This Row],[Hodnota dopadu - integrita (PO)]]*Tabulka2[[#This Row],[Hodnota zranitelnosti (PO)]]*Tabulka2[[#This Row],[Hodnota hrozby (PO)]] -> 12
A5: R5 | B5: PO5: Operační systém - databázový server | C5: 3 | D5: 2 | E5: 3 | F5: Z1: Nedostatečná údržba aktiv | G5: 4 | H5: H14: Cílený kybernetický útok pomocí sociálního inženýrství, použití špionážních technik | I5: 2 | J5: =Tabulka2[[#This Row],[Hodnota dopadu - dostupnost]]*Tabulka2[[#This Row],[Hodnota zranitelnosti]]*Tabulka2[[#This Row],[Hodnota hrozby]] -> 24 | K5: =Tabulka2[[#This Row],[Hodnota dopadu - důvěrnost]]*Tabulka2[[#This Row],[Hodnota zranitelnosti]]*Tabulka2[[#This Row],[Hodnota hrozby]] -> 16 | L5: =Tabulka2[[#This Row],[Hodnota dopadu - integrita]]*Tabulka2[[#This Row],[Hodnota zranitelnosti]]*Tabulka2[[#This Row],[Hodnota hrozby]] -> 24 | M5: Redukce | N5: ministerstvo je významná instituce, má citlivá data, může být zajímavá pro útočníka | O5: =Tabulka2[[#This Row],[Hodnota dopadu - dostupnost]] -> 3 | P5: =Tabulka2[[#This Row],[Hodnota dopadu - důvěrnost]] -> 2 | Q5: =Tabulka2[[#This Row],[Hodnota dopadu - integrita]] -> 3 | R5: 2 | S5: 2 | T5: =Tabulka2[[#This Row],[Hodnota dopadu - dostupnost (PO)]]*Tabulka2[[#This Row],[Hodnota zranitelnosti (PO)]]*Tabulka2[[#This Row],[Hodnota hrozby (PO)]] -> 12 | U5: =Tabulka2[[#This Row],[Hodnota dopadu - důvěrnost (PO)]]*Tabulka2[[#This Row],[Hodnota zranitelnosti (PO)]]*Tabulka2[[#This Row],[Hodnota hrozby (PO)]] -> 8 | V5: =Tabulka2[[#This Row],[Hodnota dopadu - integrita (PO)]]*Tabulka2[[#This Row],[Hodnota zranitelnosti (PO)]]*Tabulka2[[#This Row],[Hodnota hrozby (PO)]] -> 12
A6: R8 | B6: PO4: Operační systém - aplikační server | C6: 3 | D6: 2 | E6: 3 | F6: Z1: Nedostatečná údržba aktiv | G6: 4 | H6: H5: Působení škodlivého kódu (například viry, spyware, trojské koně) | I6: 4 | J6: =Tabulka2[[#This Row],[Hodnota dopadu - dostupnost]]*Tabulka2[[#This Row],[Hodnota zranitelnosti]]*Tabulka2[[#This Row],[Hodnota hrozby]] -> 48 | K6: =Tabulka2[[#This Row],[Hodnota dopadu - důvěrnost]]*Tabulka2[[#This Row],[Hodnota zranitelnosti]]*Tabulka2[[#This Row],[Hodnota hrozby]] -> 32 | L6: =Tabulka2[[#This Row],[Hodnota dopadu - integrita]]*Tabulka2[[#This Row],[Hodnota zranitelnosti]]*Tabulka2[[#This Row],[Hodnota hrozby]] -> 48 | M6: Redukce | N6: hrozí, že se malware dostatne na aplikační server z důvodu neaktuálního antiviru | O6: =Tabulka2[[#This Row],[Hodnota dopadu - dostupnost]] -> 3 | P6: =Tabulka2[[#This Row],[Hodnota dopadu - důvěrnost]] -> 2 | Q6: =Tabulka2[[#This Row],[Hodnota dopadu - integrita]] -> 3 | R6: 2 | S6: 4 | T6: =Tabulka2[[#This Row],[Hodnota dopadu - dostupnost (PO)]]*Tabulka2[[#This Row],[Hodnota zranitelnosti (PO)]]*Tabulka2[[#This Row],[Hodnota hrozby (PO)]] -> 24 | U6: =Tabulka2[[#This Row],[Hodnota dopadu - důvěrnost (PO)]]*Tabulka2[[#This Row],[Hodnota zranitelnosti (PO)]]*Tabulka2[[#This Row],[Hodnota hrozby (PO)]] -> 16 | V6: =Tabulka2[[#This Row],[Hodnota dopadu - integrita (PO)]]*Tabulka2[[#This Row],[Hodnota zranitelnosti (PO)]]*Tabulka2[[#This Row],[Hodnota hrozby (PO)]] -> 24
A7: R9 | B7: PO4: Operační systém - aplikační server | C7: 3 | D7: 2 | E7: 3 | F7: Z1: Nedostatečná údržba aktiv | G7: 4 | H7: H14: Cílený kybernetický útok pomocí sociálního inženýrství, použití špionážních technik | I7: 2 | J7: =Tabulka2[[#This Row],[Hodnota dopadu - dostupnost]]*Tabulka2[[#This Row],[Hodnota zranitelnosti]]*Tabulka2[[#This Row],[Hodnota hrozby]] -> 24 | K7: =Tabulka2[[#This Row],[Hodnota dopadu - důvěrnost]]*Tabulka2[[#This Row],[Hodnota zranitelnosti]]*Tabulka2[[#This Row],[Hodnota hrozby]] -> 16 | L7: =Tabulka2[[#This Row],[Hodnota dopadu - integrita]]*Tabulka2[[#This Row],[Hodnota zranitelnosti]]*Tabulka2[[#This Row],[Hodnota hrozby]] -> 24 | M7: Redukce | O7: =Tabulka2[[#This Row],[Hodnota dopadu - dostupnost]] -> 3 | P7: =Tabulka2[[#This Row],[Hodnota dopadu - důvěrnost]] -> 2 | Q7: =Tabulka2[[#This Row],[Hodnota dopadu - integrita]] -> 3 | R7: 2 | S7: 2 | T7: =Tabulka2[[#This Row],[Hodnota dopadu - dostupnost (PO)]]*Tabulka2[[#This Row],[Hodnota zranitelnosti (PO)]]*Tabulka2[[#This Row],[Hodnota hrozby (PO)]] -> 12 | U7: =Tabulka2[[#This Row],[Hodnota dopadu - důvěrnost (PO)]]*Tabulka2[[#This Row],[Hodnota zranitelnosti (PO)]]*Tabulka2[[#This Row],[Hodnota hrozby (PO)]] -> 8 | V7: =Tabulka2[[#This Row],[Hodnota dopadu - integrita (PO)]]*Tabulka2[[#This Row],[Hodnota zranitelnosti (PO)]]*Tabulka2[[#This Row],[Hodnota hrozby (PO)]] -> 12
A8: R10 | B8: PO6: Operační systém - webový server | C8: 2 | D8: 1 | E8: 3 | F8: Z1: Nedostatečná údržba aktiv | G8: 4 | H8: H5: Působení škodlivého kódu (například viry, spyware, trojské koně) | I8: 4 | J8: =Tabulka2[[#This Row],[Hodnota dopadu - dostupnost]]*Tabulka2[[#This Row],[Hodnota zranitelnosti]]*Tabulka2[[#This Row],[Hodnota hrozby]] -> 32 | K8: =Tabulka2[[#This Row],[Hodnota dopadu - důvěrnost]]*Tabulka2[[#This Row],[Hodnota zranitelnosti]]*Tabulka2[[#This Row],[Hodnota hrozby]] -> 16 | L8: =Tabulka2[[#This Row],[Hodnota dopadu - integrita]]*Tabulka2[[#This Row],[Hodnota zranitelnosti]]*Tabulka2[[#This Row],[Hodnota hrozby]] -> 48 | M8: Redukce | N8: hrozí, že se malware dostatne na webový server z důvodu neaktuálního antiviru | O8: =Tabulka2[[#This Row],[Hodnota dopadu - dostupnost]] -> 2 | P8: =Tabulka2[[#This Row],[Hodnota dopadu - důvěrnost]] -> 1 | Q8: =Tabulka2[[#This Row],[Hodnota dopadu - integrita]] -> 3 | R8: 2 | S8: 4 | T8: =Tabulka2[[#This Row],[Hodnota dopadu - dostupnost (PO)]]*Tabulka2[[#This Row],[Hodnota zranitelnosti (PO)]]*Tabulka2[[#This Row],[Hodnota hrozby (PO)]] -> 16 | U8: =Tabulka2[[#This Row],[Hodnota dopadu - důvěrnost (PO)]]*Tabulka2[[#This Row],[Hodnota zranitelnosti (PO)]]*Tabulka2[[#This Row],[Hodnota hrozby (PO)]] -> 8 | V8: =Tabulka2[[#This Row],[Hodnota dopadu - integrita (PO)]]*Tabulka2[[#This Row],[Hodnota zranitelnosti (PO)]]*Tabulka2[[#This Row],[Hodnota hrozby (PO)]] -> 24 | X8: =Tabulka2[[#This Row],[Hodnota dopadu - dostupnost]] -> 2 | Y8: =Tabulka2[[#This Row],[Hodnota dopadu - důvěrnost]] -> 1 | Z8: =Tabulka2[[#This Row],[Hodnota dopadu - integrita]] -> 3 | AA8: 2 | AB8: 4 | AC8: =X8*AA8*AB8 -> 16 | AD8: Nerelevantní | AE8: =Z8*AA8*AB8 -> 24 | AF8: Sledování
A9: R11 | B9: PO6: Operační systém - webový server | C9: 2 | D9: 1 | E9: 3 | F9: Z1: Nedostatečná údržba aktiv | G9: 4 | H9: H14: Cílený kybernetický útok pomocí sociálního inženýrství, použití špionážních technik | I9: 2 | J9: =Tabulka2[[#This Row],[Hodnota dopadu - dostupnost]]*Tabulka2[[#This Row],[Hodnota zranitelnosti]]*Tabulka2[[#This Row],[Hodnota hrozby]] -> 16 | K9: =Tabulka2[[#This Row],[Hodnota dopadu - důvěrnost]]*Tabulka2[[#This Row],[Hodnota zranitelnosti]]*Tabulka2[[#This Row],[Hodnota hrozby]] -> 8 | L9: =Tabulka2[[#This Row],[Hodnota dopadu - integrita]]*Tabulka2[[#This Row],[Hodnota zranitelnosti]]*Tabulka2[[#This Row],[Hodnota hrozby]] -> 24 | M9: Redukce | O9: =Tabulka2[[#This Row],[Hodnota dopadu - dostupnost]] -> 2 | P9: =Tabulka2[[#This Row],[Hodnota dopadu - důvěrnost]] -> 1 | Q9: =Tabulka2[[#This Row],[Hodnota dopadu - integrita]] -> 3 | R9: 2 | S9: 2 | T9: =Tabulka2[[#This Row],[Hodnota dopadu - dostupnost (PO)]]*Tabulka2[[#This Row],[Hodnota zranitelnosti (PO)]]*Tabulka2[[#This Row],[Hodnota hrozby (PO)]] -> 8 | U9: =Tabulka2[[#This Row],[Hodnota dopadu - důvěrnost (PO)]]*Tabulka2[[#This Row],[Hodnota zranitelnosti (PO)]]*Tabulka2[[#This Row],[Hodnota hrozby (PO)]] -> 4 | V9: =Tabulka2[[#This Row],[Hodnota dopadu - integrita (PO)]]*Tabulka2[[#This Row],[Hodnota zranitelnosti (PO)]]*Tabulka2[[#This Row],[Hodnota hrozby (PO)]] -> 12
A10: R21 | B10: PO10: Aplikační server (SW) | C10: 3 | D10: Nerelevantní | E10: 3 | F10: Z1: Nedostatečná údržba aktiv | G10: 4 | H10: H2: Poškození nebo selhání technického nebo programového vybavení | I10: 3 | J10: =Tabulka2[[#This Row],[Hodnota dopadu - dostupnost]]*Tabulka2[[#This Row],[Hodnota zranitelnosti]]*Tabulka2[[#This Row],[Hodnota hrozby]] -> 36 | K10: Nerelevantní | L10: =Tabulka2[[#This Row],[Hodnota dopadu - integrita]]*Tabulka2[[#This Row],[Hodnota zranitelnosti]]*Tabulka2[[#This Row],[Hodnota hrozby]] -> 36 | M10: Redukce | O10: =Tabulka2[[#This Row],[Hodnota dopadu - dostupnost]] -> 3 | P10: =Tabulka2[[#This Row],[Hodnota dopadu - důvěrnost]] -> Nerelevantní | Q10: =Tabulka2[[#This Row],[Hodnota dopadu - integrita]] -> 3 | R10: 2 | S10: 3 | T10: =Tabulka2[[#This Row],[Hodnota dopadu - dostupnost (PO)]]*Tabulka2[[#This Row],[Hodnota zranitelnosti (PO)]]*Tabulka2[[#This Row],[Hodnota hrozby (PO)]] -> 18 | U10: Nerelevantní | V10: =Tabulka2[[#This Row],[Hodnota dopadu - integrita (PO)]]*Tabulka2[[#This Row],[Hodnota zranitelnosti (PO)]]*Tabulka2[[#This Row],[Hodnota hrozby (PO)]] -> 18
A11: R22 | B11: PO11: Databázový server (SW) | C11: 3 | D11: Nerelevantní | E11: 3 | F11: Z1: Nedostatečná údržba aktiv | G11: 4 | H11: H2: Poškození nebo selhání technického nebo programového vybavení | I11: 3 | J11: =Tabulka2[[#This Row],[Hodnota dopadu - dostupnost]]*Tabulka2[[#This Row],[Hodnota zranitelnosti]]*Tabulka2[[#This Row],[Hodnota hrozby]] -> 36 | K11: Nerelevantní | L11: =Tabulka2[[#This Row],[Hodnota dopadu - integrita]]*Tabulka2[[#This Row],[Hodnota zranitelnosti]]*Tabulka2[[#This Row],[Hodnota hrozby]] -> 36 | M11: Redukce | O11: =Tabulka2[[#This Row],[Hodnota dopadu - dostupnost]] -> 3 | P11: =Tabulka2[[#This Row],[Hodnota dopadu - důvěrnost]] -> Nerelevantní | Q11: =Tabulka2[[#This Row],[Hodnota dopadu - integrita]] -> 3 | R11: 2 | S11: 3 | T11: =Tabulka2[[#This Row],[Hodnota dopadu - dostupnost (PO)]]*Tabulka2[[#This Row],[Hodnota zranitelnosti (PO)]]*Tabulka2[[#This Row],[Hodnota hrozby (PO)]] -> 18 | U11: Nerelevantní | V11: =Tabulka2[[#This Row],[Hodnota dopadu - integrita (PO)]]*Tabulka2[[#This Row],[Hodnota zranitelnosti (PO)]]*Tabulka2[[#This Row],[Hodnota hrozby (PO)]] -> 18
A12: R23 | B12: PO12: Webový server (SW) | C12: 2 | D12: Nerelevantní | E12: 3 | F12: Z1: Nedostatečná údržba aktiv | G12: 4 | H12: H2: Poškození nebo selhání technického nebo programového vybavení | I12: 3 | J12: =Tabulka2[[#This Row],[Hodnota dopadu - dostupnost]]*Tabulka2[[#This Row],[Hodnota zranitelnosti]]*Tabulka2[[#This Row],[Hodnota hrozby]] -> 24 | K12: Nerelevantní | L12: =Tabulka2[[#This Row],[Hodnota dopadu - integrita]]*Tabulka2[[#This Row],[Hodnota zranitelnosti]]*Tabulka2[[#This Row],[Hodnota hrozby]] -> 36 | M12: Redukce | O12: =Tabulka2[[#This Row],[Hodnota dopadu - dostupnost]] -> 2 | P12: =Tabulka2[[#This Row],[Hodnota dopadu - důvěrnost]] -> Nerelevantní | Q12: =Tabulka2[[#This Row],[Hodnota dopadu - integrita]] -> 3 | R12: 2 | S12: 3 | T12: =Tabulka2[[#This Row],[Hodnota dopadu - dostupnost (PO)]]*Tabulka2[[#This Row],[Hodnota zranitelnosti (PO)]]*Tabulka2[[#This Row],[Hodnota hrozby (PO)]] -> 12 | U12: Nerelevantní | V12: =Tabulka2[[#This Row],[Hodnota dopadu - integrita (PO)]]*Tabulka2[[#This Row],[Hodnota zranitelnosti (PO)]]*Tabulka2[[#This Row],[Hodnota hrozby (PO)]] -> 18
A13: R24 | B13: PO13: Dodavatel A | C13: 3 | D13: 3 | E13: 3 | F13: Z7: Nedostatečné stanovení bezpečnostních pravidel a postupů, nepřesné nebo nejednoznačné vymezení práv a povinností lidských zdrojů | G13: 4 | H13: H10: Nedodržení smluvního závazku ze strany dodavatele | I13: 2 | J13: =Tabulka2[[#This Row],[Hodnota dopadu - dostupnost]]*Tabulka2[[#This Row],[Hodnota zranitelnosti]]*Tabulka2[[#This Row],[Hodnota hrozby]] -> 24 | K13: =Tabulka2[[#This Row],[Hodnota dopadu - důvěrnost]]*Tabulka2[[#This Row],[Hodnota zranitelnosti]]*Tabulka2[[#This Row],[Hodnota hrozby]] -> 24 | L13: =Tabulka2[[#This Row],[Hodnota dopadu - integrita]]*Tabulka2[[#This Row],[Hodnota zranitelnosti]]*Tabulka2[[#This Row],[Hodnota hrozby]] -> 24 | M13: Redukce | N13: zdrojové kódy má dodavatel, v případě jeho krachu je dodávaný software nepoužitelný | O13: =Tabulka2[[#This Row],[Hodnota dopadu - dostupnost]] -> 3 | P13: =Tabulka2[[#This Row],[Hodnota dopadu - důvěrnost]] -> 3 | Q13: =Tabulka2[[#This Row],[Hodnota dopadu - integrita]] -> 3 | R13: 2 | S13: 2 | T13: =Tabulka2[[#This Row],[Hodnota dopadu - dostupnost (PO)]]*Tabulka2[[#This Row],[Hodnota zranitelnosti (PO)]]*Tabulka2[[#This Row],[Hodnota hrozby (PO)]] -> 12 | U13: =Tabulka2[[#This Row],[Hodnota dopadu - důvěrnost (PO)]]*Tabulka2[[#This Row],[Hodnota zranitelnosti (PO)]]*Tabulka2[[#This Row],[Hodnota hrozby (PO)]] -> 12 | V13: =Tabulka2[[#This Row],[Hodnota dopadu - integrita (PO)]]*Tabulka2[[#This Row],[Hodnota zranitelnosti (PO)]]*Tabulka2[[#This Row],[Hodnota hrozby (PO)]] -> 12
A14: R56 | B14: PO20: Switch (přepínač) | C14: 3 | D14: 2 | E14: 3 | F14: Z1: Nedostatečná údržba aktiv | G14: 3 | H14: H6: Narušení fyzické bezpečnosti | I14: 1 | J14: =Tabulka2[[#This Row],[Hodnota dopadu - dostupnost]]*Tabulka2[[#This Row],[Hodnota zranitelnosti]]*Tabulka2[[#This Row],[Hodnota hrozby]] -> 9 | K14: =Tabulka2[[#This Row],[Hodnota dopadu - důvěrnost]]*Tabulka2[[#This Row],[Hodnota zranitelnosti]]*Tabulka2[[#This Row],[Hodnota hrozby]] -> 6 | L14: =Tabulka2[[#This Row],[Hodnota dopadu - integrita]]*Tabulka2[[#This Row],[Hodnota zranitelnosti]]*Tabulka2[[#This Row],[Hodnota hrozby]] -> 9 | M14: Akceptace | O14: =Tabulka2[[#This Row],[Hodnota dopadu - dostupnost]] -> 3 | P14: =Tabulka2[[#This Row],[Hodnota dopadu - důvěrnost]] -> 2 | Q14: =Tabulka2[[#This Row],[Hodnota dopadu - integrita]] -> 3 | R14: 3 | S14: 1 | T14: =Tabulka2[[#This Row],[Hodnota dopadu - dostupnost (PO)]]*Tabulka2[[#This Row],[Hodnota zranitelnosti (PO)]]*Tabulka2[[#This Row],[Hodnota hrozby (PO)]] -> 9 | U14: =Tabulka2[[#This Row],[Hodnota dopadu - důvěrnost (PO)]]*Tabulka2[[#This Row],[Hodnota zranitelnosti (PO)]]*Tabulka2[[#This Row],[Hodnota hrozby (PO)]] -> 6 | V14: =Tabulka2[[#This Row],[Hodnota dopadu - integrita (PO)]]*Tabulka2[[#This Row],[Hodnota zranitelnosti (PO)]]*Tabulka2[[#This Row],[Hodnota hrozby (PO)]] -> 9
A15: R58 | B15: PO21: Switch (přepínač) | C15: 3 | D15: 2 | E15: 3 | F15: Z1: Nedostatečná údržba aktiv | G15: 3 | H15: H6: Narušení fyzické bezpečnosti | I15: 1 | J15: =Tabulka2[[#This Row],[Hodnota dopadu - dostupnost]]*Tabulka2[[#This Row],[Hodnota zranitelnosti]]*Tabulka2[[#This Row],[Hodnota hrozby]] -> 9 | K15: =Tabulka2[[#This Row],[Hodnota dopadu - důvěrnost]]*Tabulka2[[#This Row],[Hodnota zranitelnosti]]*Tabulka2[[#This Row],[Hodnota hrozby]] -> 6 | L15: =Tabulka2[[#This Row],[Hodnota dopadu - integrita]]*Tabulka2[[#This Row],[Hodnota zranitelnosti]]*Tabulka2[[#This Row],[Hodnota hrozby]] -> 9 | M15: Akceptace | O15: =Tabulka2[[#This Row],[Hodnota dopadu - dostupnost]] -> 3 | P15: =Tabulka2[[#This Row],[Hodnota dopadu - důvěrnost]] -> 2 | Q15: =Tabulka2[[#This Row],[Hodnota dopadu - integrita]] -> 3 | R15: 3 | S15: 1 | T15: =Tabulka2[[#This Row],[Hodnota dopadu - dostupnost (PO)]]*Tabulka2[[#This Row],[Hodnota zranitelnosti (PO)]]*Tabulka2[[#This Row],[Hodnota hrozby (PO)]] -> 9 | U15: =Tabulka2[[#This Row],[Hodnota dopadu - důvěrnost (PO)]]*Tabulka2[[#This Row],[Hodnota zranitelnosti (PO)]]*Tabulka2[[#This Row],[Hodnota hrozby (PO)]] -> 6 | V15: =Tabulka2[[#This Row],[Hodnota dopadu - integrita (PO)]]*Tabulka2[[#This Row],[Hodnota zranitelnosti (PO)]]*Tabulka2[[#This Row],[Hodnota hrozby (PO)]] -> 9
A16: R60 | B16: PO22: HW firewall - vnitřní | C16: Nerelevantní | D16: 2 | E16: 3 | F16: Z1: Nedostatečná údržba aktiv | G16: 3 | H16: H16: Napadení elektronické komunikace (odposlech, modifikace) | I16: 1 | J16: Nerelevantní | K16: =Tabulka2[[#This Row],[Hodnota dopadu - důvěrnost]]*Tabulka2[[#This Row],[Hodnota zranitelnosti]]*Tabulka2[[#This Row],[Hodnota hrozby]] -> 6 | L16: =Tabulka2[[#This Row],[Hodnota dopadu - integrita]]*Tabulka2[[#This Row],[Hodnota zranitelnosti]]*Tabulka2[[#This Row],[Hodnota hrozby]] -> 9 | M16: Akceptace | O16: =Tabulka2[[#This Row],[Hodnota dopadu - dostupnost]] -> Nerelevantní | P16: =Tabulka2[[#This Row],[Hodnota dopadu - důvěrnost]] -> 2 | Q16: =Tabulka2[[#This Row],[Hodnota dopadu - integrita]] -> 3 | R16: 3 | S16: 1 | T16: Nerelevantní | U16: =Tabulka2[[#This Row],[Hodnota dopadu - důvěrnost (PO)]]*Tabulka2[[#This Row],[Hodnota zranitelnosti (PO)]]*Tabulka2[[#This Row],[Hodnota hrozby (PO)]] -> 6 | V16: =Tabulka2[[#This Row],[Hodnota dopadu - integrita (PO)]]*Tabulka2[[#This Row],[Hodnota zranitelnosti (PO)]]*Tabulka2[[#This Row],[Hodnota hrozby (PO)]] -> 9
A17: R62 | B17: PO23: HW firewall - perimetrový | C17: Nerelevantní | D17: 2 | E17: 3 | F17: Z1: Nedostatečná údržba aktiv | G17: 3 | H17: H16: Napadení elektronické komunikace (odposlech, modifikace) | I17: 2 | J17: Nerelevantní | K17: =Tabulka2[[#This Row],[Hodnota dopadu - důvěrnost]]*Tabulka2[[#This Row],[Hodnota zranitelnosti]]*Tabulka2[[#This Row],[Hodnota hrozby]] -> 12 | L17: =Tabulka2[[#This Row],[Hodnota dopadu - integrita]]*Tabulka2[[#This Row],[Hodnota zranitelnosti]]*Tabulka2[[#This Row],[Hodnota hrozby]] -> 18 | M17: Sledování | O17: =Tabulka2[[#This Row],[Hodnota dopadu - dostupnost]] -> Nerelevantní | P17: =Tabulka2[[#This Row],[Hodnota dopadu - důvěrnost]] -> 2 | Q17: =Tabulka2[[#This Row],[Hodnota dopadu - integrita]] -> 3 | R17: 3 | S17: 2 | T17: Nerelevantní | U17: =Tabulka2[[#This Row],[Hodnota dopadu - důvěrnost (PO)]]*Tabulka2[[#This Row],[Hodnota zranitelnosti (PO)]]*Tabulka2[[#This Row],[Hodnota hrozby (PO)]] -> 12 | V17: =Tabulka2[[#This Row],[Hodnota dopadu - integrita (PO)]]*Tabulka2[[#This Row],[Hodnota zranitelnosti (PO)]]*Tabulka2[[#This Row],[Hodnota hrozby (PO)]] -> 18
A18: R63 | B18: PO23: HW firewall - perimetrový | C18: 3 | D18: 2 | E18: 3 | F18: Z1: Nedostatečná údržba aktiv | G18: 3 | H18: H14: Cílený kybernetický útok pomocí sociálního inženýrství, použití špionážních technik | I18: 3 | J18: =Tabulka2[[#This Row],[Hodnota dopadu - dostupnost]]*Tabulka2[[#This Row],[Hodnota zranitelnosti]]*Tabulka2[[#This Row],[Hodnota hrozby]] -> 27 | K18: =Tabulka2[[#This Row],[Hodnota dopadu - důvěrnost]]*Tabulka2[[#This Row],[Hodnota zranitelnosti]]*Tabulka2[[#This Row],[Hodnota hrozby]] -> 18 | L18: =Tabulka2[[#This Row],[Hodnota dopadu - integrita]]*Tabulka2[[#This Row],[Hodnota zranitelnosti]]*Tabulka2[[#This Row],[Hodnota hrozby]] -> 27 | M18: Redukce | O18: =Tabulka2[[#This Row],[Hodnota dopadu - dostupnost]] -> 3 | P18: =Tabulka2[[#This Row],[Hodnota dopadu - důvěrnost]] -> 2 | Q18: =Tabulka2[[#This Row],[Hodnota dopadu - integrita]] -> 3 | R18: 2 | S18: 3 | T18: =Tabulka2[[#This Row],[Hodnota dopadu - dostupnost (PO)]]*Tabulka2[[#This Row],[Hodnota zranitelnosti (PO)]]*Tabulka2[[#This Row],[Hodnota hrozby (PO)]] -> 18 | U18: =Tabulka2[[#This Row],[Hodnota dopadu - důvěrnost (PO)]]*Tabulka2[[#This Row],[Hodnota zranitelnosti (PO)]]*Tabulka2[[#This Row],[Hodnota hrozby (PO)]] -> 12 | V18: =Tabulka2[[#This Row],[Hodnota dopadu - integrita (PO)]]*Tabulka2[[#This Row],[Hodnota zranitelnosti (PO)]]*Tabulka2[[#This Row],[Hodnota hrozby (PO)]] -> 18
A19: R64 | B19: PO24: Antivir | C19: 2 | D19: 3 | E19: 3 | F19: Z1: Nedostatečná údržba aktiv | G19: 3 | H19: H5: Působení škodlivého kódu (například viry, spyware, trojské koně) | I19: 3 | J19: =Tabulka2[[#This Row],[Hodnota dopadu - dostupnost]]*Tabulka2[[#This Row],[Hodnota zranitelnosti]]*Tabulka2[[#This Row],[Hodnota hrozby]] -> 18 | K19: =Tabulka2[[#This Row],[Hodnota dopadu - důvěrnost]]*Tabulka2[[#This Row],[Hodnota zranitelnosti]]*Tabulka2[[#This Row],[Hodnota hrozby]] -> 27 | L19: =Tabulka2[[#This Row],[Hodnota dopadu - integrita]]*Tabulka2[[#This Row],[Hodnota zranitelnosti]]*Tabulka2[[#This Row],[Hodnota hrozby]] -> 27 | M19: Redukce | O19: =Tabulka2[[#This Row],[Hodnota dopadu - dostupnost]] -> 2 | P19: =Tabulka2[[#This Row],[Hodnota dopadu - důvěrnost]] -> 3 | Q19: =Tabulka2[[#This Row],[Hodnota dopadu - integrita]] -> 3 | R19: 2 | S19: 3 | T19: =Tabulka2[[#This Row],[Hodnota dopadu - dostupnost (PO)]]*Tabulka2[[#This Row],[Hodnota zranitelnosti (PO)]]*Tabulka2[[#This Row],[Hodnota hrozby (PO)]] -> 12 | U19: =Tabulka2[[#This Row],[Hodnota dopadu - důvěrnost (PO)]]*Tabulka2[[#This Row],[Hodnota zranitelnosti (PO)]]*Tabulka2[[#This Row],[Hodnota hrozby (PO)]] -> 18 | V19: =Tabulka2[[#This Row],[Hodnota dopadu - integrita (PO)]]*Tabulka2[[#This Row],[Hodnota zranitelnosti (PO)]]*Tabulka2[[#This Row],[Hodnota hrozby (PO)]] -> 18
A20: R69 | B20: PO29: Zálohovací SW | C20: 3 | D20: Nerelevantní | E20: 3 | F20: Z1: Nedostatečná údržba aktiv | G20: 2 | H20: H2: Poškození nebo selhání technického nebo programového vybavení | I20: 2 | J20: =Tabulka2[[#This Row],[Hodnota dopadu - dostupnost]]*Tabulka2[[#This Row],[Hodnota zranitelnosti]]*Tabulka2[[#This Row],[Hodnota hrozby]] -> 12 | K20: Nerelevantní | L20: =Tabulka2[[#This Row],[Hodnota dopadu - integrita]]*Tabulka2[[#This Row],[Hodnota zranitelnosti]]*Tabulka2[[#This Row],[Hodnota hrozby]] -> 12 | M20: Akceptace | O20: =Tabulka2[[#This Row],[Hodnota dopadu - dostupnost]] -> 3 | P20: =Tabulka2[[#This Row],[Hodnota dopadu - důvěrnost]] -> Nerelevantní | Q20: =Tabulka2[[#This Row],[Hodnota dopadu - integrita]] -> 3 | R20: 2 | S20: 2 | T20: =Tabulka2[[#This Row],[Hodnota dopadu - dostupnost (PO)]]*Tabulka2[[#This Row],[Hodnota zranitelnosti (PO)]]*Tabulka2[[#This Row],[Hodnota hrozby (PO)]] -> 12 | U20: Nerelevantní | V20: =Tabulka2[[#This Row],[Hodnota dopadu - integrita (PO)]]*Tabulka2[[#This Row],[Hodnota zranitelnosti (PO)]]*Tabulka2[[#This Row],[Hodnota hrozby (PO)]] -> 12
A21: R71 | B21: PO30: Backup a obslužný server | C21: 3 | D21: Nerelevantní | E21: 3 | F21: Z1: Nedostatečná údržba aktiv | G21: 2 | H21: H2: Poškození nebo selhání technického nebo programového vybavení | I21: 2 | J21: =Tabulka2[[#This Row],[Hodnota dopadu - dostupnost]]*Tabulka2[[#This Row],[Hodnota zranitelnosti]]*Tabulka2[[#This Row],[Hodnota hrozby]] -> 12 | K21: Nerelevantní | L21: =Tabulka2[[#This Row],[Hodnota dopadu - integrita]]*Tabulka2[[#This Row],[Hodnota zranitelnosti]]*Tabulka2[[#This Row],[Hodnota hrozby]] -> 12 | M21: Akceptace | O21: =Tabulka2[[#This Row],[Hodnota dopadu - dostupnost]] -> 3 | P21: =Tabulka2[[#This Row],[Hodnota dopadu - důvěrnost]] -> Nerelevantní | Q21: =Tabulka2[[#This Row],[Hodnota dopadu - integrita]] -> 3 | R21: 2 | S21: 2 | T21: =Tabulka2[[#This Row],[Hodnota dopadu - dostupnost (PO)]]*Tabulka2[[#This Row],[Hodnota zranitelnosti (PO)]]*Tabulka2[[#This Row],[Hodnota hrozby (PO)]] -> 12 | U21: Nerelevantní | V21: =Tabulka2[[#This Row],[Hodnota dopadu - integrita (PO)]]*Tabulka2[[#This Row],[Hodnota zranitelnosti (PO)]]*Tabulka2[[#This Row],[Hodnota hrozby (PO)]] -> 12
A22: R38 | B22: PO18: Administrátor - externí | C22: 3 | D22: 3 | E22: 3 | F22: Z10: Nedostatečná míra nezávislé kontroly | G22: 3 | H22: H10: Nedodržení smluvního závazku ze strany dodavatele | I22: 3 | J22: =Tabulka2[[#This Row],[Hodnota dopadu - dostupnost]]*Tabulka2[[#This Row],[Hodnota zranitelnosti]]*Tabulka2[[#This Row],[Hodnota hrozby]] -> 27 | K22: =Tabulka2[[#This Row],[Hodnota dopadu - důvěrnost]]*Tabulka2[[#This Row],[Hodnota zranitelnosti]]*Tabulka2[[#This Row],[Hodnota hrozby]] -> 27 | L22: =Tabulka2[[#This Row],[Hodnota dopadu - integrita]]*Tabulka2[[#This Row],[Hodnota zranitelnosti]]*Tabulka2[[#This Row],[Hodnota hrozby]] -> 27 | M22: Redukce | O22: =Tabulka2[[#This Row],[Hodnota dopadu - dostupnost]] -> 3 | P22: =Tabulka2[[#This Row],[Hodnota dopadu - důvěrnost]] -> 3 | Q22: =Tabulka2[[#This Row],[Hodnota dopadu - integrita]] -> 3 | R22: 2 | S22: 3 | T22: =Tabulka2[[#This Row],[Hodnota dopadu - dostupnost (PO)]]*Tabulka2[[#This Row],[Hodnota zranitelnosti (PO)]]*Tabulka2[[#This Row],[Hodnota hrozby (PO)]] -> 18 | U22: =Tabulka2[[#This Row],[Hodnota dopadu - důvěrnost (PO)]]*Tabulka2[[#This Row],[Hodnota zranitelnosti (PO)]]*Tabulka2[[#This Row],[Hodnota hrozby (PO)]] -> 18 | V22: =Tabulka2[[#This Row],[Hodnota dopadu - integrita (PO)]]*Tabulka2[[#This Row],[Hodnota zranitelnosti (PO)]]*Tabulka2[[#This Row],[Hodnota hrozby (PO)]] -> 18
A23: R1 | B23: PO1: Aplikační server (HW) | C23: 3 | D23: Nerelevantní | E23: 3 | F23: Z2: Zastaralost aktiv | G23: 4 | H23: H2: Poškození nebo selhání technického nebo programového vybavení | I23: 3 | J23: =Tabulka2[[#This Row],[Hodnota dopadu - dostupnost]]*Tabulka2[[#This Row],[Hodnota zranitelnosti]]*Tabulka2[[#This Row],[Hodnota hrozby]] -> 36 | K23: Nerelevantní | L23: =Tabulka2[[#This Row],[Hodnota dopadu - integrita]]*Tabulka2[[#This Row],[Hodnota zranitelnosti]]*Tabulka2[[#This Row],[Hodnota hrozby]] -> 36 | M23: Redukce | N23: aplikační servery mají 7 let, už nejsou podporovány výrobcem | O23: =Tabulka2[[#This Row],[Hodnota dopadu - dostupnost]] -> 3 | P23: =Tabulka2[[#This Row],[Hodnota dopadu - důvěrnost]] -> Nerelevantní | Q23: =Tabulka2[[#This Row],[Hodnota dopadu - integrita]] -> 3 | R23: 1 | S23: 3 | T23: =Tabulka2[[#This Row],[Hodnota dopadu - dostupnost (PO)]]*Tabulka2[[#This Row],[Hodnota zranitelnosti (PO)]]*Tabulka2[[#This Row],[Hodnota hrozby (PO)]] -> 9 | U23: Nerelevantní | V23: =Tabulka2[[#This Row],[Hodnota dopadu - integrita (PO)]]*Tabulka2[[#This Row],[Hodnota zranitelnosti (PO)]]*Tabulka2[[#This Row],[Hodnota hrozby (PO)]] -> 9
A24: R3 | B24: PO2: Databázový server (HW) | C24: 3 | D24: Nerelevantní | E24: 3 | F24: Z2: Zastaralost aktiv | G24: 4 | H24: H2: Poškození nebo selhání technického nebo programového vybavení | I24: 3 | J24: =Tabulka2[[#This Row],[Hodnota dopadu - dostupnost]]*Tabulka2[[#This Row],[Hodnota zranitelnosti]]*Tabulka2[[#This Row],[Hodnota hrozby]] -> 36 | K24: Nerelevantní | L24: =Tabulka2[[#This Row],[Hodnota dopadu - integrita]]*Tabulka2[[#This Row],[Hodnota zranitelnosti]]*Tabulka2[[#This Row],[Hodnota hrozby]] -> 36 | M24: Redukce | N24: zastaralý BIOS, hrozí selhání OS | O24: =Tabulka2[[#This Row],[Hodnota dopadu - dostupnost]] -> 3 | P24: =Tabulka2[[#This Row],[Hodnota dopadu - důvěrnost]] -> Nerelevantní | Q24: =Tabulka2[[#This Row],[Hodnota dopadu - integrita]] -> 3 | R24: 1 | S24: 3 | T24: =Tabulka2[[#This Row],[Hodnota dopadu - dostupnost (PO)]]*Tabulka2[[#This Row],[Hodnota zranitelnosti (PO)]]*Tabulka2[[#This Row],[Hodnota hrozby (PO)]] -> 9 | U24: Nerelevantní | V24: =Tabulka2[[#This Row],[Hodnota dopadu - integrita (PO)]]*Tabulka2[[#This Row],[Hodnota zranitelnosti (PO)]]*Tabulka2[[#This Row],[Hodnota hrozby (PO)]] -> 9
A25: R6 | B25: PO3: Webový server (HW) | C25: 2 | D25: Nerelevantní | E25: 3 | F25: Z2: Zastaralost aktiv | G25: 4 | H25: H2: Poškození nebo selhání technického nebo programového vybavení | I25: 3 | J25: =Tabulka2[[#This Row],[Hodnota dopadu - dostupnost]]*Tabulka2[[#This Row],[Hodnota zranitelnosti]]*Tabulka2[[#This Row],[Hodnota hrozby]] -> 24 | K25: Nerelevantní | L25: =Tabulka2[[#This Row],[Hodnota dopadu - integrita]]*Tabulka2[[#This Row],[Hodnota zranitelnosti]]*Tabulka2[[#This Row],[Hodnota hrozby]] -> 36 | M25: Redukce | O25: =Tabulka2[[#This Row],[Hodnota dopadu - dostupnost]] -> 2 | P25: =Tabulka2[[#This Row],[Hodnota dopadu - důvěrnost]] -> Nerelevantní | Q25: =Tabulka2[[#This Row],[Hodnota dopadu - integrita]] -> 3 | R25: 2 | S25: 3 | T25: =Tabulka2[[#This Row],[Hodnota dopadu - dostupnost (PO)]]*Tabulka2[[#This Row],[Hodnota zranitelnosti (PO)]]*Tabulka2[[#This Row],[Hodnota hrozby (PO)]] -> 12 | U25: Nerelevantní | V25: =Tabulka2[[#This Row],[Hodnota dopadu - integrita (PO)]]*Tabulka2[[#This Row],[Hodnota zranitelnosti (PO)]]*Tabulka2[[#This Row],[Hodnota hrozby (PO)]] -> 18
A26: R12 | B26: PO7: Aplikační server (licence) | C26: 3 | D26: 2 | E26: 3 | F26: Z2: Zastaralost aktiv | G26: 3 | H26: H5: Působení škodlivého kódu (například viry, spyware, trojské koně) | I26: 4 | J26: =Tabulka2[[#This Row],[Hodnota dopadu - dostupnost]]*Tabulka2[[#This Row],[Hodnota zranitelnosti]]*Tabulka2[[#This Row],[Hodnota hrozby]] -> 36 | K26: =Tabulka2[[#This Row],[Hodnota dopadu - důvěrnost]]*Tabulka2[[#This Row],[Hodnota zranitelnosti]]*Tabulka2[[#This Row],[Hodnota hrozby]] -> 24 | L26: =Tabulka2[[#This Row],[Hodnota dopadu - integrita]]*Tabulka2[[#This Row],[Hodnota zranitelnosti]]*Tabulka2[[#This Row],[Hodnota hrozby]] -> 36 | M26: Redukce | N26: nelze použít updaty, protože na ně není nárok | O26: =Tabulka2[[#This Row],[Hodnota dopadu - dostupnost]] -> 3 | P26: =Tabulka2[[#This Row],[Hodnota dopadu - důvěrnost]] -> 2 | Q26: =Tabulka2[[#This Row],[Hodnota dopadu - integrita]] -> 3 | R26: 1 | S26: 4 | T26: =Tabulka2[[#This Row],[Hodnota dopadu - dostupnost (PO)]]*Tabulka2[[#This Row],[Hodnota zranitelnosti (PO)]]*Tabulka2[[#This Row],[Hodnota hrozby (PO)]] -> 12 | U26: =Tabulka2[[#This Row],[Hodnota dopadu - důvěrnost (PO)]]*Tabulka2[[#This Row],[Hodnota zranitelnosti (PO)]]*Tabulka2[[#This Row],[Hodnota hrozby (PO)]] -> 8 | V26: =Tabulka2[[#This Row],[Hodnota dopadu - integrita (PO)]]*Tabulka2[[#This Row],[Hodnota zranitelnosti (PO)]]*Tabulka2[[#This Row],[Hodnota hrozby (PO)]] -> 12
A27: R13 | B27: PO8: Databázový server (licence) | C27: 3 | D27: 2 | E27: 3 | F27: Z2: Zastaralost aktiv | G27: 3 | H27: H5: Působení škodlivého kódu (například viry, spyware, trojské koně) | I27: 4 | J27: =Tabulka2[[#This Row],[Hodnota dopadu - dostupnost]]*Tabulka2[[#This Row],[Hodnota zranitelnosti]]*Tabulka2[[#This Row],[Hodnota hrozby]] -> 36 | K27: =Tabulka2[[#This Row],[Hodnota dopadu - důvěrnost]]*Tabulka2[[#This Row],[Hodnota zranitelnosti]]*Tabulka2[[#This Row],[Hodnota hrozby]] -> 24 | L27: =Tabulka2[[#This Row],[Hodnota dopadu - integrita]]*Tabulka2[[#This Row],[Hodnota zranitelnosti]]*Tabulka2[[#This Row],[Hodnota hrozby]] -> 36 | M27: Redukce | N27: nelze použít updaty, protože na ně není nárok | O27: =Tabulka2[[#This Row],[Hodnota dopadu - dostupnost]] -> 3 | P27: =Tabulka2[[#This Row],[Hodnota dopadu - důvěrnost]] -> 2 | Q27: =Tabulka2[[#This Row],[Hodnota dopadu - integrita]] -> 3 | R27: 1 | S27: 4 | T27: =Tabulka2[[#This Row],[Hodnota dopadu - dostupnost (PO)]]*Tabulka2[[#This Row],[Hodnota zranitelnosti (PO)]]*Tabulka2[[#This Row],[Hodnota hrozby (PO)]] -> 12 | U27: =Tabulka2[[#This Row],[Hodnota dopadu - důvěrnost (PO)]]*Tabulka2[[#This Row],[Hodnota zranitelnosti (PO)]]*Tabulka2[[#This Row],[Hodnota hrozby (PO)]] -> 8 | V27: =Tabulka2[[#This Row],[Hodnota dopadu - integrita (PO)]]*Tabulka2[[#This Row],[Hodnota zranitelnosti (PO)]]*Tabulka2[[#This Row],[Hodnota hrozby (PO)]] -> 12
A28: R14 | B28: PO9: Webový server (licence) | C28: 2 | D28: 1 | E28: 3 | F28: Z2: Zastaralost aktiv | G28: 3 | H28: H5: Působení škodlivého kódu (například viry, spyware, trojské koně) | I28: 4 | J28: =Tabulka2[[#This Row],[Hodnota dopadu - dostupnost]]*Tabulka2[[#This Row],[Hodnota zranitelnosti]]*Tabulka2[[#This Row],[Hodnota hrozby]] -> 24 | K28: =Tabulka2[[#This Row],[Hodnota dopadu - důvěrnost]]*Tabulka2[[#This Row],[Hodnota zranitelnosti]]*Tabulka2[[#This Row],[Hodnota hrozby]] -> 12 | L28: =Tabulka2[[#This Row],[Hodnota dopadu - integrita]]*Tabulka2[[#This Row],[Hodnota zranitelnosti]]*Tabulka2[[#This Row],[Hodnota hrozby]] -> 36 | M28: Redukce | N28: nelze použít updaty, protože na ně není nárok | O28: =Tabulka2[[#This Row],[Hodnota dopadu - dostupnost]] -> 2 | P28: =Tabulka2[[#This Row],[Hodnota dopadu - důvěrnost]] -> 1 | Q28: =Tabulka2[[#This Row],[Hodnota dopadu - integrita]] -> 3 | R28: 1 | S28: 4 | T28: =Tabulka2[[#This Row],[Hodnota dopadu - dostupnost (PO)]]*Tabulka2[[#This Row],[Hodnota zranitelnosti (PO)]]*Tabulka2[[#This Row],[Hodnota hrozby (PO)]] -> 8 | U28: =Tabulka2[[#This Row],[Hodnota dopadu - důvěrnost (PO)]]*Tabulka2[[#This Row],[Hodnota zranitelnosti (PO)]]*Tabulka2[[#This Row],[Hodnota hrozby (PO)]] -> 4 | V28: =Tabulka2[[#This Row],[Hodnota dopadu - integrita (PO)]]*Tabulka2[[#This Row],[Hodnota zranitelnosti (PO)]]*Tabulka2[[#This Row],[Hodnota hrozby (PO)]] -> 12
A29: R18 | B29: PO7: Aplikační server (licence) | C29: 3 | D29: 2 | E29: 3 | F29: Z2: Zastaralost aktiv | G29: 3 | H29: H14: Cílený kybernetický útok pomocí sociálního inženýrství, použití špionážních technik | I29: 2 | J29: =Tabulka2[[#This Row],[Hodnota dopadu - dostupnost]]*Tabulka2[[#This Row],[Hodnota zranitelnosti]]*Tabulka2[[#This Row],[Hodnota hrozby]] -> 18 | K29: =Tabulka2[[#This Row],[Hodnota dopadu - důvěrnost]]*Tabulka2[[#This Row],[Hodnota zranitelnosti]]*Tabulka2[[#This Row],[Hodnota hrozby]] -> 12 | L29: =Tabulka2[[#This Row],[Hodnota dopadu - integrita]]*Tabulka2[[#This Row],[Hodnota zranitelnosti]]*Tabulka2[[#This Row],[Hodnota hrozby]] -> 18 | M29: Redukce | O29: =Tabulka2[[#This Row],[Hodnota dopadu - dostupnost]] -> 3 | P29: =Tabulka2[[#This Row],[Hodnota dopadu - důvěrnost]] -> 2 | Q29: =Tabulka2[[#This Row],[Hodnota dopadu - integrita]] -> 3 | R29: 2 | S29: 2 | T29: =Tabulka2[[#This Row],[Hodnota dopadu - dostupnost (PO)]]*Tabulka2[[#This Row],[Hodnota zranitelnosti (PO)]]*Tabulka2[[#This Row],[Hodnota hrozby (PO)]] -> 12 | U29: =Tabulka2[[#This Row],[Hodnota dopadu - důvěrnost (PO)]]*Tabulka2[[#This Row],[Hodnota zranitelnosti (PO)]]*Tabulka2[[#This Row],[Hodnota hrozby (PO)]] -> 8 | V29: =Tabulka2[[#This Row],[Hodnota dopadu - integrita (PO)]]*Tabulka2[[#This Row],[Hodnota zranitelnosti (PO)]]*Tabulka2[[#This Row],[Hodnota hrozby (PO)]] -> 12
A30: R19 | B30: PO8: Databázový server (licence) | C30: 3 | D30: 2 | E30: 3 | F30: Z2: Zastaralost aktiv | G30: 3 | H30: H14: Cílený kybernetický útok pomocí sociálního inženýrství, použití špionážních technik | I30: 2 | J30: =Tabulka2[[#This Row],[Hodnota dopadu - dostupnost]]*Tabulka2[[#This Row],[Hodnota zranitelnosti]]*Tabulka2[[#This Row],[Hodnota hrozby]] -> 18 | K30: =Tabulka2[[#This Row],[Hodnota dopadu - důvěrnost]]*Tabulka2[[#This Row],[Hodnota zranitelnosti]]*Tabulka2[[#This Row],[Hodnota hrozby]] -> 12 | L30: =Tabulka2[[#This Row],[Hodnota dopadu - integrita]]*Tabulka2[[#This Row],[Hodnota zranitelnosti]]*Tabulka2[[#This Row],[Hodnota hrozby]] -> 18 | M30: Redukce | O30: =Tabulka2[[#This Row],[Hodnota dopadu - dostupnost]] -> 3 | P30: =Tabulka2[[#This Row],[Hodnota dopadu - důvěrnost]] -> 2 | Q30: =Tabulka2[[#This Row],[Hodnota dopadu - integrita]] -> 3 | R30: 2 | S30: 2 | T30: =Tabulka2[[#This Row],[Hodnota dopadu - dostupnost (PO)]]*Tabulka2[[#This Row],[Hodnota zranitelnosti (PO)]]*Tabulka2[[#This Row],[Hodnota hrozby (PO)]] -> 12 | U30: =Tabulka2[[#This Row],[Hodnota dopadu - důvěrnost (PO)]]*Tabulka2[[#This Row],[Hodnota zranitelnosti (PO)]]*Tabulka2[[#This Row],[Hodnota hrozby (PO)]] -> 8 | V30: =Tabulka2[[#This Row],[Hodnota dopadu - integrita (PO)]]*Tabulka2[[#This Row],[Hodnota zranitelnosti (PO)]]*Tabulka2[[#This Row],[Hodnota hrozby (PO)]] -> 12
A31: R20 | B31: PO9: Webový server (licence) | C31: 2 | D31: 1 | E31: 3 | F31: Z2: Zastaralost aktiv | G31: 3 | H31: H14: Cílený kybernetický útok pomocí sociálního inženýrství, použití špionážních technik | I31: 2 | J31: =Tabulka2[[#This Row],[Hodnota dopadu - dostupnost]]*Tabulka2[[#This Row],[Hodnota zranitelnosti]]*Tabulka2[[#This Row],[Hodnota hrozby]] -> 12 | K31: =Tabulka2[[#This Row],[Hodnota dopadu - důvěrnost]]*Tabulka2[[#This Row],[Hodnota zranitelnosti]]*Tabulka2[[#This Row],[Hodnota hrozby]] -> 6 | L31: =Tabulka2[[#This Row],[Hodnota dopadu - integrita]]*Tabulka2[[#This Row],[Hodnota zranitelnosti]]*Tabulka2[[#This Row],[Hodnota hrozby]] -> 18 | M31: Redukce | O31: =Tabulka2[[#This Row],[Hodnota dopadu - dostupnost]] -> 2 | P31: =Tabulka2[[#This Row],[Hodnota dopadu - důvěrnost]] -> 1 | Q31: =Tabulka2[[#This Row],[Hodnota dopadu - integrita]] -> 3 | R31: 2 | S31: 2 | T31: =Tabulka2[[#This Row],[Hodnota dopadu - dostupnost (PO)]]*Tabulka2[[#This Row],[Hodnota zranitelnosti (PO)]]*Tabulka2[[#This Row],[Hodnota hrozby (PO)]] -> 8 | U31: =Tabulka2[[#This Row],[Hodnota dopadu - důvěrnost (PO)]]*Tabulka2[[#This Row],[Hodnota zranitelnosti (PO)]]*Tabulka2[[#This Row],[Hodnota hrozby (PO)]] -> 4 | V31: =Tabulka2[[#This Row],[Hodnota dopadu - integrita (PO)]]*Tabulka2[[#This Row],[Hodnota zranitelnosti (PO)]]*Tabulka2[[#This Row],[Hodnota hrozby (PO)]] -> 12
A32: R41 | B32: PO26: Serverovna | C32: 3 | D32: Nerelevantní | E32: 3 | F32: Z2: Zastaralost aktiv | G32: 3 | H32: H2: Poškození nebo selhání technického nebo programového vybavení | I32: 3 | J32: =Tabulka2[[#This Row],[Hodnota dopadu - dostupnost]]*Tabulka2[[#This Row],[Hodnota zranitelnosti]]*Tabulka2[[#This Row],[Hodnota hrozby]] -> 27 | K32: Nerelevantní | L32: =Tabulka2[[#This Row],[Hodnota dopadu - integrita]]*Tabulka2[[#This Row],[Hodnota zranitelnosti]]*Tabulka2[[#This Row],[Hodnota hrozby]] -> 27 | M32: Redukce | N32: místnost nebyla budována jako serverovna, nesplňuje aktuální požadavky na serverovnu, např. není klimatizace, atd. | O32: =Tabulka2[[#This Row],[Hodnota dopadu - dostupnost]] -> 3 | P32: =Tabulka2[[#This Row],[Hodnota dopadu - důvěrnost]] -> Nerelevantní | Q32: =Tabulka2[[#This Row],[Hodnota dopadu - integrita]] -> 3 | R32: 1 | S32: 3 | T32: =Tabulka2[[#This Row],[Hodnota dopadu - dostupnost (PO)]]*Tabulka2[[#This Row],[Hodnota zranitelnosti (PO)]]*Tabulka2[[#This Row],[Hodnota hrozby (PO)]] -> 9 | U32: Nerelevantní | V32: =Tabulka2[[#This Row],[Hodnota dopadu - integrita (PO)]]*Tabulka2[[#This Row],[Hodnota zranitelnosti (PO)]]*Tabulka2[[#This Row],[Hodnota hrozby (PO)]] -> 9
